BEGIN:VCALENDAR
VERSION:2.0
PRODID:-//Découverte de la Baie - ECPv6.15.20//NONSGML v1.0//EN
CALSCALE:GREGORIAN
METHOD:PUBLISH
X-WR-CALNAME:Découverte de la Baie
X-ORIGINAL-URL:https://decouvertebaie.com/en/
X-WR-CALDESC:Events for Découverte de la Baie
REFRESH-INTERVAL;VALUE=DURATION:PT1H
X-Robots-Tag:noindex
X-PUBLISHED-TTL:PT1H
BEGIN:VTIMEZONE
TZID:Europe/Paris
BEGIN:DAYLIGHT
TZOFFSETFROM:+0100
TZOFFSETTO:+0200
TZNAME:CEST
DTSTART:20250330T010000
END:DAYLIGHT
BEGIN:STANDARD
TZOFFSETFROM:+0200
TZOFFSETTO:+0100
TZNAME:CET
DTSTART:20251026T010000
END:STANDARD
BEGIN:DAYLIGHT
TZOFFSETFROM:+0100
TZOFFSETTO:+0200
TZNAME:CEST
DTSTART:20260329T010000
END:DAYLIGHT
BEGIN:STANDARD
TZOFFSETFROM:+0200
TZOFFSETTO:+0100
TZNAME:CET
DTSTART:20261025T010000
END:STANDARD
BEGIN:DAYLIGHT
TZOFFSETFROM:+0100
TZOFFSETTO:+0200
TZNAME:CEST
DTSTART:20270328T010000
END:DAYLIGHT
BEGIN:STANDARD
TZOFFSETFROM:+0200
TZOFFSETTO:+0100
TZNAME:CET
DTSTART:20271031T010000
END:STANDARD
END:VTIMEZONE
BEGIN:VEVENT
DTSTART;TZID=Europe/Paris:20260308T140000
DTEND;TZID=Europe/Paris:20260308T140000
DTSTAMP:20260424T121311
CREATED:20251124T211351Z
LAST-MODIFIED:20251124T211351Z
UID:14134-1772978400-1772978400@decouvertebaie.com
SUMMARY:Short walk around Mont Saint-Michel 3 km
DESCRIPTION:
URL:https://decouvertebaie.com/en/evenement/short-walk-around-mont-saint-michel-3-km-12/
END:VEVENT
BEGIN:VEVENT
DTSTART;TZID=Europe/Paris:20260311T143000
DTEND;TZID=Europe/Paris:20260311T143000
DTSTAMP:20260424T121311
CREATED:20251124T211405Z
LAST-MODIFIED:20251124T211405Z
UID:14083-1773239400-1773239400@decouvertebaie.com
SUMMARY:Short walk around Mont Saint-Michel 3 km
DESCRIPTION:
URL:https://decouvertebaie.com/en/evenement/short-walk-around-mont-saint-michel-3-km-2/
END:VEVENT
BEGIN:VEVENT
DTSTART;TZID=Europe/Paris:20260311T171500
DTEND;TZID=Europe/Paris:20260311T171500
DTSTAMP:20260424T121311
CREATED:20251124T211405Z
LAST-MODIFIED:20251124T211405Z
UID:14086-1773249300-1773249300@decouvertebaie.com
SUMMARY:Short sunset walk around Mont Saint-Michel 3 km
DESCRIPTION:
URL:https://decouvertebaie.com/en/evenement/short-sunset-walk-around-mont-saint-michel-3-km/
END:VEVENT
BEGIN:VEVENT
DTSTART;TZID=Europe/Paris:20260312T133000
DTEND;TZID=Europe/Paris:20260312T133000
DTSTAMP:20260424T121311
CREATED:20251124T211405Z
LAST-MODIFIED:20251124T211405Z
UID:14085-1773322200-1773322200@decouvertebaie.com
SUMMARY:Discover quicksand 2 km
DESCRIPTION:
URL:https://decouvertebaie.com/en/evenement/discover-quicksand-2-km/
END:VEVENT
BEGIN:VEVENT
DTSTART;TZID=Europe/Paris:20260313T130000
DTEND;TZID=Europe/Paris:20260313T130000
DTSTAMP:20260424T121311
CREATED:20251124T211406Z
LAST-MODIFIED:20251124T211406Z
UID:14633-1773406800-1773406800@decouvertebaie.com
SUMMARY:Short walk around Mont Saint-Michel 3 km
DESCRIPTION:
URL:https://decouvertebaie.com/en/evenement/short-walk-around-mont-saint-michel-3-km-67/
END:VEVENT
BEGIN:VEVENT
DTSTART;TZID=Europe/Paris:20260313T154500
DTEND;TZID=Europe/Paris:20260313T154500
DTSTAMP:20260424T121311
CREATED:20251124T211421Z
LAST-MODIFIED:20251124T211421Z
UID:14088-1773416700-1773416700@decouvertebaie.com
SUMMARY:Discover quicksand 2 km
DESCRIPTION:
URL:https://decouvertebaie.com/en/evenement/discover-quicksand-2-km-2/
END:VEVENT
BEGIN:VEVENT
DTSTART;TZID=Europe/Paris:20260314T133000
DTEND;TZID=Europe/Paris:20260314T133000
DTSTAMP:20260424T121311
CREATED:20251124T211421Z
LAST-MODIFIED:20251124T211421Z
UID:14087-1773495000-1773495000@decouvertebaie.com
SUMMARY:Short walk around Mont Saint-Michel 3 km
DESCRIPTION:
URL:https://decouvertebaie.com/en/evenement/short-walk-around-mont-saint-michel-3-km-4/
END:VEVENT
BEGIN:VEVENT
DTSTART;TZID=Europe/Paris:20260315T110000
DTEND;TZID=Europe/Paris:20260315T110000
DTSTAMP:20260424T121311
CREATED:20251124T211421Z
LAST-MODIFIED:20251124T211421Z
UID:14089-1773572400-1773572400@decouvertebaie.com
SUMMARY:Discover quicksand 2 km
DESCRIPTION:
URL:https://decouvertebaie.com/en/evenement/discover-quicksand-2-km-3/
END:VEVENT
BEGIN:VEVENT
DTSTART;TZID=Europe/Paris:20260315T133000
DTEND;TZID=Europe/Paris:20260315T133000
DTSTAMP:20260424T121311
CREATED:20251124T211421Z
LAST-MODIFIED:20251124T211421Z
UID:14090-1773581400-1773581400@decouvertebaie.com
SUMMARY:Short walk around Mont Saint-Michel 3 km
DESCRIPTION:
URL:https://decouvertebaie.com/en/evenement/short-walk-around-mont-saint-michel-3-km-5/
END:VEVENT
BEGIN:VEVENT
DTSTART;TZID=Europe/Paris:20260318T133000
DTEND;TZID=Europe/Paris:20260318T133000
DTSTAMP:20260424T121311
CREATED:20251124T211435Z
LAST-MODIFIED:20251124T211435Z
UID:14091-1773840600-1773840600@decouvertebaie.com
SUMMARY:Discover quicksand 2 km
DESCRIPTION:
URL:https://decouvertebaie.com/en/evenement/discover-quicksand-2-km-4/
END:VEVENT
BEGIN:VEVENT
DTSTART;TZID=Europe/Paris:20260318T154500
DTEND;TZID=Europe/Paris:20260318T154500
DTSTAMP:20260424T121311
CREATED:20251124T211435Z
LAST-MODIFIED:20251124T211435Z
UID:14092-1773848700-1773848700@decouvertebaie.com
SUMMARY:Rising tide and tidal bore 3 km
DESCRIPTION:
URL:https://decouvertebaie.com/en/evenement/rising-tide-and-tidal-bore-3-km/
END:VEVENT
BEGIN:VEVENT
DTSTART;TZID=Europe/Paris:20260319T163000
DTEND;TZID=Europe/Paris:20260319T163000
DTSTAMP:20260424T121311
CREATED:20251124T211436Z
LAST-MODIFIED:20251124T211436Z
UID:14094-1773937800-1773937800@decouvertebaie.com
SUMMARY:Rising tide and tidal bore 3 km
DESCRIPTION:
URL:https://decouvertebaie.com/en/evenement/rising-tide-and-tidal-bore-3-km-3/
END:VEVENT
BEGIN:VEVENT
DTSTART;TZID=Europe/Paris:20260320T164500
DTEND;TZID=Europe/Paris:20260320T164500
DTSTAMP:20260424T121311
CREATED:20251124T211451Z
LAST-MODIFIED:20251124T211451Z
UID:14093-1774025100-1774025100@decouvertebaie.com
SUMMARY:Rising tide and tidal bore 3 km
DESCRIPTION:
URL:https://decouvertebaie.com/en/evenement/rising-tide-and-tidal-bore-3-km-2/
END:VEVENT
BEGIN:VEVENT
DTSTART;TZID=Europe/Paris:20260321T151500
DTEND;TZID=Europe/Paris:20260321T151500
DTSTAMP:20260424T121311
CREATED:20251124T211451Z
LAST-MODIFIED:20251124T211451Z
UID:14096-1774106100-1774106100@decouvertebaie.com
SUMMARY:Discover quicksand 2 km
DESCRIPTION:
URL:https://decouvertebaie.com/en/evenement/discover-quicksand-2-km-5/
END:VEVENT
BEGIN:VEVENT
DTSTART;TZID=Europe/Paris:20260321T173000
DTEND;TZID=Europe/Paris:20260321T173000
DTSTAMP:20260424T121311
CREATED:20251124T211451Z
LAST-MODIFIED:20251124T211451Z
UID:14095-1774114200-1774114200@decouvertebaie.com
SUMMARY:Rising tide and tidal bore 3 km
DESCRIPTION:
URL:https://decouvertebaie.com/en/evenement/rising-tide-and-tidal-bore-3-km-4/
END:VEVENT
BEGIN:VEVENT
DTSTART;TZID=Europe/Paris:20260322T123000
DTEND;TZID=Europe/Paris:20260322T123000
DTSTAMP:20260424T121311
CREATED:20251124T211451Z
LAST-MODIFIED:20251124T211451Z
UID:14097-1774182600-1774182600@decouvertebaie.com
SUMMARY:Crossing - Bay Discovery 14 km
DESCRIPTION:
URL:https://decouvertebaie.com/en/evenement/crossing-bay-discovery-14-km/
END:VEVENT
BEGIN:VEVENT
DTSTART;TZID=Europe/Paris:20260322T130000
DTEND;TZID=Europe/Paris:20260322T130000
DTSTAMP:20260424T121311
CREATED:20251124T211506Z
LAST-MODIFIED:20251124T211506Z
UID:14098-1774184400-1774184400@decouvertebaie.com
SUMMARY:Short walk around Mont Saint-Michel 3 km
DESCRIPTION:
URL:https://decouvertebaie.com/en/evenement/short-walk-around-mont-saint-michel-3-km-6/
END:VEVENT
BEGIN:VEVENT
DTSTART;TZID=Europe/Paris:20260322T154500
DTEND;TZID=Europe/Paris:20260322T154500
DTSTAMP:20260424T121311
CREATED:20251124T211506Z
LAST-MODIFIED:20251124T211506Z
UID:14099-1774194300-1774194300@decouvertebaie.com
SUMMARY:Discover quicksand 2 km
DESCRIPTION:
URL:https://decouvertebaie.com/en/evenement/discover-quicksand-2-km-6/
END:VEVENT
BEGIN:VEVENT
DTSTART;TZID=Europe/Paris:20260325T174500
DTEND;TZID=Europe/Paris:20260325T174500
DTSTAMP:20260424T121311
CREATED:20251124T211506Z
LAST-MODIFIED:20251124T211506Z
UID:14100-1774460700-1774460700@decouvertebaie.com
SUMMARY:Short sunset walk around Mont Saint-Michel 3 km
DESCRIPTION:
URL:https://decouvertebaie.com/en/evenement/short-sunset-walk-around-mont-saint-michel-3-km-2/
END:VEVENT
BEGIN:VEVENT
DTSTART;TZID=Europe/Paris:20260326T133000
DTEND;TZID=Europe/Paris:20260326T133000
DTSTAMP:20260424T121311
CREATED:20251124T211506Z
LAST-MODIFIED:20251124T211506Z
UID:14102-1774531800-1774531800@decouvertebaie.com
SUMMARY:Short walk around Mont Saint-Michel 3 km
DESCRIPTION:
URL:https://decouvertebaie.com/en/evenement/short-walk-around-mont-saint-michel-3-km-7/
END:VEVENT
BEGIN:VEVENT
DTSTART;TZID=Europe/Paris:20260326T161500
DTEND;TZID=Europe/Paris:20260326T161500
DTSTAMP:20260424T121311
CREATED:20251124T211520Z
LAST-MODIFIED:20251124T211520Z
UID:14101-1774541700-1774541700@decouvertebaie.com
SUMMARY:Discover quicksand 2 km
DESCRIPTION:
URL:https://decouvertebaie.com/en/evenement/discover-quicksand-2-km-7/
END:VEVENT
BEGIN:VEVENT
DTSTART;TZID=Europe/Paris:20260328T090000
DTEND;TZID=Europe/Paris:20260328T090000
DTSTAMP:20260424T121311
CREATED:20251124T211521Z
LAST-MODIFIED:20251124T211521Z
UID:14129-1774688400-1774688400@decouvertebaie.com
SUMMARY:Crossing - Bay Discovery 14 km
DESCRIPTION:
URL:https://decouvertebaie.com/en/evenement/crossing-bay-discovery-14-km-10/
END:VEVENT
BEGIN:VEVENT
DTSTART;TZID=Europe/Paris:20260329T110000
DTEND;TZID=Europe/Paris:20260329T110000
DTSTAMP:20260424T121311
CREATED:20251124T211521Z
LAST-MODIFIED:20251124T211521Z
UID:14103-1774782000-1774782000@decouvertebaie.com
SUMMARY:Crossing - Bay Discovery 14 km
DESCRIPTION:
URL:https://decouvertebaie.com/en/evenement/crossing-bay-discovery-14-km-2/
END:VEVENT
BEGIN:VEVENT
DTSTART;TZID=Europe/Paris:20260329T123000
DTEND;TZID=Europe/Paris:20260329T123000
DTSTAMP:20260424T121311
CREATED:20251124T211521Z
LAST-MODIFIED:20251124T211521Z
UID:14104-1774787400-1774787400@decouvertebaie.com
SUMMARY:Discover quicksand 2 km
DESCRIPTION:
URL:https://decouvertebaie.com/en/evenement/discover-quicksand-2-km-8/
END:VEVENT
BEGIN:VEVENT
DTSTART;TZID=Europe/Paris:20260329T144500
DTEND;TZID=Europe/Paris:20260329T144500
DTSTAMP:20260424T121311
CREATED:20251124T211521Z
LAST-MODIFIED:20251124T211521Z
UID:14105-1774795500-1774795500@decouvertebaie.com
SUMMARY:Short walk around Mont Saint-Michel 3 km
DESCRIPTION:
URL:https://decouvertebaie.com/en/evenement/short-walk-around-mont-saint-michel-3-km-8/
END:VEVENT
BEGIN:VEVENT
DTSTART;TZID=Europe/Paris:20260330T103000
DTEND;TZID=Europe/Paris:20260330T103000
DTSTAMP:20260424T121311
CREATED:20251124T211536Z
LAST-MODIFIED:20251124T211536Z
UID:14106-1774866600-1774866600@decouvertebaie.com
SUMMARY:Discover Tombelaine Island - 7 km
DESCRIPTION:Departure from Mont St Michel – Duration: 3½ hours – Distance: 7 km
URL:https://decouvertebaie.com/en/evenement/discover-tombelaine-island-7-km/
END:VEVENT
BEGIN:VEVENT
DTSTART;TZID=Europe/Paris:20260331T100000
DTEND;TZID=Europe/Paris:20260331T100000
DTSTAMP:20260424T121311
CREATED:20251124T211536Z
LAST-MODIFIED:20251124T211536Z
UID:14109-1774951200-1774951200@decouvertebaie.com
SUMMARY:Crossing - Bay Discovery 14 km
DESCRIPTION:
URL:https://decouvertebaie.com/en/evenement/crossing-bay-discovery-14-km-3/
END:VEVENT
BEGIN:VEVENT
DTSTART;TZID=Europe/Paris:20260331T110000
DTEND;TZID=Europe/Paris:20260331T110000
DTSTAMP:20260424T121311
CREATED:20251124T211536Z
LAST-MODIFIED:20251124T211536Z
UID:14107-1774954800-1774954800@decouvertebaie.com
SUMMARY:Discover quicksand 2 km
DESCRIPTION:
URL:https://decouvertebaie.com/en/evenement/discover-quicksand-2-km-9/
END:VEVENT
BEGIN:VEVENT
DTSTART;TZID=Europe/Paris:20260331T110000
DTEND;TZID=Europe/Paris:20260331T110000
DTSTAMP:20260424T121311
CREATED:20251203T135353Z
LAST-MODIFIED:20251203T135353Z
UID:14108-1774954800-1774954800@decouvertebaie.com
SUMMARY:Short walk around Mont Saint-Michel 3 km
DESCRIPTION:Departure: Mont St Michel – Duration: 2 hours – Distance: 3 km
URL:https://decouvertebaie.com/en/evenement/short-walk-around-mont-saint-michel-3-km-9/
END:VEVENT
END:VCALENDAR