BEGIN:VCALENDAR
VERSION:2.0
PRODID:-//Découverte de la Baie - ECPv6.15.20//NONSGML v1.0//EN
CALSCALE:GREGORIAN
METHOD:PUBLISH
X-ORIGINAL-URL:https://decouvertebaie.com/en/
X-WR-CALDESC:Events for Découverte de la Baie
REFRESH-INTERVAL;VALUE=DURATION:PT1H
X-Robots-Tag:noindex
X-PUBLISHED-TTL:PT1H
BEGIN:VTIMEZONE
TZID:Europe/Paris
BEGIN:DAYLIGHT
TZOFFSETFROM:+0100
TZOFFSETTO:+0200
TZNAME:CEST
DTSTART:20250330T010000
END:DAYLIGHT
BEGIN:STANDARD
TZOFFSETFROM:+0200
TZOFFSETTO:+0100
TZNAME:CET
DTSTART:20251026T010000
END:STANDARD
BEGIN:DAYLIGHT
TZOFFSETFROM:+0100
TZOFFSETTO:+0200
TZNAME:CEST
DTSTART:20260329T010000
END:DAYLIGHT
BEGIN:STANDARD
TZOFFSETFROM:+0200
TZOFFSETTO:+0100
TZNAME:CET
DTSTART:20261025T010000
END:STANDARD
BEGIN:DAYLIGHT
TZOFFSETFROM:+0100
TZOFFSETTO:+0200
TZNAME:CEST
DTSTART:20270328T010000
END:DAYLIGHT
BEGIN:STANDARD
TZOFFSETFROM:+0200
TZOFFSETTO:+0100
TZNAME:CET
DTSTART:20271031T010000
END:STANDARD
END:VTIMEZONE
BEGIN:VEVENT
DTSTART;TZID=Europe/Paris:20260207T123000
DTEND;TZID=Europe/Paris:20260207T123000
DTSTAMP:20260424T140456
CREATED:20260218T145242Z
LAST-MODIFIED:20260218T145242Z
UID:14499-1770467400-1770467400@decouvertebaie.com
SUMMARY:Crossing - Bay Discovery 14 km
DESCRIPTION:Departure Bec d’Andaine – Duration: 6:00 – Distance: 14 km
URL:https://decouvertebaie.com/en/evenement/crossing-bay-discovery-14-km-100/
END:VEVENT
BEGIN:VEVENT
DTSTART;TZID=Europe/Paris:20260207T133000
DTEND;TZID=Europe/Paris:20260207T133000
DTSTAMP:20260424T140456
CREATED:20260218T145244Z
LAST-MODIFIED:20260218T145244Z
UID:14501-1770471000-1770471000@decouvertebaie.com
SUMMARY:Discover quicksand 2 km
DESCRIPTION:Departure Mont St Michel – Duration: 1h30 – Distance: 2 km
URL:https://decouvertebaie.com/en/evenement/discover-quicksand-2-km-76/
END:VEVENT
BEGIN:VEVENT
DTSTART;TZID=Europe/Paris:20260207T154500
DTEND;TZID=Europe/Paris:20260207T154500
DTSTAMP:20260424T140456
CREATED:20260218T145244Z
LAST-MODIFIED:20260218T145244Z
UID:14502-1770479100-1770479100@decouvertebaie.com
SUMMARY:Short walk around Mont Saint-Michel 3 km
DESCRIPTION:Departure: Mont St Michel – Duration: 2 hours – Distance: 3 km
URL:https://decouvertebaie.com/en/evenement/short-walk-around-mont-saint-michel-3-km-54/
END:VEVENT
BEGIN:VEVENT
DTSTART;TZID=Europe/Paris:20260223T143000
DTEND;TZID=Europe/Paris:20260223T143000
DTSTAMP:20260424T140456
CREATED:20260129T151613Z
LAST-MODIFIED:20260129T151613Z
UID:14491-1771857000-1771857000@decouvertebaie.com
SUMMARY:Discover quicksand 2 km
DESCRIPTION:Departure Mont St Michel – Duration: 1h30 – Distance: 2 km
URL:https://decouvertebaie.com/en/evenement/discover-quicksand-2-km-74/
END:VEVENT
BEGIN:VEVENT
DTSTART;TZID=Europe/Paris:20260223T163000
DTEND;TZID=Europe/Paris:20260223T163000
DTSTAMP:20260424T140456
CREATED:20260129T151259Z
LAST-MODIFIED:20260129T151259Z
UID:14489-1771864200-1771864200@decouvertebaie.com
SUMMARY:Short walk around Mont Saint-Michel 2-3 km
DESCRIPTION:Departure Mont St Michel – Duration: 2 hours – Distance: 2-3 km
URL:https://decouvertebaie.com/en/evenement/short-walk-around-mont-saint-michel-2-3-km/
END:VEVENT
END:VCALENDAR