BEGIN:VCALENDAR
VERSION:2.0
PRODID:-//Découverte de la Baie - ECPv6.15.20//NONSGML v1.0//EN
CALSCALE:GREGORIAN
METHOD:PUBLISH
X-ORIGINAL-URL:https://decouvertebaie.com/en/
X-WR-CALDESC:Events for Découverte de la Baie
REFRESH-INTERVAL;VALUE=DURATION:PT1H
X-Robots-Tag:noindex
X-PUBLISHED-TTL:PT1H
BEGIN:VTIMEZONE
TZID:Europe/Paris
BEGIN:DAYLIGHT
TZOFFSETFROM:+0100
TZOFFSETTO:+0200
TZNAME:CEST
DTSTART:20250330T010000
END:DAYLIGHT
BEGIN:STANDARD
TZOFFSETFROM:+0200
TZOFFSETTO:+0100
TZNAME:CET
DTSTART:20251026T010000
END:STANDARD
BEGIN:DAYLIGHT
TZOFFSETFROM:+0100
TZOFFSETTO:+0200
TZNAME:CEST
DTSTART:20260329T010000
END:DAYLIGHT
BEGIN:STANDARD
TZOFFSETFROM:+0200
TZOFFSETTO:+0100
TZNAME:CET
DTSTART:20261025T010000
END:STANDARD
BEGIN:DAYLIGHT
TZOFFSETFROM:+0100
TZOFFSETTO:+0200
TZNAME:CEST
DTSTART:20270328T010000
END:DAYLIGHT
BEGIN:STANDARD
TZOFFSETFROM:+0200
TZOFFSETTO:+0100
TZNAME:CET
DTSTART:20271031T010000
END:STANDARD
END:VTIMEZONE
BEGIN:VEVENT
DTSTART;TZID=Europe/Paris:20260810T144500
DTEND;TZID=Europe/Paris:20260810T144500
DTSTAMP:20260425T060325
CREATED:20260218T231119Z
LAST-MODIFIED:20260218T231119Z
UID:14293-1786373100-1786373100@decouvertebaie.com
SUMMARY:Short walk around Mont Saint-Michel 3 km
DESCRIPTION:Departure: Mont St Michel – Duration: 2 hours – Distance: 3 km
URL:https://decouvertebaie.com/en/evenement/short-walk-around-mont-saint-michel-3-km-35/
END:VEVENT
BEGIN:VEVENT
DTSTART;TZID=Europe/Paris:20260811T100000
DTEND;TZID=Europe/Paris:20260811T100000
DTSTAMP:20260425T060325
CREATED:20260218T231119Z
LAST-MODIFIED:20260218T231119Z
UID:14298-1786442400-1786442400@decouvertebaie.com
SUMMARY:Bay Crossing - Bay Discovery\, 7 km\, return by bus
DESCRIPTION:Departure from Bec d’Andaine – Duration: 6:30 – Distance: 7 km
URL:https://decouvertebaie.com/en/evenement/bay-crossing-bay-discovery-7-km-return-by-bus-20/
END:VEVENT
BEGIN:VEVENT
DTSTART;TZID=Europe/Paris:20260811T100000
DTEND;TZID=Europe/Paris:20260811T100000
DTSTAMP:20260425T060325
CREATED:20260218T231119Z
LAST-MODIFIED:20260218T231119Z
UID:14300-1786442400-1786442400@decouvertebaie.com
SUMMARY:Crossing - Bay Discovery 14 km
DESCRIPTION:Departure Bec d’Andaine – Duration: 6:00 – Distance: 14 km
URL:https://decouvertebaie.com/en/evenement/crossing-bay-discovery-14-km-53/
END:VEVENT
BEGIN:VEVENT
DTSTART;TZID=Europe/Paris:20260811T131500
DTEND;TZID=Europe/Paris:20260811T131500
DTSTAMP:20260425T060325
CREATED:20260218T231120Z
LAST-MODIFIED:20260218T231120Z
UID:14295-1786454100-1786454100@decouvertebaie.com
SUMMARY:Tombelaine Islet Discovery\, 7 km
DESCRIPTION:Departure from Mont St Michel – Duration: 3½ hours – Distance: 7 km
URL:https://decouvertebaie.com/en/evenement/tombelaine-islet-discovery-7-km-17/
END:VEVENT
BEGIN:VEVENT
DTSTART;TZID=Europe/Paris:20260811T133000
DTEND;TZID=Europe/Paris:20260811T133000
DTSTAMP:20260425T060325
CREATED:20260218T231120Z
LAST-MODIFIED:20260218T231120Z
UID:14297-1786455000-1786455000@decouvertebaie.com
SUMMARY:Discover quicksand 2 km
DESCRIPTION:Departure Mont St Michel – Duration: 1h30 – Distance: 2 km
URL:https://decouvertebaie.com/en/evenement/discover-quicksand-2-km-44/
END:VEVENT
BEGIN:VEVENT
DTSTART;TZID=Europe/Paris:20260811T154500
DTEND;TZID=Europe/Paris:20260811T154500
DTSTAMP:20260425T060325
CREATED:20260218T231133Z
LAST-MODIFIED:20260218T231133Z
UID:14299-1786463100-1786463100@decouvertebaie.com
SUMMARY:Rising tide and tidal bore 3 km
DESCRIPTION:Departure: Mont St Michel – Duration: 2 hours – Distance: 3 km
URL:https://decouvertebaie.com/en/evenement/rising-tide-and-tidal-bore-3-km-18/
END:VEVENT
BEGIN:VEVENT
DTSTART;TZID=Europe/Paris:20260812T104500
DTEND;TZID=Europe/Paris:20260812T104500
DTSTAMP:20260425T060325
CREATED:20260218T231133Z
LAST-MODIFIED:20260218T231133Z
UID:14301-1786531500-1786531500@decouvertebaie.com
SUMMARY:Crossing - Bay Discovery 14 km
DESCRIPTION:Departure Bec d’Andaine – Duration: 6:00 – Distance: 14 km
URL:https://decouvertebaie.com/en/evenement/crossing-bay-discovery-14-km-54/
END:VEVENT
BEGIN:VEVENT
DTSTART;TZID=Europe/Paris:20260812T104500
DTEND;TZID=Europe/Paris:20260812T104500
DTSTAMP:20260425T060325
CREATED:20260218T231134Z
LAST-MODIFIED:20260218T231134Z
UID:14303-1786531500-1786531500@decouvertebaie.com
SUMMARY:Bay Crossing - Bay Discovery\, 7 km\, return by bus
DESCRIPTION:Departure from Bec d’Andaine – Duration: 6:30 – Distance: 7 km
URL:https://decouvertebaie.com/en/evenement/bay-crossing-bay-discovery-7-km-return-by-bus-21/
END:VEVENT
BEGIN:VEVENT
DTSTART;TZID=Europe/Paris:20260812T104500
DTEND;TZID=Europe/Paris:20260812T104500
DTSTAMP:20260425T060325
CREATED:20260218T231134Z
LAST-MODIFIED:20260218T231134Z
UID:14304-1786531500-1786531500@decouvertebaie.com
SUMMARY:From Bec d'Andaine to Tombelaine 8 km
DESCRIPTION:Departure: Bec d’Andaine – Duration: 4:00 – Distance: 8 km
URL:https://decouvertebaie.com/en/evenement/from-bec-dandaine-to-tombelaine-8-km-8/
END:VEVENT
BEGIN:VEVENT
DTSTART;TZID=Europe/Paris:20260812T140000
DTEND;TZID=Europe/Paris:20260812T140000
DTSTAMP:20260425T060325
CREATED:20260218T231134Z
LAST-MODIFIED:20260218T231134Z
UID:14305-1786543200-1786543200@decouvertebaie.com
SUMMARY:Tombelaine Islet Discovery\, 7 km
DESCRIPTION:Departure from Mont St Michel – Duration: 3½ hours – Distance: 7 km
URL:https://decouvertebaie.com/en/evenement/tombelaine-islet-discovery-7-km-18/
END:VEVENT
BEGIN:VEVENT
DTSTART;TZID=Europe/Paris:20260812T141500
DTEND;TZID=Europe/Paris:20260812T141500
DTSTAMP:20260425T060325
CREATED:20260218T231149Z
LAST-MODIFIED:20260218T231149Z
UID:14306-1786544100-1786544100@decouvertebaie.com
SUMMARY:Discover quicksand 2 km
DESCRIPTION:Departure Mont St Michel – Duration: 1h30 – Distance: 2 km
URL:https://decouvertebaie.com/en/evenement/discover-quicksand-2-km-45/
END:VEVENT
BEGIN:VEVENT
DTSTART;TZID=Europe/Paris:20260812T153000
DTEND;TZID=Europe/Paris:20260812T153000
DTSTAMP:20260425T060325
CREATED:20260218T231149Z
LAST-MODIFIED:20260218T231149Z
UID:14307-1786548600-1786548600@decouvertebaie.com
SUMMARY:Discovery walk for little feet at Bec d'Andaine 2 km
DESCRIPTION:Departure: Bec d’Andaine – Duration: 2:00 – Distance: 2 km
URL:https://decouvertebaie.com/en/evenement/discovery-walk-for-little-feet-at-bec-dandaine-2-km-3/
END:VEVENT
BEGIN:VEVENT
DTSTART;TZID=Europe/Paris:20260812T163000
DTEND;TZID=Europe/Paris:20260812T163000
DTSTAMP:20260425T060325
CREATED:20260218T231149Z
LAST-MODIFIED:20260218T231149Z
UID:14302-1786552200-1786552200@decouvertebaie.com
SUMMARY:Rising tide and tidal bore 3 km
DESCRIPTION:Departure: Mont St Michel – Duration: 2 hours – Distance: 3 km
URL:https://decouvertebaie.com/en/evenement/rising-tide-and-tidal-bore-3-km-19/
END:VEVENT
BEGIN:VEVENT
DTSTART;TZID=Europe/Paris:20260813T113000
DTEND;TZID=Europe/Paris:20260813T113000
DTSTAMP:20260425T060325
CREATED:20260218T231149Z
LAST-MODIFIED:20260218T231149Z
UID:14184-1786620600-1786620600@decouvertebaie.com
SUMMARY:Crossing - Bay Discovery 14 km
DESCRIPTION:Departure Bec d’Andaine – Duration: 6:00 – Distance: 14 km
URL:https://decouvertebaie.com/en/evenement/crossing-bay-discovery-14-km-28/
END:VEVENT
BEGIN:VEVENT
DTSTART;TZID=Europe/Paris:20260813T130000
DTEND;TZID=Europe/Paris:20260813T130000
DTSTAMP:20260425T060325
CREATED:20260218T231150Z
LAST-MODIFIED:20260218T231150Z
UID:14186-1786626000-1786626000@decouvertebaie.com
SUMMARY:Discover quicksand 2 km
DESCRIPTION:Departure Mont St Michel – Duration: 1h30 – Distance: 2 km
URL:https://decouvertebaie.com/en/evenement/discover-quicksand-2-km-23/
END:VEVENT
BEGIN:VEVENT
DTSTART;TZID=Europe/Paris:20260813T141500
DTEND;TZID=Europe/Paris:20260813T141500
DTSTAMP:20260425T060325
CREATED:20260218T231203Z
LAST-MODIFIED:20260218T231203Z
UID:14190-1786630500-1786630500@decouvertebaie.com
SUMMARY:Crossing - Discover the spring tides with bus return 7 km
DESCRIPTION:Departure from Bec d’Andaine – Duration: 6:30 – Distance: 7 km
URL:https://decouvertebaie.com/en/evenement/crossing-discover-the-spring-tides-with-bus-return-7-km-2/
END:VEVENT
BEGIN:VEVENT
DTSTART;TZID=Europe/Paris:20260814T121500
DTEND;TZID=Europe/Paris:20260814T121500
DTSTAMP:20260425T060325
CREATED:20260218T231203Z
LAST-MODIFIED:20260218T231203Z
UID:14188-1786709700-1786709700@decouvertebaie.com
SUMMARY:Crossing - Bay Discovery 14 km
DESCRIPTION:Departure: Bec d’Andaine – Duration: 6h – Distance: 14 km
URL:https://decouvertebaie.com/en/evenement/crossing-bay-discovery-14-km-29/
END:VEVENT
BEGIN:VEVENT
DTSTART;TZID=Europe/Paris:20260814T153000
DTEND;TZID=Europe/Paris:20260814T153000
DTSTAMP:20260425T060325
CREATED:20260218T231204Z
LAST-MODIFIED:20260218T231204Z
UID:14192-1786721400-1786721400@decouvertebaie.com
SUMMARY:Discover quicksand 2 km
DESCRIPTION:Departure Mont St Michel – Duration: 1h30 – Distance: 2 km
URL:https://decouvertebaie.com/en/evenement/discover-quicksand-2-km-24/
END:VEVENT
BEGIN:VEVENT
DTSTART;TZID=Europe/Paris:20260814T180000
DTEND;TZID=Europe/Paris:20260814T180000
DTSTAMP:20260425T060325
CREATED:20260218T231204Z
LAST-MODIFIED:20260218T231204Z
UID:14185-1786730400-1786730400@decouvertebaie.com
SUMMARY:Short walk around Mont Saint-Michel 3 km
DESCRIPTION:Departure: Mont St Michel – Duration: 2 hours – Distance: 3 km
URL:https://decouvertebaie.com/en/evenement/short-walk-around-mont-saint-michel-3-km-20/
END:VEVENT
BEGIN:VEVENT
DTSTART;TZID=Europe/Paris:20260814T180000
DTEND;TZID=Europe/Paris:20260814T180000
DTSTAMP:20260425T060325
CREATED:20260218T231204Z
LAST-MODIFIED:20260218T231204Z
UID:14187-1786730400-1786730400@decouvertebaie.com
SUMMARY:Rising tide and tidal bore 3 km
DESCRIPTION:Departure: Mont St Michel – Duration: 2 hours – Distance: 3 km
URL:https://decouvertebaie.com/en/evenement/rising-tide-and-tidal-bore-3-km-10/
END:VEVENT
BEGIN:VEVENT
DTSTART;TZID=Europe/Paris:20260815T130000
DTEND;TZID=Europe/Paris:20260815T130000
DTSTAMP:20260425T060325
CREATED:20260218T231218Z
LAST-MODIFIED:20260218T231218Z
UID:14189-1786798800-1786798800@decouvertebaie.com
SUMMARY:Crossing - Bay Discovery 14 km
DESCRIPTION:Departure: Bec d’Andaine – Duration: 6h – Distance: 14 km
URL:https://decouvertebaie.com/en/evenement/crossing-bay-discovery-14-km-29/
END:VEVENT
BEGIN:VEVENT
DTSTART;TZID=Europe/Paris:20260815T130000
DTEND;TZID=Europe/Paris:20260815T130000
DTSTAMP:20260425T060325
CREATED:20260218T231219Z
LAST-MODIFIED:20260218T231219Z
UID:14207-1786798800-1786798800@decouvertebaie.com
SUMMARY:Bay Crossing - Bay Discovery\, 7 km\, return by bus
DESCRIPTION:Departure from Bec d’Andaine – Duration: 6h 30m – Distance: 7 km
URL:https://decouvertebaie.com/en/evenement/bay-crossing-bay-discovery-7-km-return-by-bus-9/
END:VEVENT
BEGIN:VEVENT
DTSTART;TZID=Europe/Paris:20260815T154500
DTEND;TZID=Europe/Paris:20260815T154500
DTSTAMP:20260425T060325
CREATED:20260218T231219Z
LAST-MODIFIED:20260218T231219Z
UID:14194-1786808700-1786808700@decouvertebaie.com
SUMMARY:Tales and legends of Mont Saint-Michel Bay 3 km
DESCRIPTION:Departure: Mont St Michel – Duration: 2 hours – Distance: 3 km
URL:https://decouvertebaie.com/en/evenement/tales-and-legends-of-mont-saint-michel-bay-3-km-3/
END:VEVENT
BEGIN:VEVENT
DTSTART;TZID=Europe/Paris:20260815T160000
DTEND;TZID=Europe/Paris:20260815T160000
DTSTAMP:20260425T060325
CREATED:20260218T231219Z
LAST-MODIFIED:20260218T231219Z
UID:14193-1786809600-1786809600@decouvertebaie.com
SUMMARY:Discover quicksand 2 km
DESCRIPTION:Departure Mont St Michel – Duration: 1h30 – Distance: 2 km
URL:https://decouvertebaie.com/en/evenement/discover-quicksand-2-km-25/
END:VEVENT
BEGIN:VEVENT
DTSTART;TZID=Europe/Paris:20260815T183000
DTEND;TZID=Europe/Paris:20260815T183000
DTSTAMP:20260425T060325
CREATED:20260218T231219Z
LAST-MODIFIED:20260218T231219Z
UID:14191-1786818600-1786818600@decouvertebaie.com
SUMMARY:Short walk around Mont Saint-Michel 3 km
DESCRIPTION:Departure: Mont St Michel – Duration: 2 hours – Distance: 3 km
URL:https://decouvertebaie.com/en/evenement/short-walk-around-mont-saint-michel-3-km-21/
END:VEVENT
BEGIN:VEVENT
DTSTART;TZID=Europe/Paris:20260815T183000
DTEND;TZID=Europe/Paris:20260815T183000
DTSTAMP:20260425T060325
CREATED:20260218T231234Z
LAST-MODIFIED:20260218T231234Z
UID:14202-1786818600-1786818600@decouvertebaie.com
SUMMARY:Rising tide and tidal bore 3 km
DESCRIPTION:Departure: Mont St Michel – Duration: 2 hours – Distance: 3 km
URL:https://decouvertebaie.com/en/evenement/rising-tide-and-tidal-bore-3-km-11/
END:VEVENT
BEGIN:VEVENT
DTSTART;TZID=Europe/Paris:20260816T131500
DTEND;TZID=Europe/Paris:20260816T131500
DTSTAMP:20260425T060325
CREATED:20260218T231234Z
LAST-MODIFIED:20260218T231234Z
UID:14200-1786886100-1786886100@decouvertebaie.com
SUMMARY:Crossing - Bay Discovery 14 km
DESCRIPTION:Start: Bec d’Andaine – Duration: 6h – Distance: 14 km
URL:https://decouvertebaie.com/en/evenement/crossing-bay-discovery-14-km-30/
END:VEVENT
BEGIN:VEVENT
DTSTART;TZID=Europe/Paris:20260816T133000
DTEND;TZID=Europe/Paris:20260816T133000
DTSTAMP:20260425T060325
CREATED:20260218T231234Z
LAST-MODIFIED:20260218T231234Z
UID:14198-1786887000-1786887000@decouvertebaie.com
SUMMARY:From Bec d'Andaine to Tombelaine 8 km
DESCRIPTION:Departure: Bec d’Andaine – Duration: 4:00 – Distance: 8 km
URL:https://decouvertebaie.com/en/evenement/from-bec-dandaine-to-tombelaine-8-km-3/
END:VEVENT
BEGIN:VEVENT
DTSTART;TZID=Europe/Paris:20260816T141500
DTEND;TZID=Europe/Paris:20260816T141500
DTSTAMP:20260425T060325
CREATED:20260218T231234Z
LAST-MODIFIED:20260218T231234Z
UID:14196-1786889700-1786889700@decouvertebaie.com
SUMMARY:Discover quicksand 2 km
DESCRIPTION:Departure Mont St Michel – Duration: 1h30 – Distance: 2 km
URL:https://decouvertebaie.com/en/evenement/discover-quicksand-2-km-26/
END:VEVENT
BEGIN:VEVENT
DTSTART;TZID=Europe/Paris:20260816T163000
DTEND;TZID=Europe/Paris:20260816T163000
DTSTAMP:20260425T060325
CREATED:20260218T231235Z
LAST-MODIFIED:20260218T231235Z
UID:14195-1786897800-1786897800@decouvertebaie.com
SUMMARY:Short walk around Mont Saint-Michel 3 km
DESCRIPTION:Departure: Mont St Michel – Duration: 2 hours – Distance: 3 km
URL:https://decouvertebaie.com/en/evenement/short-walk-around-mont-saint-michel-3-km-22/
END:VEVENT
END:VCALENDAR