BEGIN:VCALENDAR
VERSION:2.0
PRODID:-//Découverte de la Baie - ECPv6.15.20//NONSGML v1.0//EN
CALSCALE:GREGORIAN
METHOD:PUBLISH
X-WR-CALNAME:Découverte de la Baie
X-ORIGINAL-URL:https://decouvertebaie.com/en/
X-WR-CALDESC:Events for Découverte de la Baie
REFRESH-INTERVAL;VALUE=DURATION:PT1H
X-Robots-Tag:noindex
X-PUBLISHED-TTL:PT1H
BEGIN:VTIMEZONE
TZID:Europe/Paris
BEGIN:DAYLIGHT
TZOFFSETFROM:+0100
TZOFFSETTO:+0200
TZNAME:CEST
DTSTART:20250330T010000
END:DAYLIGHT
BEGIN:STANDARD
TZOFFSETFROM:+0200
TZOFFSETTO:+0100
TZNAME:CET
DTSTART:20251026T010000
END:STANDARD
BEGIN:DAYLIGHT
TZOFFSETFROM:+0100
TZOFFSETTO:+0200
TZNAME:CEST
DTSTART:20260329T010000
END:DAYLIGHT
BEGIN:STANDARD
TZOFFSETFROM:+0200
TZOFFSETTO:+0100
TZNAME:CET
DTSTART:20261025T010000
END:STANDARD
BEGIN:DAYLIGHT
TZOFFSETFROM:+0100
TZOFFSETTO:+0200
TZNAME:CEST
DTSTART:20270328T010000
END:DAYLIGHT
BEGIN:STANDARD
TZOFFSETFROM:+0200
TZOFFSETTO:+0100
TZNAME:CET
DTSTART:20271031T010000
END:STANDARD
END:VTIMEZONE
BEGIN:VEVENT
DTSTART;TZID=Europe/Paris:20260526T101500
DTEND;TZID=Europe/Paris:20260526T101500
DTSTAMP:20260424T182341
CREATED:20251203T135153Z
LAST-MODIFIED:20251203T135153Z
UID:14572-1779790500-1779790500@decouvertebaie.com
SUMMARY:Crossing - Bay Discovery 14 km
DESCRIPTION:
URL:https://decouvertebaie.com/en/evenement/crossing-bay-discovery-14-km-127/
END:VEVENT
BEGIN:VEVENT
DTSTART;TZID=Europe/Paris:20260526T133000
DTEND;TZID=Europe/Paris:20260526T133000
DTSTAMP:20260424T182341
CREATED:20251203T135153Z
LAST-MODIFIED:20251203T135153Z
UID:14574-1779802200-1779802200@decouvertebaie.com
SUMMARY:Short walk around Mont Saint-Michel 3 km
DESCRIPTION:
URL:https://decouvertebaie.com/en/evenement/short-walk-around-mont-saint-michel-3-km-62/
END:VEVENT
BEGIN:VEVENT
DTSTART;TZID=Europe/Paris:20260526T134500
DTEND;TZID=Europe/Paris:20260526T134500
DTSTAMP:20260424T182341
CREATED:20251203T135153Z
LAST-MODIFIED:20251203T135153Z
UID:14569-1779803100-1779803100@decouvertebaie.com
SUMMARY:Discover quicksand 2 km
DESCRIPTION:
URL:https://decouvertebaie.com/en/evenement/discover-quicksand-2-km-87/
END:VEVENT
BEGIN:VEVENT
DTSTART;TZID=Europe/Paris:20260527T101500
DTEND;TZID=Europe/Paris:20260527T101500
DTSTAMP:20260424T182341
CREATED:20251203T135154Z
LAST-MODIFIED:20251203T135154Z
UID:14576-1779876900-1779876900@decouvertebaie.com
SUMMARY:Crossing - Bay Discovery 14 km
DESCRIPTION:
URL:https://decouvertebaie.com/en/evenement/crossing-bay-discovery-14-km-128/
END:VEVENT
BEGIN:VEVENT
DTSTART;TZID=Europe/Paris:20260528T093000
DTEND;TZID=Europe/Paris:20260528T093000
DTSTAMP:20260424T182341
CREATED:20251203T135208Z
LAST-MODIFIED:20251203T135208Z
UID:14568-1779960600-1779960600@decouvertebaie.com
SUMMARY:Crossing - Bay Discovery 14 km
DESCRIPTION:
URL:https://decouvertebaie.com/en/evenement/crossing-bay-discovery-14-km-125/
END:VEVENT
BEGIN:VEVENT
DTSTART;TZID=Europe/Paris:20260528T133000
DTEND;TZID=Europe/Paris:20260528T133000
DTSTAMP:20260424T182341
CREATED:20251203T135209Z
LAST-MODIFIED:20251203T135209Z
UID:14571-1779975000-1779975000@decouvertebaie.com
SUMMARY:Short walk around Mont Saint-Michel 3 km
DESCRIPTION:
URL:https://decouvertebaie.com/en/evenement/short-walk-around-mont-saint-michel-3-km-60/
END:VEVENT
BEGIN:VEVENT
DTSTART;TZID=Europe/Paris:20260529T100000
DTEND;TZID=Europe/Paris:20260529T100000
DTSTAMP:20260424T182341
CREATED:20251203T135209Z
LAST-MODIFIED:20251203T135209Z
UID:14570-1780048800-1780048800@decouvertebaie.com
SUMMARY:Crossing - Bay Discovery 14 km
DESCRIPTION:
URL:https://decouvertebaie.com/en/evenement/crossing-bay-discovery-14-km-126/
END:VEVENT
BEGIN:VEVENT
DTSTART;TZID=Europe/Paris:20260529T140000
DTEND;TZID=Europe/Paris:20260529T140000
DTSTAMP:20260424T182341
CREATED:20251203T135223Z
LAST-MODIFIED:20251203T135223Z
UID:14573-1780063200-1780063200@decouvertebaie.com
SUMMARY:Short walk around Mont Saint-Michel 3 km
DESCRIPTION:
URL:https://decouvertebaie.com/en/evenement/short-walk-around-mont-saint-michel-3-km-61/
END:VEVENT
BEGIN:VEVENT
DTSTART;TZID=Europe/Paris:20260529T141500
DTEND;TZID=Europe/Paris:20260529T141500
DTSTAMP:20260424T182341
CREATED:20251203T135223Z
LAST-MODIFIED:20251203T135223Z
UID:14575-1780064100-1780064100@decouvertebaie.com
SUMMARY:Discover quicksand 2 km
DESCRIPTION:
URL:https://decouvertebaie.com/en/evenement/discover-quicksand-2-km-88/
END:VEVENT
BEGIN:VEVENT
DTSTART;TZID=Europe/Paris:20260530T103000
DTEND;TZID=Europe/Paris:20260530T103000
DTSTAMP:20260424T182341
CREATED:20251203T135224Z
LAST-MODIFIED:20251203T135224Z
UID:14577-1780137000-1780137000@decouvertebaie.com
SUMMARY:Crossing - Bay Discovery 14 km
DESCRIPTION:
URL:https://decouvertebaie.com/en/evenement/crossing-bay-discovery-14-km-129/
END:VEVENT
BEGIN:VEVENT
DTSTART;TZID=Europe/Paris:20260530T143000
DTEND;TZID=Europe/Paris:20260530T143000
DTSTAMP:20260424T182341
CREATED:20260219T155007Z
LAST-MODIFIED:20260219T155007Z
UID:14265-1780151400-1780151400@decouvertebaie.com
SUMMARY:Short walk around Mont Saint-Michel 3 km
DESCRIPTION:Start: Mont St-Michel – Duration: 2:00 – Distance: 3 km
URL:https://decouvertebaie.com/en/evenement/short-walk-around-mont-saint-michel-3-km-31/
END:VEVENT
BEGIN:VEVENT
DTSTART;TZID=Europe/Paris:20260531T104500
DTEND;TZID=Europe/Paris:20260531T104500
DTSTAMP:20260424T182341
CREATED:20251203T135224Z
LAST-MODIFIED:20251203T135224Z
UID:14554-1780224300-1780224300@decouvertebaie.com
SUMMARY:Crossing - Bay Discovery 14 km
DESCRIPTION:
URL:https://decouvertebaie.com/en/evenement/crossing-bay-discovery-14-km-120/
END:VEVENT
BEGIN:VEVENT
DTSTART;TZID=Europe/Paris:20260531T104500
DTEND;TZID=Europe/Paris:20260531T104500
DTSTAMP:20260424T182341
CREATED:20251203T135224Z
LAST-MODIFIED:20251203T135224Z
UID:14578-1780224300-1780224300@decouvertebaie.com
SUMMARY:Bay Crossing - Bay Discovery\, 7 km\, return by bus
DESCRIPTION:
URL:https://decouvertebaie.com/en/evenement/bay-crossing-bay-discovery-7-km-return-by-bus-54/
END:VEVENT
BEGIN:VEVENT
DTSTART;TZID=Europe/Paris:20260601T113000
DTEND;TZID=Europe/Paris:20260601T113000
DTSTAMP:20260424T182341
CREATED:20260121T021753Z
LAST-MODIFIED:20260121T021753Z
UID:14505-1780313400-1780313400@decouvertebaie.com
SUMMARY:Crossing - Bay Discovery 14 km
DESCRIPTION:
URL:https://decouvertebaie.com/en/evenement/crossing-bay-discovery-14-km-102/
END:VEVENT
BEGIN:VEVENT
DTSTART;TZID=Europe/Paris:20260602T120000
DTEND;TZID=Europe/Paris:20260602T120000
DTSTAMP:20260424T182341
CREATED:20260121T021753Z
LAST-MODIFIED:20260121T021753Z
UID:14555-1780401600-1780401600@decouvertebaie.com
SUMMARY:Crossing - Bay Discovery 14 km
DESCRIPTION:
URL:https://decouvertebaie.com/en/evenement/crossing-bay-discovery-14-km-121/
END:VEVENT
BEGIN:VEVENT
DTSTART;TZID=Europe/Paris:20260603T123000
DTEND;TZID=Europe/Paris:20260603T123000
DTSTAMP:20260424T182341
CREATED:20260121T021753Z
LAST-MODIFIED:20260121T021753Z
UID:14556-1780489800-1780489800@decouvertebaie.com
SUMMARY:Crossing - Bay Discovery 14 km
DESCRIPTION:
URL:https://decouvertebaie.com/en/evenement/crossing-bay-discovery-14-km-122/
END:VEVENT
BEGIN:VEVENT
DTSTART;TZID=Europe/Paris:20260603T123000
DTEND;TZID=Europe/Paris:20260603T123000
DTSTAMP:20260424T182341
CREATED:20260121T021754Z
LAST-MODIFIED:20260121T021754Z
UID:14506-1780489800-1780489800@decouvertebaie.com
SUMMARY:Bay Crossing - Bay Discovery\, 7 km\, return by bus
DESCRIPTION:
URL:https://decouvertebaie.com/en/evenement/bay-crossing-bay-discovery-7-km-return-by-bus-45/
END:VEVENT
BEGIN:VEVENT
DTSTART;TZID=Europe/Paris:20260603T163000
DTEND;TZID=Europe/Paris:20260603T163000
DTSTAMP:20260424T182341
CREATED:20260121T021754Z
LAST-MODIFIED:20260121T021754Z
UID:14508-1780504200-1780504200@decouvertebaie.com
SUMMARY:Discover quicksand 2 km
DESCRIPTION:
URL:https://decouvertebaie.com/en/evenement/discover-quicksand-2-km-77/
END:VEVENT
BEGIN:VEVENT
DTSTART;TZID=Europe/Paris:20260604T173000
DTEND;TZID=Europe/Paris:20260604T173000
DTSTAMP:20260424T182341
CREATED:20260121T021756Z
LAST-MODIFIED:20260121T021756Z
UID:14510-1780594200-1780594200@decouvertebaie.com
SUMMARY:Discover quicksand 2 km
DESCRIPTION:
URL:https://decouvertebaie.com/en/evenement/discover-quicksand-2-km-78/
END:VEVENT
BEGIN:VEVENT
DTSTART;TZID=Europe/Paris:20260605T133000
DTEND;TZID=Europe/Paris:20260605T133000
DTSTAMP:20260424T182341
CREATED:20260121T021757Z
LAST-MODIFIED:20260121T021757Z
UID:14507-1780666200-1780666200@decouvertebaie.com
SUMMARY:Crossing - Bay Discovery 14 km
DESCRIPTION:
URL:https://decouvertebaie.com/en/evenement/crossing-bay-discovery-14-km-103/
END:VEVENT
BEGIN:VEVENT
DTSTART;TZID=Europe/Paris:20260605T144500
DTEND;TZID=Europe/Paris:20260605T144500
DTSTAMP:20260424T182341
CREATED:20260121T021757Z
LAST-MODIFIED:20260121T021757Z
UID:14512-1780670700-1780670700@decouvertebaie.com
SUMMARY:Tombelaine Islet Discovery\, 7 km
DESCRIPTION:Departure from Mont St Michel – Duration: 3½ hours – Distance: 7 km
URL:https://decouvertebaie.com/en/evenement/tombelaine-islet-discovery-7-km-49/
END:VEVENT
BEGIN:VEVENT
DTSTART;TZID=Europe/Paris:20260606T120000
DTEND;TZID=Europe/Paris:20260606T120000
DTSTAMP:20260424T182341
CREATED:20260121T021757Z
LAST-MODIFIED:20260121T021757Z
UID:14504-1780747200-1780747200@decouvertebaie.com
SUMMARY:Crossing - Bay Discovery 14 km
DESCRIPTION:
URL:https://decouvertebaie.com/en/evenement/crossing-bay-discovery-14-km-101/
END:VEVENT
BEGIN:VEVENT
DTSTART;TZID=Europe/Paris:20260606T120000
DTEND;TZID=Europe/Paris:20260606T120000
DTSTAMP:20260424T182341
CREATED:20260121T021757Z
LAST-MODIFIED:20260121T021757Z
UID:14509-1780747200-1780747200@decouvertebaie.com
SUMMARY:Bay Crossing - Bay Discovery\, 7 km\, return by bus
DESCRIPTION:
URL:https://decouvertebaie.com/en/evenement/bay-crossing-bay-discovery-7-km-return-by-bus-46/
END:VEVENT
BEGIN:VEVENT
DTSTART;TZID=Europe/Paris:20260606T141500
DTEND;TZID=Europe/Paris:20260606T141500
DTSTAMP:20260424T182341
CREATED:20260121T021812Z
LAST-MODIFIED:20260121T021812Z
UID:14516-1780755300-1780755300@decouvertebaie.com
SUMMARY:Short walk around Mont Saint-Michel 3 km
DESCRIPTION:
URL:https://decouvertebaie.com/en/evenement/short-walk-around-mont-saint-michel-3-km-55/
END:VEVENT
BEGIN:VEVENT
DTSTART;TZID=Europe/Paris:20260606T150000
DTEND;TZID=Europe/Paris:20260606T150000
DTSTAMP:20260424T182341
CREATED:20260121T021812Z
LAST-MODIFIED:20260121T021812Z
UID:14518-1780758000-1780758000@decouvertebaie.com
SUMMARY:Tombelaine Islet Discovery\, 7 km
DESCRIPTION:
URL:https://decouvertebaie.com/en/evenement/tombelaine-islet-discovery-7-km-50/
END:VEVENT
BEGIN:VEVENT
DTSTART;TZID=Europe/Paris:20260606T170000
DTEND;TZID=Europe/Paris:20260606T170000
DTSTAMP:20260424T182341
CREATED:20260121T021812Z
LAST-MODIFIED:20260121T021812Z
UID:14511-1780765200-1780765200@decouvertebaie.com
SUMMARY:Discover quicksand 2 km
DESCRIPTION:
URL:https://decouvertebaie.com/en/evenement/discover-quicksand-2-km-79/
END:VEVENT
BEGIN:VEVENT
DTSTART;TZID=Europe/Paris:20260606T203000
DTEND;TZID=Europe/Paris:20260606T203000
DTSTAMP:20260424T182341
CREATED:20260121T021812Z
LAST-MODIFIED:20260121T021812Z
UID:14514-1780777800-1780777800@decouvertebaie.com
SUMMARY:Sunset - short walk around Mont Saint-Michel 3 km
DESCRIPTION:
URL:https://decouvertebaie.com/en/evenement/sunset-short-walk-around-mont-saint-michel-3-km-12/
END:VEVENT
BEGIN:VEVENT
DTSTART;TZID=Europe/Paris:20260607T124500
DTEND;TZID=Europe/Paris:20260607T124500
DTSTAMP:20260424T182341
CREATED:20260121T021812Z
LAST-MODIFIED:20260121T021812Z
UID:14513-1780836300-1780836300@decouvertebaie.com
SUMMARY:Crossing - Bay Discovery 14 km
DESCRIPTION:
URL:https://decouvertebaie.com/en/evenement/crossing-bay-discovery-14-km-104/
END:VEVENT
BEGIN:VEVENT
DTSTART;TZID=Europe/Paris:20260607T130000
DTEND;TZID=Europe/Paris:20260607T130000
DTSTAMP:20260424T182341
CREATED:20260218T145330Z
LAST-MODIFIED:20260218T145330Z
UID:14459-1780837200-1780837200@decouvertebaie.com
SUMMARY:Crossing - Bay Discovery 14 km
DESCRIPTION:Start St Léonard – Duration: 6h – Distance: 14 km
URL:https://decouvertebaie.com/en/evenement/crossing-bay-discovery-14-km-89/
END:VEVENT
BEGIN:VEVENT
DTSTART;TZID=Europe/Paris:20260607T150000
DTEND;TZID=Europe/Paris:20260607T150000
DTSTAMP:20260424T182341
CREATED:20260218T145330Z
LAST-MODIFIED:20260218T145330Z
UID:14461-1780844400-1780844400@decouvertebaie.com
SUMMARY:Tombelaine Islet Discovery\, 7 km
DESCRIPTION:Departure from Mont St Michel – Duration: 3½ hours – Distance: 7 km
URL:https://decouvertebaie.com/en/evenement/tombelaine-islet-discovery-7-km-44/
END:VEVENT
END:VCALENDAR