BEGIN:VCALENDAR
VERSION:2.0
PRODID:-//Découverte de la Baie - ECPv6.15.20//NONSGML v1.0//EN
CALSCALE:GREGORIAN
METHOD:PUBLISH
X-ORIGINAL-URL:https://decouvertebaie.com/en/
X-WR-CALDESC:Events for Découverte de la Baie
REFRESH-INTERVAL;VALUE=DURATION:PT1H
X-Robots-Tag:noindex
X-PUBLISHED-TTL:PT1H
BEGIN:VTIMEZONE
TZID:Europe/Paris
BEGIN:DAYLIGHT
TZOFFSETFROM:+0100
TZOFFSETTO:+0200
TZNAME:CEST
DTSTART:20250330T010000
END:DAYLIGHT
BEGIN:STANDARD
TZOFFSETFROM:+0200
TZOFFSETTO:+0100
TZNAME:CET
DTSTART:20251026T010000
END:STANDARD
BEGIN:DAYLIGHT
TZOFFSETFROM:+0100
TZOFFSETTO:+0200
TZNAME:CEST
DTSTART:20260329T010000
END:DAYLIGHT
BEGIN:STANDARD
TZOFFSETFROM:+0200
TZOFFSETTO:+0100
TZNAME:CET
DTSTART:20261025T010000
END:STANDARD
BEGIN:DAYLIGHT
TZOFFSETFROM:+0100
TZOFFSETTO:+0200
TZNAME:CEST
DTSTART:20270328T010000
END:DAYLIGHT
BEGIN:STANDARD
TZOFFSETFROM:+0200
TZOFFSETTO:+0100
TZNAME:CET
DTSTART:20271031T010000
END:STANDARD
END:VTIMEZONE
BEGIN:VEVENT
DTSTART;TZID=Europe/Paris:20260603T123000
DTEND;TZID=Europe/Paris:20260603T123000
DTSTAMP:20260425T015722
CREATED:20260121T021754Z
LAST-MODIFIED:20260121T021754Z
UID:14506-1780489800-1780489800@decouvertebaie.com
SUMMARY:Bay Crossing - Bay Discovery\, 7 km\, return by bus
DESCRIPTION:
URL:https://decouvertebaie.com/en/evenement/bay-crossing-bay-discovery-7-km-return-by-bus-45/
END:VEVENT
BEGIN:VEVENT
DTSTART;TZID=Europe/Paris:20260603T163000
DTEND;TZID=Europe/Paris:20260603T163000
DTSTAMP:20260425T015722
CREATED:20260121T021754Z
LAST-MODIFIED:20260121T021754Z
UID:14508-1780504200-1780504200@decouvertebaie.com
SUMMARY:Discover quicksand 2 km
DESCRIPTION:
URL:https://decouvertebaie.com/en/evenement/discover-quicksand-2-km-77/
END:VEVENT
BEGIN:VEVENT
DTSTART;TZID=Europe/Paris:20260604T173000
DTEND;TZID=Europe/Paris:20260604T173000
DTSTAMP:20260425T015722
CREATED:20260121T021756Z
LAST-MODIFIED:20260121T021756Z
UID:14510-1780594200-1780594200@decouvertebaie.com
SUMMARY:Discover quicksand 2 km
DESCRIPTION:
URL:https://decouvertebaie.com/en/evenement/discover-quicksand-2-km-78/
END:VEVENT
BEGIN:VEVENT
DTSTART;TZID=Europe/Paris:20260605T133000
DTEND;TZID=Europe/Paris:20260605T133000
DTSTAMP:20260425T015722
CREATED:20260121T021757Z
LAST-MODIFIED:20260121T021757Z
UID:14507-1780666200-1780666200@decouvertebaie.com
SUMMARY:Crossing - Bay Discovery 14 km
DESCRIPTION:
URL:https://decouvertebaie.com/en/evenement/crossing-bay-discovery-14-km-103/
END:VEVENT
BEGIN:VEVENT
DTSTART;TZID=Europe/Paris:20260605T144500
DTEND;TZID=Europe/Paris:20260605T144500
DTSTAMP:20260425T015722
CREATED:20260121T021757Z
LAST-MODIFIED:20260121T021757Z
UID:14512-1780670700-1780670700@decouvertebaie.com
SUMMARY:Tombelaine Islet Discovery\, 7 km
DESCRIPTION:Departure from Mont St Michel – Duration: 3½ hours – Distance: 7 km
URL:https://decouvertebaie.com/en/evenement/tombelaine-islet-discovery-7-km-49/
END:VEVENT
BEGIN:VEVENT
DTSTART;TZID=Europe/Paris:20260606T120000
DTEND;TZID=Europe/Paris:20260606T120000
DTSTAMP:20260425T015722
CREATED:20260121T021757Z
LAST-MODIFIED:20260121T021757Z
UID:14504-1780747200-1780747200@decouvertebaie.com
SUMMARY:Crossing - Bay Discovery 14 km
DESCRIPTION:
URL:https://decouvertebaie.com/en/evenement/crossing-bay-discovery-14-km-101/
END:VEVENT
BEGIN:VEVENT
DTSTART;TZID=Europe/Paris:20260606T120000
DTEND;TZID=Europe/Paris:20260606T120000
DTSTAMP:20260425T015722
CREATED:20260121T021757Z
LAST-MODIFIED:20260121T021757Z
UID:14509-1780747200-1780747200@decouvertebaie.com
SUMMARY:Bay Crossing - Bay Discovery\, 7 km\, return by bus
DESCRIPTION:
URL:https://decouvertebaie.com/en/evenement/bay-crossing-bay-discovery-7-km-return-by-bus-46/
END:VEVENT
BEGIN:VEVENT
DTSTART;TZID=Europe/Paris:20260606T141500
DTEND;TZID=Europe/Paris:20260606T141500
DTSTAMP:20260425T015722
CREATED:20260121T021812Z
LAST-MODIFIED:20260121T021812Z
UID:14516-1780755300-1780755300@decouvertebaie.com
SUMMARY:Short walk around Mont Saint-Michel 3 km
DESCRIPTION:
URL:https://decouvertebaie.com/en/evenement/short-walk-around-mont-saint-michel-3-km-55/
END:VEVENT
BEGIN:VEVENT
DTSTART;TZID=Europe/Paris:20260606T150000
DTEND;TZID=Europe/Paris:20260606T150000
DTSTAMP:20260425T015722
CREATED:20260121T021812Z
LAST-MODIFIED:20260121T021812Z
UID:14518-1780758000-1780758000@decouvertebaie.com
SUMMARY:Tombelaine Islet Discovery\, 7 km
DESCRIPTION:
URL:https://decouvertebaie.com/en/evenement/tombelaine-islet-discovery-7-km-50/
END:VEVENT
BEGIN:VEVENT
DTSTART;TZID=Europe/Paris:20260606T170000
DTEND;TZID=Europe/Paris:20260606T170000
DTSTAMP:20260425T015722
CREATED:20260121T021812Z
LAST-MODIFIED:20260121T021812Z
UID:14511-1780765200-1780765200@decouvertebaie.com
SUMMARY:Discover quicksand 2 km
DESCRIPTION:
URL:https://decouvertebaie.com/en/evenement/discover-quicksand-2-km-79/
END:VEVENT
BEGIN:VEVENT
DTSTART;TZID=Europe/Paris:20260606T203000
DTEND;TZID=Europe/Paris:20260606T203000
DTSTAMP:20260425T015722
CREATED:20260121T021812Z
LAST-MODIFIED:20260121T021812Z
UID:14514-1780777800-1780777800@decouvertebaie.com
SUMMARY:Sunset - short walk around Mont Saint-Michel 3 km
DESCRIPTION:
URL:https://decouvertebaie.com/en/evenement/sunset-short-walk-around-mont-saint-michel-3-km-12/
END:VEVENT
BEGIN:VEVENT
DTSTART;TZID=Europe/Paris:20260607T124500
DTEND;TZID=Europe/Paris:20260607T124500
DTSTAMP:20260425T015722
CREATED:20260121T021812Z
LAST-MODIFIED:20260121T021812Z
UID:14513-1780836300-1780836300@decouvertebaie.com
SUMMARY:Crossing - Bay Discovery 14 km
DESCRIPTION:
URL:https://decouvertebaie.com/en/evenement/crossing-bay-discovery-14-km-104/
END:VEVENT
BEGIN:VEVENT
DTSTART;TZID=Europe/Paris:20260607T130000
DTEND;TZID=Europe/Paris:20260607T130000
DTSTAMP:20260425T015722
CREATED:20260218T145330Z
LAST-MODIFIED:20260218T145330Z
UID:14459-1780837200-1780837200@decouvertebaie.com
SUMMARY:Crossing - Bay Discovery 14 km
DESCRIPTION:Start St Léonard – Duration: 6h – Distance: 14 km
URL:https://decouvertebaie.com/en/evenement/crossing-bay-discovery-14-km-89/
END:VEVENT
BEGIN:VEVENT
DTSTART;TZID=Europe/Paris:20260607T150000
DTEND;TZID=Europe/Paris:20260607T150000
DTSTAMP:20260425T015722
CREATED:20260218T145330Z
LAST-MODIFIED:20260218T145330Z
UID:14461-1780844400-1780844400@decouvertebaie.com
SUMMARY:Tombelaine Islet Discovery\, 7 km
DESCRIPTION:Departure from Mont St Michel – Duration: 3½ hours – Distance: 7 km
URL:https://decouvertebaie.com/en/evenement/tombelaine-islet-discovery-7-km-44/
END:VEVENT
BEGIN:VEVENT
DTSTART;TZID=Europe/Paris:20260608T133000
DTEND;TZID=Europe/Paris:20260608T133000
DTSTAMP:20260425T015722
CREATED:20260121T021828Z
LAST-MODIFIED:20260121T021828Z
UID:14517-1780925400-1780925400@decouvertebaie.com
SUMMARY:Crossing - Bay Discovery 14 km
DESCRIPTION:
URL:https://decouvertebaie.com/en/evenement/crossing-bay-discovery-14-km-106/
END:VEVENT
BEGIN:VEVENT
DTSTART;TZID=Europe/Paris:20260610T090000
DTEND;TZID=Europe/Paris:20260610T090000
DTSTAMP:20260425T015722
CREATED:20260121T021828Z
LAST-MODIFIED:20260121T021828Z
UID:14515-1781082000-1781082000@decouvertebaie.com
SUMMARY:Crossing - Bay Discovery 14 km
DESCRIPTION:
URL:https://decouvertebaie.com/en/evenement/crossing-bay-discovery-14-km-105/
END:VEVENT
BEGIN:VEVENT
DTSTART;TZID=Europe/Paris:20260610T094500
DTEND;TZID=Europe/Paris:20260610T094500
DTSTAMP:20260425T015722
CREATED:20260121T021828Z
LAST-MODIFIED:20260121T021828Z
UID:14522-1781084700-1781084700@decouvertebaie.com
SUMMARY:Bay Crossing - Bay Discovery\, 7 km\, return by bus
DESCRIPTION:
URL:https://decouvertebaie.com/en/evenement/bay-crossing-bay-discovery-7-km-return-by-bus-47/
END:VEVENT
BEGIN:VEVENT
DTSTART;TZID=Europe/Paris:20260611T093000
DTEND;TZID=Europe/Paris:20260611T093000
DTSTAMP:20260425T015722
CREATED:20260121T021828Z
LAST-MODIFIED:20260121T021828Z
UID:14520-1781170200-1781170200@decouvertebaie.com
SUMMARY:Crossing - Bay Discovery 14 km
DESCRIPTION:
URL:https://decouvertebaie.com/en/evenement/crossing-bay-discovery-14-km-107/
END:VEVENT
BEGIN:VEVENT
DTSTART;TZID=Europe/Paris:20260612T140000
DTEND;TZID=Europe/Paris:20260612T140000
DTSTAMP:20260425T015722
CREATED:20260304T125230Z
LAST-MODIFIED:20260304T125230Z
UID:14280-1781272800-1781272800@decouvertebaie.com
SUMMARY:Short walk around Mont Saint-Michel 3 km
DESCRIPTION:Departure Mont St-Michel – Duration: 2h – Distance: 3 km
URL:https://decouvertebaie.com/en/evenement/short-walk-around-mont-saint-michel-3-km-33/
END:VEVENT
BEGIN:VEVENT
DTSTART;TZID=Europe/Paris:20260612T141500
DTEND;TZID=Europe/Paris:20260612T141500
DTSTAMP:20260425T015722
CREATED:20260121T021829Z
LAST-MODIFIED:20260121T021829Z
UID:14519-1781273700-1781273700@decouvertebaie.com
SUMMARY:Discover quicksand 2 km
DESCRIPTION:Departure Mont St-Michel – Duration: 1h30 – Distance: 2 km
URL:https://decouvertebaie.com/en/evenement/discover-quicksand-2-km-80/
END:VEVENT
BEGIN:VEVENT
DTSTART;TZID=Europe/Paris:20260613T094500
DTEND;TZID=Europe/Paris:20260613T094500
DTSTAMP:20260425T015722
CREATED:20260121T021843Z
LAST-MODIFIED:20260121T021843Z
UID:14526-1781343900-1781343900@decouvertebaie.com
SUMMARY:Bay Crossing - Bay Discovery\, 7 km\, return by bus
DESCRIPTION:
URL:https://decouvertebaie.com/en/evenement/bay-crossing-bay-discovery-7-km-return-by-bus-48/
END:VEVENT
BEGIN:VEVENT
DTSTART;TZID=Europe/Paris:20260613T094500
DTEND;TZID=Europe/Paris:20260613T094500
DTSTAMP:20260425T015722
CREATED:20260121T021843Z
LAST-MODIFIED:20260121T021843Z
UID:14528-1781343900-1781343900@decouvertebaie.com
SUMMARY:Crossing - Bay Discovery 14 km
DESCRIPTION:
URL:https://decouvertebaie.com/en/evenement/crossing-bay-discovery-14-km-109/
END:VEVENT
BEGIN:VEVENT
DTSTART;TZID=Europe/Paris:20260613T110000
DTEND;TZID=Europe/Paris:20260613T110000
DTSTAMP:20260425T015722
CREATED:20260121T021843Z
LAST-MODIFIED:20260121T021843Z
UID:14523-1781348400-1781348400@decouvertebaie.com
SUMMARY:Tombelaine Islet Discovery\, 7 km
DESCRIPTION:
URL:https://decouvertebaie.com/en/evenement/tombelaine-islet-discovery-7-km-51/
END:VEVENT
BEGIN:VEVENT
DTSTART;TZID=Europe/Paris:20260613T124500
DTEND;TZID=Europe/Paris:20260613T124500
DTSTAMP:20260425T015722
CREATED:20260121T021843Z
LAST-MODIFIED:20260121T021843Z
UID:14524-1781354700-1781354700@decouvertebaie.com
SUMMARY:Discover quicksand 2 km
DESCRIPTION:
URL:https://decouvertebaie.com/en/evenement/discover-quicksand-2-km-81/
END:VEVENT
BEGIN:VEVENT
DTSTART;TZID=Europe/Paris:20260613T150000
DTEND;TZID=Europe/Paris:20260613T150000
DTSTAMP:20260425T015722
CREATED:20260121T021843Z
LAST-MODIFIED:20260121T021843Z
UID:14521-1781362800-1781362800@decouvertebaie.com
SUMMARY:Rising tide and tidal bore 3 km
DESCRIPTION:
URL:https://decouvertebaie.com/en/evenement/rising-tide-and-tidal-bore-3-km-31/
END:VEVENT
BEGIN:VEVENT
DTSTART;TZID=Europe/Paris:20260614T100000
DTEND;TZID=Europe/Paris:20260614T100000
DTSTAMP:20260425T015722
CREATED:20260121T021858Z
LAST-MODIFIED:20260121T021858Z
UID:14532-1781431200-1781431200@decouvertebaie.com
SUMMARY:Bay Crossing - Bay Discovery\, 7 km\, return by bus
DESCRIPTION:
URL:https://decouvertebaie.com/en/evenement/bay-crossing-bay-discovery-7-km-return-by-bus-49/
END:VEVENT
BEGIN:VEVENT
DTSTART;TZID=Europe/Paris:20260614T100000
DTEND;TZID=Europe/Paris:20260614T100000
DTSTAMP:20260425T015722
CREATED:20260121T021858Z
LAST-MODIFIED:20260121T021858Z
UID:14525-1781431200-1781431200@decouvertebaie.com
SUMMARY:Crossing - Bay Discovery 14 km
DESCRIPTION:
URL:https://decouvertebaie.com/en/evenement/crossing-bay-discovery-14-km-108/
END:VEVENT
BEGIN:VEVENT
DTSTART;TZID=Europe/Paris:20260614T130000
DTEND;TZID=Europe/Paris:20260614T130000
DTSTAMP:20260425T015722
CREATED:20260121T021859Z
LAST-MODIFIED:20260121T021859Z
UID:14529-1781442000-1781442000@decouvertebaie.com
SUMMARY:Tombelaine Islet Discovery\, 7 km
DESCRIPTION:
URL:https://decouvertebaie.com/en/evenement/tombelaine-islet-discovery-7-km-52/
END:VEVENT
BEGIN:VEVENT
DTSTART;TZID=Europe/Paris:20260614T133000
DTEND;TZID=Europe/Paris:20260614T133000
DTSTAMP:20260425T015722
CREATED:20260121T021858Z
LAST-MODIFIED:20260121T021858Z
UID:14530-1781443800-1781443800@decouvertebaie.com
SUMMARY:Discover quicksand 2 km
DESCRIPTION:
URL:https://decouvertebaie.com/en/evenement/discover-quicksand-2-km-82/
END:VEVENT
BEGIN:VEVENT
DTSTART;TZID=Europe/Paris:20260614T154500
DTEND;TZID=Europe/Paris:20260614T154500
DTSTAMP:20260425T015723
CREATED:20260121T021859Z
LAST-MODIFIED:20260121T021859Z
UID:14527-1781451900-1781451900@decouvertebaie.com
SUMMARY:Rising tide and tidal bore 3 km
DESCRIPTION:
URL:https://decouvertebaie.com/en/evenement/rising-tide-and-tidal-bore-3-km-32/
END:VEVENT
END:VCALENDAR