BEGIN:VCALENDAR
VERSION:2.0
PRODID:-//Découverte de la Baie - ECPv6.15.20//NONSGML v1.0//EN
CALSCALE:GREGORIAN
METHOD:PUBLISH
X-WR-CALNAME:Découverte de la Baie
X-ORIGINAL-URL:https://decouvertebaie.com/en/
X-WR-CALDESC:Events for Découverte de la Baie
REFRESH-INTERVAL;VALUE=DURATION:PT1H
X-Robots-Tag:noindex
X-PUBLISHED-TTL:PT1H
BEGIN:VTIMEZONE
TZID:Europe/Paris
BEGIN:DAYLIGHT
TZOFFSETFROM:+0100
TZOFFSETTO:+0200
TZNAME:CEST
DTSTART:20250330T010000
END:DAYLIGHT
BEGIN:STANDARD
TZOFFSETFROM:+0200
TZOFFSETTO:+0100
TZNAME:CET
DTSTART:20251026T010000
END:STANDARD
BEGIN:DAYLIGHT
TZOFFSETFROM:+0100
TZOFFSETTO:+0200
TZNAME:CEST
DTSTART:20260329T010000
END:DAYLIGHT
BEGIN:STANDARD
TZOFFSETFROM:+0200
TZOFFSETTO:+0100
TZNAME:CET
DTSTART:20261025T010000
END:STANDARD
BEGIN:DAYLIGHT
TZOFFSETFROM:+0100
TZOFFSETTO:+0200
TZNAME:CEST
DTSTART:20270328T010000
END:DAYLIGHT
BEGIN:STANDARD
TZOFFSETFROM:+0200
TZOFFSETTO:+0100
TZNAME:CET
DTSTART:20271031T010000
END:STANDARD
END:VTIMEZONE
BEGIN:VEVENT
DTSTART;TZID=Europe/Paris:20260502T111500
DTEND;TZID=Europe/Paris:20260502T111500
DTSTAMP:20260424T174305
CREATED:20251203T134216Z
LAST-MODIFIED:20251203T134216Z
UID:14618-1777720500-1777720500@decouvertebaie.com
SUMMARY:Bay Crossing - Bay Discovery\, 7 km\, return by bus
DESCRIPTION:
URL:https://decouvertebaie.com/en/evenement/bay-crossing-bay-discovery-7-km-return-by-bus-59/
END:VEVENT
BEGIN:VEVENT
DTSTART;TZID=Europe/Paris:20260502T111500
DTEND;TZID=Europe/Paris:20260502T111500
DTSTAMP:20260424T174305
CREATED:20251203T134216Z
LAST-MODIFIED:20251203T134216Z
UID:14623-1777720500-1777720500@decouvertebaie.com
SUMMARY:Crossing - Bay Discovery 14 km
DESCRIPTION:
URL:https://decouvertebaie.com/en/evenement/crossing-bay-discovery-14-km-145/
END:VEVENT
BEGIN:VEVENT
DTSTART;TZID=Europe/Paris:20260502T113000
DTEND;TZID=Europe/Paris:20260502T113000
DTSTAMP:20260424T174305
CREATED:20251203T134219Z
LAST-MODIFIED:20251203T134219Z
UID:14622-1777721400-1777721400@decouvertebaie.com
SUMMARY:From Bec d'Andaine to Tombelaine 8 km
DESCRIPTION:
URL:https://decouvertebaie.com/en/evenement/from-bec-dandaine-to-tombelaine-8-km-19/
END:VEVENT
BEGIN:VEVENT
DTSTART;TZID=Europe/Paris:20260502T150000
DTEND;TZID=Europe/Paris:20260502T150000
DTSTAMP:20260424T174305
CREATED:20251203T134216Z
LAST-MODIFIED:20251203T134216Z
UID:14617-1777734000-1777734000@decouvertebaie.com
SUMMARY:Discover quicksand 2 km
DESCRIPTION:
URL:https://decouvertebaie.com/en/evenement/discover-quicksand-2-km-96/
END:VEVENT
BEGIN:VEVENT
DTSTART;TZID=Europe/Paris:20260502T161500
DTEND;TZID=Europe/Paris:20260502T161500
DTSTAMP:20260424T174305
CREATED:20251203T134218Z
LAST-MODIFIED:20251203T134218Z
UID:14627-1777738500-1777738500@decouvertebaie.com
SUMMARY:Discovery walk for little feet at Bec d'Andaine 2 km
DESCRIPTION:
URL:https://decouvertebaie.com/en/evenement/discovery-walk-for-little-feet-at-bec-dandaine-2-km-8/
END:VEVENT
BEGIN:VEVENT
DTSTART;TZID=Europe/Paris:20260502T171500
DTEND;TZID=Europe/Paris:20260502T171500
DTSTAMP:20260424T174305
CREATED:20251203T134219Z
LAST-MODIFIED:20251203T134219Z
UID:14620-1777742100-1777742100@decouvertebaie.com
SUMMARY:Rising tide and tidal bore 3 km
DESCRIPTION:
URL:https://decouvertebaie.com/en/evenement/rising-tide-and-tidal-bore-3-km-36/
END:VEVENT
BEGIN:VEVENT
DTSTART;TZID=Europe/Paris:20260503T120000
DTEND;TZID=Europe/Paris:20260503T120000
DTSTAMP:20260424T174305
CREATED:20251203T134219Z
LAST-MODIFIED:20251203T134219Z
UID:14632-1777809600-1777809600@decouvertebaie.com
SUMMARY:Crossing - Bay Discovery 14 km
DESCRIPTION:
URL:https://decouvertebaie.com/en/evenement/crossing-bay-discovery-14-km-149/
END:VEVENT
BEGIN:VEVENT
DTSTART;TZID=Europe/Paris:20260503T130000
DTEND;TZID=Europe/Paris:20260503T130000
DTSTAMP:20260424T174305
CREATED:20251203T134219Z
LAST-MODIFIED:20251203T134219Z
UID:14619-1777813200-1777813200@decouvertebaie.com
SUMMARY:Discover quicksand 2 km
DESCRIPTION:
URL:https://decouvertebaie.com/en/evenement/discover-quicksand-2-km-97/
END:VEVENT
BEGIN:VEVENT
DTSTART;TZID=Europe/Paris:20260503T151500
DTEND;TZID=Europe/Paris:20260503T151500
DTSTAMP:20260424T174305
CREATED:20251203T134234Z
LAST-MODIFIED:20251203T134234Z
UID:14624-1777821300-1777821300@decouvertebaie.com
SUMMARY:Short walk around Mont Saint-Michel 3 km
DESCRIPTION:
URL:https://decouvertebaie.com/en/evenement/short-walk-around-mont-saint-michel-3-km-66/
END:VEVENT
BEGIN:VEVENT
DTSTART;TZID=Europe/Paris:20260504T123000
DTEND;TZID=Europe/Paris:20260504T123000
DTSTAMP:20260424T174305
CREATED:20251203T134234Z
LAST-MODIFIED:20251203T134234Z
UID:14626-1777897800-1777897800@decouvertebaie.com
SUMMARY:Crossing - Bay Discovery 14 km
DESCRIPTION:
URL:https://decouvertebaie.com/en/evenement/crossing-bay-discovery-14-km-146/
END:VEVENT
BEGIN:VEVENT
DTSTART;TZID=Europe/Paris:20260507T130000
DTEND;TZID=Europe/Paris:20260507T130000
DTSTAMP:20260424T174305
CREATED:20251203T134234Z
LAST-MODIFIED:20251203T134234Z
UID:14629-1778158800-1778158800@decouvertebaie.com
SUMMARY:Crossing - Bay Discovery 14 km
DESCRIPTION:
URL:https://decouvertebaie.com/en/evenement/crossing-bay-discovery-14-km-148/
END:VEVENT
BEGIN:VEVENT
DTSTART;TZID=Europe/Paris:20260508T131500
DTEND;TZID=Europe/Paris:20260508T131500
DTSTAMP:20260424T174305
CREATED:20251203T134234Z
LAST-MODIFIED:20251203T134234Z
UID:14628-1778246100-1778246100@decouvertebaie.com
SUMMARY:Crossing - Bay Discovery 14 km
DESCRIPTION:
URL:https://decouvertebaie.com/en/evenement/crossing-bay-discovery-14-km-147/
END:VEVENT
BEGIN:VEVENT
DTSTART;TZID=Europe/Paris:20260508T140000
DTEND;TZID=Europe/Paris:20260508T140000
DTSTAMP:20260424T174305
CREATED:20251203T134249Z
LAST-MODIFIED:20251203T134249Z
UID:14587-1778248800-1778248800@decouvertebaie.com
SUMMARY:Short walk around Mont Saint-Michel 3 km
DESCRIPTION:
URL:https://decouvertebaie.com/en/evenement/short-walk-around-mont-saint-michel-3-km-64/
END:VEVENT
BEGIN:VEVENT
DTSTART;TZID=Europe/Paris:20260508T164500
DTEND;TZID=Europe/Paris:20260508T164500
DTSTAMP:20260424T174305
CREATED:20251203T134234Z
LAST-MODIFIED:20251203T134234Z
UID:14630-1778258700-1778258700@decouvertebaie.com
SUMMARY:Discover quicksand 2 km
DESCRIPTION:
URL:https://decouvertebaie.com/en/evenement/discover-quicksand-2-km-98/
END:VEVENT
BEGIN:VEVENT
DTSTART;TZID=Europe/Paris:20260509T131500
DTEND;TZID=Europe/Paris:20260509T131500
DTSTAMP:20260424T174305
CREATED:20251203T134249Z
LAST-MODIFIED:20251203T134249Z
UID:14583-1778332500-1778332500@decouvertebaie.com
SUMMARY:Bay Crossing - Bay Discovery\, 7 km\, return by bus
DESCRIPTION:
URL:https://decouvertebaie.com/en/evenement/bay-crossing-bay-discovery-7-km-return-by-bus-55/
END:VEVENT
BEGIN:VEVENT
DTSTART;TZID=Europe/Paris:20260509T131500
DTEND;TZID=Europe/Paris:20260509T131500
DTSTAMP:20260424T174305
CREATED:20251203T134249Z
LAST-MODIFIED:20251203T134249Z
UID:14589-1778332500-1778332500@decouvertebaie.com
SUMMARY:Crossing - Bay Discovery 14 km
DESCRIPTION:
URL:https://decouvertebaie.com/en/evenement/crossing-bay-discovery-14-km-132/
END:VEVENT
BEGIN:VEVENT
DTSTART;TZID=Europe/Paris:20260509T131500
DTEND;TZID=Europe/Paris:20260509T131500
DTSTAMP:20260424T174305
CREATED:20251203T134249Z
LAST-MODIFIED:20251203T134249Z
UID:14631-1778332500-1778332500@decouvertebaie.com
SUMMARY:Tales and legends of Mont Saint-Michel Bay 3 km
DESCRIPTION:
URL:https://decouvertebaie.com/en/evenement/tales-and-legends-of-mont-saint-michel-bay-3-km-19/
END:VEVENT
BEGIN:VEVENT
DTSTART;TZID=Europe/Paris:20260509T143000
DTEND;TZID=Europe/Paris:20260509T143000
DTSTAMP:20260424T174305
CREATED:20251203T134303Z
LAST-MODIFIED:20251203T134303Z
UID:14584-1778337000-1778337000@decouvertebaie.com
SUMMARY:Tombelaine Islet Discovery\, 7 km
DESCRIPTION:
URL:https://decouvertebaie.com/en/evenement/tombelaine-islet-discovery-7-km-57/
END:VEVENT
BEGIN:VEVENT
DTSTART;TZID=Europe/Paris:20260509T160000
DTEND;TZID=Europe/Paris:20260509T160000
DTSTAMP:20260424T174305
CREATED:20251203T134249Z
LAST-MODIFIED:20251203T134249Z
UID:14585-1778342400-1778342400@decouvertebaie.com
SUMMARY:Discover quicksand 2 km
DESCRIPTION:
URL:https://decouvertebaie.com/en/evenement/discover-quicksand-2-km-91/
END:VEVENT
BEGIN:VEVENT
DTSTART;TZID=Europe/Paris:20260512T100000
DTEND;TZID=Europe/Paris:20260512T100000
DTSTAMP:20260424T174305
CREATED:20251203T134303Z
LAST-MODIFIED:20251203T134303Z
UID:14591-1778580000-1778580000@decouvertebaie.com
SUMMARY:Crossing - Bay Discovery 14 km
DESCRIPTION:
URL:https://decouvertebaie.com/en/evenement/crossing-bay-discovery-14-km-134/
END:VEVENT
BEGIN:VEVENT
DTSTART;TZID=Europe/Paris:20260513T104500
DTEND;TZID=Europe/Paris:20260513T104500
DTSTAMP:20260424T174305
CREATED:20251203T134303Z
LAST-MODIFIED:20251203T134303Z
UID:14586-1778669100-1778669100@decouvertebaie.com
SUMMARY:Crossing - Bay Discovery 14 km
DESCRIPTION:
URL:https://decouvertebaie.com/en/evenement/crossing-bay-discovery-14-km-130/
END:VEVENT
BEGIN:VEVENT
DTSTART;TZID=Europe/Paris:20260514T093000
DTEND;TZID=Europe/Paris:20260514T093000
DTSTAMP:20260424T174305
CREATED:20251203T134304Z
LAST-MODIFIED:20251203T134304Z
UID:14590-1778751000-1778751000@decouvertebaie.com
SUMMARY:Crossing - Bay Discovery 14 km
DESCRIPTION:
URL:https://decouvertebaie.com/en/evenement/crossing-bay-discovery-14-km-133/
END:VEVENT
BEGIN:VEVENT
DTSTART;TZID=Europe/Paris:20260515T100000
DTEND;TZID=Europe/Paris:20260515T100000
DTSTAMP:20260424T174305
CREATED:20251203T134304Z
LAST-MODIFIED:20251203T134304Z
UID:14588-1778839200-1778839200@decouvertebaie.com
SUMMARY:Crossing - Bay Discovery 14 km
DESCRIPTION:
URL:https://decouvertebaie.com/en/evenement/crossing-bay-discovery-14-km-131/
END:VEVENT
BEGIN:VEVENT
DTSTART;TZID=Europe/Paris:20260515T100000
DTEND;TZID=Europe/Paris:20260515T100000
DTSTAMP:20260424T174305
CREATED:20251203T134319Z
LAST-MODIFIED:20251203T134319Z
UID:14592-1778839200-1778839200@decouvertebaie.com
SUMMARY:Bay Crossing - Bay Discovery\, 7 km\, return by bus
DESCRIPTION:
URL:https://decouvertebaie.com/en/evenement/bay-crossing-bay-discovery-7-km-return-by-bus-56/
END:VEVENT
BEGIN:VEVENT
DTSTART;TZID=Europe/Paris:20260515T130000
DTEND;TZID=Europe/Paris:20260515T130000
DTSTAMP:20260424T174305
CREATED:20251203T134320Z
LAST-MODIFIED:20251203T134320Z
UID:14599-1778850000-1778850000@decouvertebaie.com
SUMMARY:Tombelaine Islet Discovery\, 7 km
DESCRIPTION:
URL:https://decouvertebaie.com/en/evenement/tombelaine-islet-discovery-7-km-58/
END:VEVENT
BEGIN:VEVENT
DTSTART;TZID=Europe/Paris:20260515T131500
DTEND;TZID=Europe/Paris:20260515T131500
DTSTAMP:20260424T174305
CREATED:20251203T134320Z
LAST-MODIFIED:20251203T134320Z
UID:14593-1778850900-1778850900@decouvertebaie.com
SUMMARY:Discover quicksand 2 km
DESCRIPTION:
URL:https://decouvertebaie.com/en/evenement/discover-quicksand-2-km-92/
END:VEVENT
BEGIN:VEVENT
DTSTART;TZID=Europe/Paris:20260515T153000
DTEND;TZID=Europe/Paris:20260515T153000
DTSTAMP:20260424T174305
CREATED:20251203T134320Z
LAST-MODIFIED:20251203T134320Z
UID:14596-1778859000-1778859000@decouvertebaie.com
SUMMARY:Rising tide and tidal bore 3 km
DESCRIPTION:
URL:https://decouvertebaie.com/en/evenement/rising-tide-and-tidal-bore-3-km-34/
END:VEVENT
BEGIN:VEVENT
DTSTART;TZID=Europe/Paris:20260516T103000
DTEND;TZID=Europe/Paris:20260516T103000
DTSTAMP:20260424T174305
CREATED:20251203T134320Z
LAST-MODIFIED:20251203T134320Z
UID:14598-1778927400-1778927400@decouvertebaie.com
SUMMARY:Crossing - Bay Discovery 14 km
DESCRIPTION:
URL:https://decouvertebaie.com/en/evenement/crossing-bay-discovery-14-km-135/
END:VEVENT
BEGIN:VEVENT
DTSTART;TZID=Europe/Paris:20260516T103000
DTEND;TZID=Europe/Paris:20260516T103000
DTSTAMP:20260424T174305
CREATED:20251203T134520Z
LAST-MODIFIED:20251203T134520Z
UID:14594-1778927400-1778927400@decouvertebaie.com
SUMMARY:Bay Crossing - Bay Discovery\, 7 km\, return by bus
DESCRIPTION:
URL:https://decouvertebaie.com/en/evenement/bay-crossing-bay-discovery-7-km-return-by-bus-57/
END:VEVENT
BEGIN:VEVENT
DTSTART;TZID=Europe/Paris:20260516T133000
DTEND;TZID=Europe/Paris:20260516T133000
DTSTAMP:20260424T174305
CREATED:20251203T134520Z
LAST-MODIFIED:20251203T134520Z
UID:14595-1778938200-1778938200@decouvertebaie.com
SUMMARY:Crossing - Discover the spring tides with bus return 7 km
DESCRIPTION:
URL:https://decouvertebaie.com/en/evenement/crossing-discover-the-spring-tides-with-bus-return-7-km-5/
END:VEVENT
END:VCALENDAR