BEGIN:VCALENDAR
VERSION:2.0
PRODID:-//Découverte de la Baie - ECPv6.15.20//NONSGML v1.0//EN
CALSCALE:GREGORIAN
METHOD:PUBLISH
X-WR-CALNAME:Découverte de la Baie
X-ORIGINAL-URL:https://decouvertebaie.com/en/
X-WR-CALDESC:Events for Découverte de la Baie
REFRESH-INTERVAL;VALUE=DURATION:PT1H
X-Robots-Tag:noindex
X-PUBLISHED-TTL:PT1H
BEGIN:VTIMEZONE
TZID:Europe/Paris
BEGIN:DAYLIGHT
TZOFFSETFROM:+0100
TZOFFSETTO:+0200
TZNAME:CEST
DTSTART:19760328T000000
END:DAYLIGHT
BEGIN:STANDARD
TZOFFSETFROM:+0200
TZOFFSETTO:+0100
TZNAME:CET
DTSTART:19760925T230000
END:STANDARD
BEGIN:DAYLIGHT
TZOFFSETFROM:+0100
TZOFFSETTO:+0200
TZNAME:CEST
DTSTART:19770403T010000
END:DAYLIGHT
BEGIN:STANDARD
TZOFFSETFROM:+0200
TZOFFSETTO:+0100
TZNAME:CET
DTSTART:19770925T010000
END:STANDARD
BEGIN:DAYLIGHT
TZOFFSETFROM:+0100
TZOFFSETTO:+0200
TZNAME:CEST
DTSTART:19780402T010000
END:DAYLIGHT
BEGIN:STANDARD
TZOFFSETFROM:+0200
TZOFFSETTO:+0100
TZNAME:CET
DTSTART:19781001T010000
END:STANDARD
BEGIN:DAYLIGHT
TZOFFSETFROM:+0100
TZOFFSETTO:+0200
TZNAME:CEST
DTSTART:19790401T010000
END:DAYLIGHT
BEGIN:STANDARD
TZOFFSETFROM:+0200
TZOFFSETTO:+0100
TZNAME:CET
DTSTART:19790930T010000
END:STANDARD
BEGIN:DAYLIGHT
TZOFFSETFROM:+0100
TZOFFSETTO:+0200
TZNAME:CEST
DTSTART:19800406T010000
END:DAYLIGHT
BEGIN:STANDARD
TZOFFSETFROM:+0200
TZOFFSETTO:+0100
TZNAME:CET
DTSTART:19800928T010000
END:STANDARD
BEGIN:DAYLIGHT
TZOFFSETFROM:+0100
TZOFFSETTO:+0200
TZNAME:CEST
DTSTART:19810329T010000
END:DAYLIGHT
BEGIN:STANDARD
TZOFFSETFROM:+0200
TZOFFSETTO:+0100
TZNAME:CET
DTSTART:19810927T010000
END:STANDARD
BEGIN:DAYLIGHT
TZOFFSETFROM:+0100
TZOFFSETTO:+0200
TZNAME:CEST
DTSTART:19820328T010000
END:DAYLIGHT
BEGIN:STANDARD
TZOFFSETFROM:+0200
TZOFFSETTO:+0100
TZNAME:CET
DTSTART:19820926T010000
END:STANDARD
BEGIN:DAYLIGHT
TZOFFSETFROM:+0100
TZOFFSETTO:+0200
TZNAME:CEST
DTSTART:19830327T010000
END:DAYLIGHT
BEGIN:STANDARD
TZOFFSETFROM:+0200
TZOFFSETTO:+0100
TZNAME:CET
DTSTART:19830925T010000
END:STANDARD
BEGIN:DAYLIGHT
TZOFFSETFROM:+0100
TZOFFSETTO:+0200
TZNAME:CEST
DTSTART:19840325T010000
END:DAYLIGHT
BEGIN:STANDARD
TZOFFSETFROM:+0200
TZOFFSETTO:+0100
TZNAME:CET
DTSTART:19840930T010000
END:STANDARD
BEGIN:DAYLIGHT
TZOFFSETFROM:+0100
TZOFFSETTO:+0200
TZNAME:CEST
DTSTART:19850331T010000
END:DAYLIGHT
BEGIN:STANDARD
TZOFFSETFROM:+0200
TZOFFSETTO:+0100
TZNAME:CET
DTSTART:19850929T010000
END:STANDARD
BEGIN:DAYLIGHT
TZOFFSETFROM:+0100
TZOFFSETTO:+0200
TZNAME:CEST
DTSTART:19860330T010000
END:DAYLIGHT
BEGIN:STANDARD
TZOFFSETFROM:+0200
TZOFFSETTO:+0100
TZNAME:CET
DTSTART:19860928T010000
END:STANDARD
BEGIN:DAYLIGHT
TZOFFSETFROM:+0100
TZOFFSETTO:+0200
TZNAME:CEST
DTSTART:19870329T010000
END:DAYLIGHT
BEGIN:STANDARD
TZOFFSETFROM:+0200
TZOFFSETTO:+0100
TZNAME:CET
DTSTART:19870927T010000
END:STANDARD
BEGIN:DAYLIGHT
TZOFFSETFROM:+0100
TZOFFSETTO:+0200
TZNAME:CEST
DTSTART:19880327T010000
END:DAYLIGHT
BEGIN:STANDARD
TZOFFSETFROM:+0200
TZOFFSETTO:+0100
TZNAME:CET
DTSTART:19880925T010000
END:STANDARD
BEGIN:DAYLIGHT
TZOFFSETFROM:+0100
TZOFFSETTO:+0200
TZNAME:CEST
DTSTART:19890326T010000
END:DAYLIGHT
BEGIN:STANDARD
TZOFFSETFROM:+0200
TZOFFSETTO:+0100
TZNAME:CET
DTSTART:19890924T010000
END:STANDARD
BEGIN:DAYLIGHT
TZOFFSETFROM:+0100
TZOFFSETTO:+0200
TZNAME:CEST
DTSTART:19900325T010000
END:DAYLIGHT
BEGIN:STANDARD
TZOFFSETFROM:+0200
TZOFFSETTO:+0100
TZNAME:CET
DTSTART:19900930T010000
END:STANDARD
BEGIN:DAYLIGHT
TZOFFSETFROM:+0100
TZOFFSETTO:+0200
TZNAME:CEST
DTSTART:19910331T010000
END:DAYLIGHT
BEGIN:STANDARD
TZOFFSETFROM:+0200
TZOFFSETTO:+0100
TZNAME:CET
DTSTART:19910929T010000
END:STANDARD
BEGIN:DAYLIGHT
TZOFFSETFROM:+0100
TZOFFSETTO:+0200
TZNAME:CEST
DTSTART:19920329T010000
END:DAYLIGHT
BEGIN:STANDARD
TZOFFSETFROM:+0200
TZOFFSETTO:+0100
TZNAME:CET
DTSTART:19920927T010000
END:STANDARD
BEGIN:DAYLIGHT
TZOFFSETFROM:+0100
TZOFFSETTO:+0200
TZNAME:CEST
DTSTART:19930328T010000
END:DAYLIGHT
BEGIN:STANDARD
TZOFFSETFROM:+0200
TZOFFSETTO:+0100
TZNAME:CET
DTSTART:19930926T010000
END:STANDARD
BEGIN:DAYLIGHT
TZOFFSETFROM:+0100
TZOFFSETTO:+0200
TZNAME:CEST
DTSTART:19940327T010000
END:DAYLIGHT
BEGIN:STANDARD
TZOFFSETFROM:+0200
TZOFFSETTO:+0100
TZNAME:CET
DTSTART:19940925T010000
END:STANDARD
BEGIN:DAYLIGHT
TZOFFSETFROM:+0100
TZOFFSETTO:+0200
TZNAME:CEST
DTSTART:19950326T010000
END:DAYLIGHT
BEGIN:STANDARD
TZOFFSETFROM:+0200
TZOFFSETTO:+0100
TZNAME:CET
DTSTART:19950924T010000
END:STANDARD
BEGIN:DAYLIGHT
TZOFFSETFROM:+0100
TZOFFSETTO:+0200
TZNAME:CEST
DTSTART:19960331T010000
END:DAYLIGHT
BEGIN:STANDARD
TZOFFSETFROM:+0200
TZOFFSETTO:+0100
TZNAME:CET
DTSTART:19961027T010000
END:STANDARD
BEGIN:DAYLIGHT
TZOFFSETFROM:+0100
TZOFFSETTO:+0200
TZNAME:CEST
DTSTART:19970330T010000
END:DAYLIGHT
BEGIN:STANDARD
TZOFFSETFROM:+0200
TZOFFSETTO:+0100
TZNAME:CET
DTSTART:19971026T010000
END:STANDARD
BEGIN:DAYLIGHT
TZOFFSETFROM:+0100
TZOFFSETTO:+0200
TZNAME:CEST
DTSTART:19980329T010000
END:DAYLIGHT
BEGIN:STANDARD
TZOFFSETFROM:+0200
TZOFFSETTO:+0100
TZNAME:CET
DTSTART:19981025T010000
END:STANDARD
BEGIN:DAYLIGHT
TZOFFSETFROM:+0100
TZOFFSETTO:+0200
TZNAME:CEST
DTSTART:19990328T010000
END:DAYLIGHT
BEGIN:STANDARD
TZOFFSETFROM:+0200
TZOFFSETTO:+0100
TZNAME:CET
DTSTART:19991031T010000
END:STANDARD
BEGIN:DAYLIGHT
TZOFFSETFROM:+0100
TZOFFSETTO:+0200
TZNAME:CEST
DTSTART:20000326T010000
END:DAYLIGHT
BEGIN:STANDARD
TZOFFSETFROM:+0200
TZOFFSETTO:+0100
TZNAME:CET
DTSTART:20001029T010000
END:STANDARD
BEGIN:DAYLIGHT
TZOFFSETFROM:+0100
TZOFFSETTO:+0200
TZNAME:CEST
DTSTART:20010325T010000
END:DAYLIGHT
BEGIN:STANDARD
TZOFFSETFROM:+0200
TZOFFSETTO:+0100
TZNAME:CET
DTSTART:20011028T010000
END:STANDARD
BEGIN:DAYLIGHT
TZOFFSETFROM:+0100
TZOFFSETTO:+0200
TZNAME:CEST
DTSTART:20020331T010000
END:DAYLIGHT
BEGIN:STANDARD
TZOFFSETFROM:+0200
TZOFFSETTO:+0100
TZNAME:CET
DTSTART:20021027T010000
END:STANDARD
BEGIN:DAYLIGHT
TZOFFSETFROM:+0100
TZOFFSETTO:+0200
TZNAME:CEST
DTSTART:20030330T010000
END:DAYLIGHT
BEGIN:STANDARD
TZOFFSETFROM:+0200
TZOFFSETTO:+0100
TZNAME:CET
DTSTART:20031026T010000
END:STANDARD
BEGIN:DAYLIGHT
TZOFFSETFROM:+0100
TZOFFSETTO:+0200
TZNAME:CEST
DTSTART:20040328T010000
END:DAYLIGHT
BEGIN:STANDARD
TZOFFSETFROM:+0200
TZOFFSETTO:+0100
TZNAME:CET
DTSTART:20041031T010000
END:STANDARD
BEGIN:DAYLIGHT
TZOFFSETFROM:+0100
TZOFFSETTO:+0200
TZNAME:CEST
DTSTART:20050327T010000
END:DAYLIGHT
BEGIN:STANDARD
TZOFFSETFROM:+0200
TZOFFSETTO:+0100
TZNAME:CET
DTSTART:20051030T010000
END:STANDARD
BEGIN:DAYLIGHT
TZOFFSETFROM:+0100
TZOFFSETTO:+0200
TZNAME:CEST
DTSTART:20060326T010000
END:DAYLIGHT
BEGIN:STANDARD
TZOFFSETFROM:+0200
TZOFFSETTO:+0100
TZNAME:CET
DTSTART:20061029T010000
END:STANDARD
BEGIN:DAYLIGHT
TZOFFSETFROM:+0100
TZOFFSETTO:+0200
TZNAME:CEST
DTSTART:20070325T010000
END:DAYLIGHT
BEGIN:STANDARD
TZOFFSETFROM:+0200
TZOFFSETTO:+0100
TZNAME:CET
DTSTART:20071028T010000
END:STANDARD
BEGIN:DAYLIGHT
TZOFFSETFROM:+0100
TZOFFSETTO:+0200
TZNAME:CEST
DTSTART:20080330T010000
END:DAYLIGHT
BEGIN:STANDARD
TZOFFSETFROM:+0200
TZOFFSETTO:+0100
TZNAME:CET
DTSTART:20081026T010000
END:STANDARD
BEGIN:DAYLIGHT
TZOFFSETFROM:+0100
TZOFFSETTO:+0200
TZNAME:CEST
DTSTART:20090329T010000
END:DAYLIGHT
BEGIN:STANDARD
TZOFFSETFROM:+0200
TZOFFSETTO:+0100
TZNAME:CET
DTSTART:20091025T010000
END:STANDARD
BEGIN:DAYLIGHT
TZOFFSETFROM:+0100
TZOFFSETTO:+0200
TZNAME:CEST
DTSTART:20100328T010000
END:DAYLIGHT
BEGIN:STANDARD
TZOFFSETFROM:+0200
TZOFFSETTO:+0100
TZNAME:CET
DTSTART:20101031T010000
END:STANDARD
BEGIN:DAYLIGHT
TZOFFSETFROM:+0100
TZOFFSETTO:+0200
TZNAME:CEST
DTSTART:20110327T010000
END:DAYLIGHT
BEGIN:STANDARD
TZOFFSETFROM:+0200
TZOFFSETTO:+0100
TZNAME:CET
DTSTART:20111030T010000
END:STANDARD
BEGIN:DAYLIGHT
TZOFFSETFROM:+0100
TZOFFSETTO:+0200
TZNAME:CEST
DTSTART:20120325T010000
END:DAYLIGHT
BEGIN:STANDARD
TZOFFSETFROM:+0200
TZOFFSETTO:+0100
TZNAME:CET
DTSTART:20121028T010000
END:STANDARD
BEGIN:DAYLIGHT
TZOFFSETFROM:+0100
TZOFFSETTO:+0200
TZNAME:CEST
DTSTART:20130331T010000
END:DAYLIGHT
BEGIN:STANDARD
TZOFFSETFROM:+0200
TZOFFSETTO:+0100
TZNAME:CET
DTSTART:20131027T010000
END:STANDARD
BEGIN:DAYLIGHT
TZOFFSETFROM:+0100
TZOFFSETTO:+0200
TZNAME:CEST
DTSTART:20140330T010000
END:DAYLIGHT
BEGIN:STANDARD
TZOFFSETFROM:+0200
TZOFFSETTO:+0100
TZNAME:CET
DTSTART:20141026T010000
END:STANDARD
BEGIN:DAYLIGHT
TZOFFSETFROM:+0100
TZOFFSETTO:+0200
TZNAME:CEST
DTSTART:20150329T010000
END:DAYLIGHT
BEGIN:STANDARD
TZOFFSETFROM:+0200
TZOFFSETTO:+0100
TZNAME:CET
DTSTART:20151025T010000
END:STANDARD
BEGIN:DAYLIGHT
TZOFFSETFROM:+0100
TZOFFSETTO:+0200
TZNAME:CEST
DTSTART:20160327T010000
END:DAYLIGHT
BEGIN:STANDARD
TZOFFSETFROM:+0200
TZOFFSETTO:+0100
TZNAME:CET
DTSTART:20161030T010000
END:STANDARD
BEGIN:DAYLIGHT
TZOFFSETFROM:+0100
TZOFFSETTO:+0200
TZNAME:CEST
DTSTART:20170326T010000
END:DAYLIGHT
BEGIN:STANDARD
TZOFFSETFROM:+0200
TZOFFSETTO:+0100
TZNAME:CET
DTSTART:20171029T010000
END:STANDARD
BEGIN:DAYLIGHT
TZOFFSETFROM:+0100
TZOFFSETTO:+0200
TZNAME:CEST
DTSTART:20180325T010000
END:DAYLIGHT
BEGIN:STANDARD
TZOFFSETFROM:+0200
TZOFFSETTO:+0100
TZNAME:CET
DTSTART:20181028T010000
END:STANDARD
BEGIN:DAYLIGHT
TZOFFSETFROM:+0100
TZOFFSETTO:+0200
TZNAME:CEST
DTSTART:20190331T010000
END:DAYLIGHT
BEGIN:STANDARD
TZOFFSETFROM:+0200
TZOFFSETTO:+0100
TZNAME:CET
DTSTART:20191027T010000
END:STANDARD
BEGIN:DAYLIGHT
TZOFFSETFROM:+0100
TZOFFSETTO:+0200
TZNAME:CEST
DTSTART:20200329T010000
END:DAYLIGHT
BEGIN:STANDARD
TZOFFSETFROM:+0200
TZOFFSETTO:+0100
TZNAME:CET
DTSTART:20201025T010000
END:STANDARD
BEGIN:DAYLIGHT
TZOFFSETFROM:+0100
TZOFFSETTO:+0200
TZNAME:CEST
DTSTART:20210328T010000
END:DAYLIGHT
BEGIN:STANDARD
TZOFFSETFROM:+0200
TZOFFSETTO:+0100
TZNAME:CET
DTSTART:20211031T010000
END:STANDARD
BEGIN:DAYLIGHT
TZOFFSETFROM:+0100
TZOFFSETTO:+0200
TZNAME:CEST
DTSTART:20220327T010000
END:DAYLIGHT
BEGIN:STANDARD
TZOFFSETFROM:+0200
TZOFFSETTO:+0100
TZNAME:CET
DTSTART:20221030T010000
END:STANDARD
BEGIN:DAYLIGHT
TZOFFSETFROM:+0100
TZOFFSETTO:+0200
TZNAME:CEST
DTSTART:20230326T010000
END:DAYLIGHT
BEGIN:STANDARD
TZOFFSETFROM:+0200
TZOFFSETTO:+0100
TZNAME:CET
DTSTART:20231029T010000
END:STANDARD
BEGIN:DAYLIGHT
TZOFFSETFROM:+0100
TZOFFSETTO:+0200
TZNAME:CEST
DTSTART:20240331T010000
END:DAYLIGHT
BEGIN:STANDARD
TZOFFSETFROM:+0200
TZOFFSETTO:+0100
TZNAME:CET
DTSTART:20241027T010000
END:STANDARD
BEGIN:DAYLIGHT
TZOFFSETFROM:+0100
TZOFFSETTO:+0200
TZNAME:CEST
DTSTART:20250330T010000
END:DAYLIGHT
BEGIN:STANDARD
TZOFFSETFROM:+0200
TZOFFSETTO:+0100
TZNAME:CET
DTSTART:20251026T010000
END:STANDARD
BEGIN:DAYLIGHT
TZOFFSETFROM:+0100
TZOFFSETTO:+0200
TZNAME:CEST
DTSTART:20260329T010000
END:DAYLIGHT
BEGIN:STANDARD
TZOFFSETFROM:+0200
TZOFFSETTO:+0100
TZNAME:CET
DTSTART:20261025T010000
END:STANDARD
BEGIN:DAYLIGHT
TZOFFSETFROM:+0100
TZOFFSETTO:+0200
TZNAME:CEST
DTSTART:20270328T010000
END:DAYLIGHT
BEGIN:STANDARD
TZOFFSETFROM:+0200
TZOFFSETTO:+0100
TZNAME:CET
DTSTART:20271031T010000
END:STANDARD
END:VTIMEZONE
BEGIN:VEVENT
DTSTART;TZID=Europe/Paris:20260124T143000
DTEND;TZID=Europe/Paris:20260124T143000
DTSTAMP:20260424T174012
CREATED:20251231T135401Z
LAST-MODIFIED:20251231T135401Z
UID:14581-1769265000-1769265000@decouvertebaie.com
SUMMARY:Short walk around Mont Saint-Michel 3 km
DESCRIPTION:
URL:https://decouvertebaie.com/en/evenement/short-walk-around-mont-saint-michel-3-km-63/
END:VEVENT
BEGIN:VEVENT
DTSTART;TZID=Europe/Paris:20260107T151500
DTEND;TZID=Europe/Paris:20260107T151500
DTSTAMP:20260424T174012
CREATED:20260218T145242Z
LAST-MODIFIED:20260218T145242Z
UID:14495-1767798900-1767798900@decouvertebaie.com
SUMMARY:Short walk around Mont Saint-Michel 3 km
DESCRIPTION:Departure: Mont St Michel – Duration: 2 hours – Distance: 3 km
URL:https://decouvertebaie.com/en/evenement/short-walk-around-mont-saint-michel-3-km-53/
END:VEVENT
BEGIN:VEVENT
DTSTART;TZID=Europe/Paris:20260107T130000
DTEND;TZID=Europe/Paris:20260107T130000
DTSTAMP:20260424T174012
CREATED:20260218T145242Z
LAST-MODIFIED:20260218T145242Z
UID:14497-1767790800-1767790800@decouvertebaie.com
SUMMARY:Discover quicksand 2 km
DESCRIPTION:Departure Mont St Michel – Duration: 1h30 – Distance: 2 km
URL:https://decouvertebaie.com/en/evenement/discover-quicksand-2-km-75/
END:VEVENT
BEGIN:VEVENT
DTSTART;TZID=Europe/Paris:20260107T120000
DTEND;TZID=Europe/Paris:20260107T120000
DTSTAMP:20260424T174012
CREATED:20260218T145242Z
LAST-MODIFIED:20260218T145242Z
UID:14500-1767787200-1767787200@decouvertebaie.com
SUMMARY:Bay Crossing - Bay Discovery\, 7 km\, return by bus
DESCRIPTION:Departure from Bec d’Andaine – Duration: 6:30 – Distance: 7 km
URL:https://decouvertebaie.com/en/evenement/bay-crossing-bay-discovery-7-km-return-by-bus-44/
END:VEVENT
BEGIN:VEVENT
DTSTART;TZID=Europe/Paris:20260107T120000
DTEND;TZID=Europe/Paris:20260107T120000
DTSTAMP:20260424T174012
CREATED:20260218T145241Z
LAST-MODIFIED:20260218T145241Z
UID:14493-1767787200-1767787200@decouvertebaie.com
SUMMARY:Crossing - Bay Discovery 14 km
DESCRIPTION:Departure Bec d’Andaine – Duration: 6:00 – Distance: 14 km
URL:https://decouvertebaie.com/en/evenement/crossing-bay-discovery-14-km-97/
END:VEVENT
BEGIN:VEVENT
DTSTART;TZID=Europe/Paris:20251226T131500
DTEND;TZID=Europe/Paris:20251226T131500
DTSTAMP:20260424T174012
CREATED:20251219T125602Z
LAST-MODIFIED:20251219T125602Z
UID:14580-1766754900-1766754900@decouvertebaie.com
SUMMARY:Discover quicksand 2 km
DESCRIPTION:Departure Mont St Michel – Duration: 1h30 – Distance: 2 km
URL:https://decouvertebaie.com/en/evenement/discover-quicksand-2-km-90/
END:VEVENT
BEGIN:VEVENT
DTSTART;TZID=Europe/Paris:20251223T131500
DTEND;TZID=Europe/Paris:20251223T131500
DTSTAMP:20260424T174012
CREATED:20251219T124752Z
LAST-MODIFIED:20251219T124752Z
UID:14579-1766495700-1766495700@decouvertebaie.com
SUMMARY:Discover quicksand 2 km
DESCRIPTION:Departure Mont St Michel – Duration: 1h30 – Distance: 2 km
URL:https://decouvertebaie.com/en/evenement/discover-quicksand-2-km-89/
END:VEVENT
BEGIN:VEVENT
DTSTART;TZID=Europe/Paris:20260424T174012
DTEND;TZID=Europe/Paris:20260424T174012
DTSTAMP:20260424T174012
CREATED:20260218T145615Z
LAST-MODIFIED:20260218T145615Z
UID:14468-0-0@decouvertebaie.com
SUMMARY:Tales and legends of Mont Saint-Michel Bay 3 km
DESCRIPTION:Departure: Mont St Michel – Duration: 2 hours – Distance: 3 km
URL:https://decouvertebaie.com/en/evenement/tales-and-legends-of-mont-saint-michel-bay-3-km-14/
END:VEVENT
BEGIN:VEVENT
DTSTART;TZID=Europe/Paris:20260424T174012
DTEND;TZID=Europe/Paris:20260424T174012
DTSTAMP:20260424T174012
CREATED:20260218T145614Z
LAST-MODIFIED:20260218T145614Z
UID:14466-0-0@decouvertebaie.com
SUMMARY:Sunset - short walk around Mont Saint-Michel 3 km
DESCRIPTION:Departure: Mont St Michel – Duration: 2 hours – Distance: 3 km
URL:https://decouvertebaie.com/en/evenement/sunset-short-walk-around-mont-saint-michel-3-km-11/
END:VEVENT
BEGIN:VEVENT
DTSTART;TZID=Europe/Paris:20260424T174012
DTEND;TZID=Europe/Paris:20260424T174012
DTSTAMP:20260424T174012
CREATED:20260218T145600Z
LAST-MODIFIED:20260218T145600Z
UID:14465-0-0@decouvertebaie.com
SUMMARY:Short walk around Mont Saint-Michel 3 km
DESCRIPTION:Departure: Mont St Michel – Duration: 2 hours – Distance: 3 km
URL:https://decouvertebaie.com/en/evenement/short-walk-around-mont-saint-michel-3-km-48/
END:VEVENT
BEGIN:VEVENT
DTSTART;TZID=Europe/Paris:20260424T174012
DTEND;TZID=Europe/Paris:20260424T174012
DTSTAMP:20260424T174012
CREATED:20260218T145515Z
LAST-MODIFIED:20260218T145515Z
UID:14462-0-0@decouvertebaie.com
SUMMARY:Crossing - Discover the spring tides with bus return 7 km
DESCRIPTION:Departure from Bec d’Andaine – Duration: 6:30 – Distance: 7 km
URL:https://decouvertebaie.com/en/evenement/crossing-discover-the-spring-tides-with-bus-return-7-km-4/
END:VEVENT
BEGIN:VEVENT
DTSTART;TZID=Europe/Paris:20260424T174012
DTEND;TZID=Europe/Paris:20260424T174012
DTSTAMP:20260424T174012
CREATED:20260218T145500Z
LAST-MODIFIED:20260218T145500Z
UID:14458-0-0@decouvertebaie.com
SUMMARY:Discovery walk for little feet at Bec d'Andaine 2 km
DESCRIPTION:Departure: Bec d’Andaine – Duration: 2:00 – Distance: 2 km
URL:https://decouvertebaie.com/en/evenement/discovery-walk-for-little-feet-at-bec-dandaine-2-km-7/
END:VEVENT
BEGIN:VEVENT
DTSTART;TZID=Europe/Paris:20260424T174012
DTEND;TZID=Europe/Paris:20260424T174012
DTSTAMP:20260424T174012
CREATED:20260218T145500Z
LAST-MODIFIED:20260218T145500Z
UID:14460-0-0@decouvertebaie.com
SUMMARY:Rising tide and tidal bore 3 km
DESCRIPTION:Departure: Mont St Michel – Duration: 2 hours – Distance: 3 km
URL:https://decouvertebaie.com/en/evenement/rising-tide-and-tidal-bore-3-km-30/
END:VEVENT
BEGIN:VEVENT
DTSTART;TZID=Europe/Paris:20260424T174012
DTEND;TZID=Europe/Paris:20260424T174012
DTSTAMP:20260424T174012
CREATED:20260218T145445Z
LAST-MODIFIED:20260218T145445Z
UID:14464-0-0@decouvertebaie.com
SUMMARY:Crossing - Bay Discovery 14 km
DESCRIPTION:Departure Bec d’Andaine – Duration: 6:00 – Distance: 14 km
URL:https://decouvertebaie.com/en/evenement/crossing-bay-discovery-14-km-90/
END:VEVENT
BEGIN:VEVENT
DTSTART;TZID=Europe/Paris:20260424T174012
DTEND;TZID=Europe/Paris:20260424T174012
DTSTAMP:20260424T174012
CREATED:20260218T145445Z
LAST-MODIFIED:20260218T145445Z
UID:14467-0-0@decouvertebaie.com
SUMMARY:Bay Crossing - Bay Discovery\, 7 km\, return by bus
DESCRIPTION:Departure from Bec d’Andaine – Duration: 6:30 – Distance: 7 km
URL:https://decouvertebaie.com/en/evenement/bay-crossing-bay-discovery-7-km-return-by-bus-40/
END:VEVENT
END:VCALENDAR