BEGIN:VCALENDAR
VERSION:2.0
PRODID:-//Découverte de la Baie - ECPv6.15.20//NONSGML v1.0//EN
CALSCALE:GREGORIAN
METHOD:PUBLISH
X-WR-CALNAME:Découverte de la Baie
X-ORIGINAL-URL:https://decouvertebaie.com/en/
X-WR-CALDESC:Events for Découverte de la Baie
REFRESH-INTERVAL;VALUE=DURATION:PT1H
X-Robots-Tag:noindex
X-PUBLISHED-TTL:PT1H
BEGIN:VTIMEZONE
TZID:Europe/Paris
BEGIN:DAYLIGHT
TZOFFSETFROM:+0100
TZOFFSETTO:+0200
TZNAME:CEST
DTSTART:20250330T010000
END:DAYLIGHT
BEGIN:STANDARD
TZOFFSETFROM:+0200
TZOFFSETTO:+0100
TZNAME:CET
DTSTART:20251026T010000
END:STANDARD
BEGIN:DAYLIGHT
TZOFFSETFROM:+0100
TZOFFSETTO:+0200
TZNAME:CEST
DTSTART:20260329T010000
END:DAYLIGHT
BEGIN:STANDARD
TZOFFSETFROM:+0200
TZOFFSETTO:+0100
TZNAME:CET
DTSTART:20261025T010000
END:STANDARD
BEGIN:DAYLIGHT
TZOFFSETFROM:+0100
TZOFFSETTO:+0200
TZNAME:CEST
DTSTART:20270328T010000
END:DAYLIGHT
BEGIN:STANDARD
TZOFFSETFROM:+0200
TZOFFSETTO:+0100
TZNAME:CET
DTSTART:20271031T010000
END:STANDARD
END:VTIMEZONE
BEGIN:VEVENT
DTSTART;TZID=Europe/Paris:20260420T130000
DTEND;TZID=Europe/Paris:20260420T130000
DTSTAMP:20260420T151017
CREATED:20251127T190314Z
LAST-MODIFIED:20251127T190314Z
UID:14177-1776690000-1776690000@decouvertebaie.com
SUMMARY:Crossing - Bay Discovery 14 km
DESCRIPTION:
URL:https://decouvertebaie.com/en/evenement/crossing-bay-discovery-14-km-25/
END:VEVENT
BEGIN:VEVENT
DTSTART;TZID=Europe/Paris:20260420T140000
DTEND;TZID=Europe/Paris:20260420T140000
DTSTAMP:20260420T151017
CREATED:20251127T190314Z
LAST-MODIFIED:20251127T190314Z
UID:14178-1776693600-1776693600@decouvertebaie.com
SUMMARY:Discover quicksand 2 km
DESCRIPTION:
URL:https://decouvertebaie.com/en/evenement/discover-quicksand-2-km-21/
END:VEVENT
BEGIN:VEVENT
DTSTART;TZID=Europe/Paris:20260420T143000
DTEND;TZID=Europe/Paris:20260420T143000
DTSTAMP:20260420T151017
CREATED:20251127T190314Z
LAST-MODIFIED:20251127T190314Z
UID:14174-1776695400-1776695400@decouvertebaie.com
SUMMARY:Tombelaine Islet Discovery\, 7 km
DESCRIPTION:
URL:https://decouvertebaie.com/en/evenement/tombelaine-islet-discovery-7-km-6/
END:VEVENT
BEGIN:VEVENT
DTSTART;TZID=Europe/Paris:20260420T184500
DTEND;TZID=Europe/Paris:20260420T184500
DTSTAMP:20260420T151017
CREATED:20251127T190329Z
LAST-MODIFIED:20251127T190329Z
UID:14173-1776710700-1776710700@decouvertebaie.com
SUMMARY:Rising tide and tidal bore 3 km
DESCRIPTION:
URL:https://decouvertebaie.com/en/evenement/rising-tide-and-tidal-bore-3-km-7/
END:VEVENT
BEGIN:VEVENT
DTSTART;TZID=Europe/Paris:20260421T133000
DTEND;TZID=Europe/Paris:20260421T133000
DTSTAMP:20260420T151017
CREATED:20251127T190329Z
LAST-MODIFIED:20251127T190329Z
UID:14172-1776778200-1776778200@decouvertebaie.com
SUMMARY:Crossing - Bay Discovery 14 km
DESCRIPTION:
URL:https://decouvertebaie.com/en/evenement/crossing-bay-discovery-14-km-24/
END:VEVENT
BEGIN:VEVENT
DTSTART;TZID=Europe/Paris:20260421T164500
DTEND;TZID=Europe/Paris:20260421T164500
DTSTAMP:20260420T151017
CREATED:20251127T190329Z
LAST-MODIFIED:20260310T113420Z
UID:14169-1776789900-1776789900@decouvertebaie.com
SUMMARY:Short walk around Mont Saint-Michel 3 km
DESCRIPTION:
URL:https://decouvertebaie.com/en/evenement/short-walk-around-mont-saint-michel-3-km-18/
END:VEVENT
BEGIN:VEVENT
DTSTART;TZID=Europe/Paris:20260421T164500
DTEND;TZID=Europe/Paris:20260421T164500
DTSTAMP:20260420T151017
CREATED:20251127T190329Z
LAST-MODIFIED:20260322T073048Z
UID:14171-1776789900-1776789900@decouvertebaie.com
SUMMARY:Discover quicksand 2 km
DESCRIPTION:
URL:https://decouvertebaie.com/en/evenement/discover-quicksand-2-km-20/
END:VEVENT
BEGIN:VEVENT
DTSTART;TZID=Europe/Paris:20260422T123000
DTEND;TZID=Europe/Paris:20260422T123000
DTSTAMP:20260420T151017
CREATED:20251127T190329Z
LAST-MODIFIED:20251127T190329Z
UID:14168-1776861000-1776861000@decouvertebaie.com
SUMMARY:Crossing - Bay Discovery 14 km
DESCRIPTION:
URL:https://decouvertebaie.com/en/evenement/crossing-bay-discovery-14-km-23/
END:VEVENT
BEGIN:VEVENT
DTSTART;TZID=Europe/Paris:20260423T130000
DTEND;TZID=Europe/Paris:20260423T130000
DTSTAMP:20260420T151017
CREATED:20251127T190344Z
LAST-MODIFIED:20251127T190344Z
UID:14167-1776949200-1776949200@decouvertebaie.com
SUMMARY:Crossing - Bay Discovery 14 km
DESCRIPTION:
URL:https://decouvertebaie.com/en/evenement/crossing-bay-discovery-14-km-22/
END:VEVENT
BEGIN:VEVENT
DTSTART;TZID=Europe/Paris:20260423T140000
DTEND;TZID=Europe/Paris:20260423T140000
DTSTAMP:20260420T151017
CREATED:20251127T190344Z
LAST-MODIFIED:20251127T190344Z
UID:14166-1776952800-1776952800@decouvertebaie.com
SUMMARY:Short walk around Mont Saint-Michel 3 km
DESCRIPTION:
URL:https://decouvertebaie.com/en/evenement/short-walk-around-mont-saint-michel-3-km-17/
END:VEVENT
BEGIN:VEVENT
DTSTART;TZID=Europe/Paris:20260423T144500
DTEND;TZID=Europe/Paris:20260423T144500
DTSTAMP:20260420T151017
CREATED:20251127T190344Z
LAST-MODIFIED:20251127T190344Z
UID:14165-1776955500-1776955500@decouvertebaie.com
SUMMARY:Discover quicksand 2 km
DESCRIPTION:
URL:https://decouvertebaie.com/en/evenement/discover-quicksand-2-km-19/
END:VEVENT
BEGIN:VEVENT
DTSTART;TZID=Europe/Paris:20260424T130000
DTEND;TZID=Europe/Paris:20260424T130000
DTSTAMP:20260420T151017
CREATED:20251127T190344Z
LAST-MODIFIED:20251127T190344Z
UID:14164-1777035600-1777035600@decouvertebaie.com
SUMMARY:Crossing - Bay Discovery 14 km
DESCRIPTION:
URL:https://decouvertebaie.com/en/evenement/crossing-bay-discovery-14-km-21/
END:VEVENT
BEGIN:VEVENT
DTSTART;TZID=Europe/Paris:20260425T091500
DTEND;TZID=Europe/Paris:20260425T091500
DTSTAMP:20260420T151017
CREATED:20251127T190344Z
LAST-MODIFIED:20251127T190344Z
UID:14162-1777108500-1777108500@decouvertebaie.com
SUMMARY:Crossing - Bay Discovery 14 km
DESCRIPTION:
URL:https://decouvertebaie.com/en/evenement/crossing-bay-discovery-14-km-20/
END:VEVENT
BEGIN:VEVENT
DTSTART;TZID=Europe/Paris:20260425T094500
DTEND;TZID=Europe/Paris:20260425T094500
DTSTAMP:20260420T151017
CREATED:20251127T190359Z
LAST-MODIFIED:20251127T190359Z
UID:14163-1777110300-1777110300@decouvertebaie.com
SUMMARY:Bay Crossing - Bay Discovery\, 7 km\, return by bus
DESCRIPTION:
URL:https://decouvertebaie.com/en/evenement/bay-crossing-bay-discovery-7-km-return-by-bus-6/
END:VEVENT
BEGIN:VEVENT
DTSTART;TZID=Europe/Paris:20260426T100000
DTEND;TZID=Europe/Paris:20260426T100000
DTSTAMP:20260420T151017
CREATED:20251127T190359Z
LAST-MODIFIED:20251127T190359Z
UID:14608-1777197600-1777197600@decouvertebaie.com
SUMMARY:Crossing - Bay Discovery 14 km
DESCRIPTION:
URL:https://decouvertebaie.com/en/evenement/crossing-bay-discovery-14-km-140/
END:VEVENT
BEGIN:VEVENT
DTSTART;TZID=Europe/Paris:20260426T100000
DTEND;TZID=Europe/Paris:20260426T100000
DTSTAMP:20260420T151017
CREATED:20251127T190400Z
LAST-MODIFIED:20251127T190400Z
UID:14612-1777197600-1777197600@decouvertebaie.com
SUMMARY:Bay Crossing - Bay Discovery\, 7 km\, return by bus
DESCRIPTION:
URL:https://decouvertebaie.com/en/evenement/bay-crossing-bay-discovery-7-km-return-by-bus-58/
END:VEVENT
BEGIN:VEVENT
DTSTART;TZID=Europe/Paris:20260426T103000
DTEND;TZID=Europe/Paris:20260426T103000
DTSTAMP:20260420T151017
CREATED:20251127T190414Z
LAST-MODIFIED:20251127T190414Z
UID:14611-1777199400-1777199400@decouvertebaie.com
SUMMARY:From Bec d'Andaine to Tombelaine 8 km
DESCRIPTION:
URL:https://decouvertebaie.com/en/evenement/from-bec-dandaine-to-tombelaine-8-km-18/
END:VEVENT
BEGIN:VEVENT
DTSTART;TZID=Europe/Paris:20260426T104500
DTEND;TZID=Europe/Paris:20260426T104500
DTSTAMP:20260420T151017
CREATED:20251127T190414Z
LAST-MODIFIED:20251127T190414Z
UID:14616-1777200300-1777200300@decouvertebaie.com
SUMMARY:Tombelaine Islet Discovery\, 7 km
DESCRIPTION:
URL:https://decouvertebaie.com/en/evenement/tombelaine-islet-discovery-7-km-59/
END:VEVENT
BEGIN:VEVENT
DTSTART;TZID=Europe/Paris:20260426T110000
DTEND;TZID=Europe/Paris:20260426T110000
DTSTAMP:20260420T151017
CREATED:20251127T190400Z
LAST-MODIFIED:20251127T190400Z
UID:14614-1777201200-1777201200@decouvertebaie.com
SUMMARY:Discover quicksand 2 km
DESCRIPTION:
URL:https://decouvertebaie.com/en/evenement/discover-quicksand-2-km-95/
END:VEVENT
BEGIN:VEVENT
DTSTART;TZID=Europe/Paris:20260426T133000
DTEND;TZID=Europe/Paris:20260426T133000
DTSTAMP:20260420T151017
CREATED:20251127T190400Z
LAST-MODIFIED:20251127T190400Z
UID:14610-1777210200-1777210200@decouvertebaie.com
SUMMARY:Short walk around Mont Saint-Michel 3 km
DESCRIPTION:
URL:https://decouvertebaie.com/en/evenement/short-walk-around-mont-saint-michel-3-km-65/
END:VEVENT
BEGIN:VEVENT
DTSTART;TZID=Europe/Paris:20260427T103000
DTEND;TZID=Europe/Paris:20260427T103000
DTSTAMP:20260420T151017
CREATED:20251127T190414Z
LAST-MODIFIED:20251127T190414Z
UID:14609-1777285800-1777285800@decouvertebaie.com
SUMMARY:Crossing - Bay Discovery 14 km
DESCRIPTION:
URL:https://decouvertebaie.com/en/evenement/crossing-bay-discovery-14-km-141/
END:VEVENT
BEGIN:VEVENT
DTSTART;TZID=Europe/Paris:20260429T100000
DTEND;TZID=Europe/Paris:20260429T100000
DTSTAMP:20260420T151017
CREATED:20251127T190414Z
LAST-MODIFIED:20251127T190414Z
UID:14615-1777456800-1777456800@decouvertebaie.com
SUMMARY:Crossing - Bay Discovery 14 km
DESCRIPTION:
URL:https://decouvertebaie.com/en/evenement/crossing-bay-discovery-14-km-143/
END:VEVENT
BEGIN:VEVENT
DTSTART;TZID=Europe/Paris:20260430T101500
DTEND;TZID=Europe/Paris:20260430T101500
DTSTAMP:20260420T151017
CREATED:20251127T190414Z
LAST-MODIFIED:20251127T190414Z
UID:14613-1777544100-1777544100@decouvertebaie.com
SUMMARY:Crossing - Bay Discovery 14 km
DESCRIPTION:
URL:https://decouvertebaie.com/en/evenement/crossing-bay-discovery-14-km-142/
END:VEVENT
END:VCALENDAR