BEGIN:VCALENDAR
VERSION:2.0
PRODID:-//Découverte de la Baie - ECPv6.15.20//NONSGML v1.0//EN
CALSCALE:GREGORIAN
METHOD:PUBLISH
X-ORIGINAL-URL:https://decouvertebaie.com
X-WR-CALDESC:Évènements pour Découverte de la Baie
REFRESH-INTERVAL;VALUE=DURATION:PT1H
X-Robots-Tag:noindex
X-PUBLISHED-TTL:PT1H
BEGIN:VTIMEZONE
TZID:Europe/Paris
BEGIN:DAYLIGHT
TZOFFSETFROM:+0100
TZOFFSETTO:+0200
TZNAME:CEST
DTSTART:20250330T010000
END:DAYLIGHT
BEGIN:STANDARD
TZOFFSETFROM:+0200
TZOFFSETTO:+0100
TZNAME:CET
DTSTART:20251026T010000
END:STANDARD
BEGIN:DAYLIGHT
TZOFFSETFROM:+0100
TZOFFSETTO:+0200
TZNAME:CEST
DTSTART:20260329T010000
END:DAYLIGHT
BEGIN:STANDARD
TZOFFSETFROM:+0200
TZOFFSETTO:+0100
TZNAME:CET
DTSTART:20261025T010000
END:STANDARD
BEGIN:DAYLIGHT
TZOFFSETFROM:+0100
TZOFFSETTO:+0200
TZNAME:CEST
DTSTART:20270328T010000
END:DAYLIGHT
BEGIN:STANDARD
TZOFFSETFROM:+0200
TZOFFSETTO:+0100
TZNAME:CET
DTSTART:20271031T010000
END:STANDARD
END:VTIMEZONE
BEGIN:VEVENT
DTSTART;TZID=Europe/Paris:20260701T120000
DTEND;TZID=Europe/Paris:20260701T120000
DTSTAMP:20260423T221341
CREATED:20260218T205633Z
LAST-MODIFIED:20260218T205633Z
UID:13524-1782907200-1782907200@decouvertebaie.com
SUMMARY:Traversée - Découverte de la baie 14 km
DESCRIPTION:Départ Bec d’Andaine – Durée : 6h00 – Distance : 14 km
URL:https://decouvertebaie.com/evenement/traversee-decouverte-de-la-baie-14-km-298/
END:VEVENT
BEGIN:VEVENT
DTSTART;TZID=Europe/Paris:20260701T120000
DTEND;TZID=Europe/Paris:20260701T120000
DTSTAMP:20260423T221341
CREATED:20260218T205634Z
LAST-MODIFIED:20260218T205634Z
UID:13525-1782907200-1782907200@decouvertebaie.com
SUMMARY:Traversée - Découverte de la baie retour en bus 7 km
DESCRIPTION:Départ Bec d’Andaine – Durée : 6h30 – Distance : 7 km
URL:https://decouvertebaie.com/evenement/traversee-decouverte-de-la-baie-retour-en-bus-7-km-31/
END:VEVENT
BEGIN:VEVENT
DTSTART;TZID=Europe/Paris:20260701T130000
DTEND;TZID=Europe/Paris:20260701T130000
DTSTAMP:20260423T221341
CREATED:20260218T205634Z
LAST-MODIFIED:20260218T205634Z
UID:13526-1782910800-1782910800@decouvertebaie.com
SUMMARY:Découverte des sables mouvants 2 km
DESCRIPTION:Départ Mont St Michel – Durée : 1h30 – Distance : 2 km
URL:https://decouvertebaie.com/evenement/decouverte-des-sables-mouvants-2-km-180/
END:VEVENT
BEGIN:VEVENT
DTSTART;TZID=Europe/Paris:20260701T151500
DTEND;TZID=Europe/Paris:20260701T151500
DTSTAMP:20260423T221341
CREATED:20260218T205634Z
LAST-MODIFIED:20260218T205634Z
UID:13527-1782918900-1782918900@decouvertebaie.com
SUMMARY:Petite balade autour du Mont Saint-Michel 3 km
DESCRIPTION:Départ Mont St Michel – Durée : 2h00 – Distance : 3 km
URL:https://decouvertebaie.com/evenement/petite-balade-autour-du-mont-saint-michel-3-km-49/
END:VEVENT
BEGIN:VEVENT
DTSTART;TZID=Europe/Paris:20260702T123000
DTEND;TZID=Europe/Paris:20260702T123000
DTSTAMP:20260423T221341
CREATED:20260218T205634Z
LAST-MODIFIED:20260218T205634Z
UID:13528-1782995400-1782995400@decouvertebaie.com
SUMMARY:Traversée - Découverte de la baie 14 km
DESCRIPTION:Départ Bec d’Andaine – Durée : 6h00 – Distance : 14 km
URL:https://decouvertebaie.com/evenement/traversee-decouverte-de-la-baie-14-km-299/
END:VEVENT
BEGIN:VEVENT
DTSTART;TZID=Europe/Paris:20260703T130000
DTEND;TZID=Europe/Paris:20260703T130000
DTSTAMP:20260423T221341
CREATED:20260218T205637Z
LAST-MODIFIED:20260218T205637Z
UID:13532-1783083600-1783083600@decouvertebaie.com
SUMMARY:Traversée - Découverte de la baie 14 km
DESCRIPTION:Départ Bec d’Andaine – Durée : 6h00 – Distance : 14 km
URL:https://decouvertebaie.com/evenement/traversee-decouverte-de-la-baie-14-km-300/
END:VEVENT
BEGIN:VEVENT
DTSTART;TZID=Europe/Paris:20260703T140000
DTEND;TZID=Europe/Paris:20260703T140000
DTSTAMP:20260423T221341
CREATED:20260218T205637Z
LAST-MODIFIED:20260218T205637Z
UID:13533-1783087200-1783087200@decouvertebaie.com
SUMMARY:Découverte des sables mouvants 2 km
DESCRIPTION:Départ Mont St Michel – Durée : 1h30 – Distance : 2 km
URL:https://decouvertebaie.com/evenement/decouverte-des-sables-mouvants-2-km-182/
END:VEVENT
BEGIN:VEVENT
DTSTART;TZID=Europe/Paris:20260703T161500
DTEND;TZID=Europe/Paris:20260703T161500
DTSTAMP:20260423T221341
CREATED:20260218T205653Z
LAST-MODIFIED:20260218T205653Z
UID:13534-1783095300-1783095300@decouvertebaie.com
SUMMARY:Petite balade autour du Mont Saint-Michel 3 km
DESCRIPTION:Départ Mont St Michel – Durée : 2h00 – Distance : 3 km
URL:https://decouvertebaie.com/evenement/petite-balade-autour-du-mont-saint-michel-3-km-51/
END:VEVENT
BEGIN:VEVENT
DTSTART;TZID=Europe/Paris:20260704T133000
DTEND;TZID=Europe/Paris:20260704T133000
DTSTAMP:20260423T221341
CREATED:20260218T205653Z
LAST-MODIFIED:20260218T205653Z
UID:13535-1783171800-1783171800@decouvertebaie.com
SUMMARY:Traversée - Découverte de la baie 14 km
DESCRIPTION:Départ Bec d’Andaine – Durée : 6h00 – Distance : 14 km
URL:https://decouvertebaie.com/evenement/traversee-decouverte-de-la-baie-14-km-301/
END:VEVENT
BEGIN:VEVENT
DTSTART;TZID=Europe/Paris:20260704T133000
DTEND;TZID=Europe/Paris:20260704T133000
DTSTAMP:20260423T221341
CREATED:20260218T205653Z
LAST-MODIFIED:20260218T205653Z
UID:13536-1783171800-1783171800@decouvertebaie.com
SUMMARY:Traversée - Découverte de la baie retour en bus 7 km
DESCRIPTION:Départ Bec d’Andaine – Durée : 6h30 – Distance : 7 km
URL:https://decouvertebaie.com/evenement/traversee-decouverte-de-la-baie-retour-en-bus-7-km-32/
END:VEVENT
BEGIN:VEVENT
DTSTART;TZID=Europe/Paris:20260704T143000
DTEND;TZID=Europe/Paris:20260704T143000
DTSTAMP:20260423T221341
CREATED:20260218T205653Z
LAST-MODIFIED:20260218T205653Z
UID:13537-1783175400-1783175400@decouvertebaie.com
SUMMARY:Découverte des sables mouvants 2 km
DESCRIPTION:Départ Mont St Michel – Durée : 1h30 – Distance : 2 km
URL:https://decouvertebaie.com/evenement/decouverte-des-sables-mouvants-2-km-183/
END:VEVENT
BEGIN:VEVENT
DTSTART;TZID=Europe/Paris:20260704T143000
DTEND;TZID=Europe/Paris:20260704T143000
DTSTAMP:20260423T221341
CREATED:20260218T205707Z
LAST-MODIFIED:20260218T221724Z
UID:13540-1783175400-1783175400@decouvertebaie.com
SUMMARY:Découverte de l'îlot de Tombelaine 7 km
DESCRIPTION:Départ Mont St Michel – Durée : 3h30 – Distance : 7 km
URL:https://decouvertebaie.com/evenement/decouverte-de-lilot-de-tombelaine-8-km-17/
END:VEVENT
BEGIN:VEVENT
DTSTART;TZID=Europe/Paris:20260704T164500
DTEND;TZID=Europe/Paris:20260704T164500
DTSTAMP:20260423T221341
CREATED:20260218T205653Z
LAST-MODIFIED:20260218T205653Z
UID:13538-1783183500-1783183500@decouvertebaie.com
SUMMARY:Petite balade autour du Mont Saint-Michel 3 km
DESCRIPTION:Départ Mont St Michel – Durée : 2h00 – Distance : 3 km
URL:https://decouvertebaie.com/evenement/petite-balade-autour-du-mont-saint-michel-3-km-52/
END:VEVENT
BEGIN:VEVENT
DTSTART;TZID=Europe/Paris:20260704T164500
DTEND;TZID=Europe/Paris:20260704T164500
DTSTAMP:20260423T221341
CREATED:20260218T205707Z
LAST-MODIFIED:20260218T205707Z
UID:13539-1783183500-1783183500@decouvertebaie.com
SUMMARY:Contes et légendes de la baie du Mont St-Michel 3 km
DESCRIPTION:Départ Mont St Michel – Durée : 2h00 – Distance : 3 km
URL:https://decouvertebaie.com/evenement/contes-et-legendes-de-la-baie-du-mont-st-michel-3-km-9/
END:VEVENT
BEGIN:VEVENT
DTSTART;TZID=Europe/Paris:20260705T123000
DTEND;TZID=Europe/Paris:20260705T123000
DTSTAMP:20260423T221341
CREATED:20260218T205708Z
LAST-MODIFIED:20260218T205708Z
UID:13541-1783254600-1783254600@decouvertebaie.com
SUMMARY:Traversée - Découverte de la baie 14 km
DESCRIPTION:Départ St Léonard – Durée : 6h00 – Distance : 14 km
URL:https://decouvertebaie.com/evenement/traversee-decouverte-de-la-baie-14-km-302/
END:VEVENT
BEGIN:VEVENT
DTSTART;TZID=Europe/Paris:20260705T123000
DTEND;TZID=Europe/Paris:20260705T123000
DTSTAMP:20260423T221341
CREATED:20260218T205708Z
LAST-MODIFIED:20260218T205708Z
UID:13542-1783254600-1783254600@decouvertebaie.com
SUMMARY:Traversée - Découverte de la baie retour en bus 7 km
DESCRIPTION:Départ St Léonard – Durée : 6h30 – Distance : 7 km
URL:https://decouvertebaie.com/evenement/traversee-decouverte-de-la-baie-retour-en-bus-7-km-33/
END:VEVENT
BEGIN:VEVENT
DTSTART;TZID=Europe/Paris:20260705T140000
DTEND;TZID=Europe/Paris:20260705T140000
DTSTAMP:20260423T221341
CREATED:20260218T205708Z
LAST-MODIFIED:20260218T205708Z
UID:13543-1783260000-1783260000@decouvertebaie.com
SUMMARY:Du Bec d'Andaine à Tombelaine 8 km
DESCRIPTION:Départ Bec d’Andaine – Durée : 4h00 – Distance : 8 km
URL:https://decouvertebaie.com/evenement/du-bec-dandaine-a-tombelaine-8-km-10/
END:VEVENT
BEGIN:VEVENT
DTSTART;TZID=Europe/Paris:20260706T130000
DTEND;TZID=Europe/Paris:20260706T130000
DTSTAMP:20260423T221341
CREATED:20260218T205722Z
LAST-MODIFIED:20260218T205722Z
UID:13544-1783342800-1783342800@decouvertebaie.com
SUMMARY:Traversée - Découverte de la baie 14 km
DESCRIPTION:Départ St Léonard – Durée : 6h00 – Distance : 14 km
URL:https://decouvertebaie.com/evenement/traversee-decouverte-de-la-baie-14-km-303/
END:VEVENT
BEGIN:VEVENT
DTSTART;TZID=Europe/Paris:20260706T150000
DTEND;TZID=Europe/Paris:20260706T150000
DTSTAMP:20260423T221341
CREATED:20260218T205723Z
LAST-MODIFIED:20260218T221822Z
UID:13545-1783350000-1783350000@decouvertebaie.com
SUMMARY:Découverte de l'îlot de Tombelaine 7 km
DESCRIPTION:Départ Mont St Michel – Durée : 3h30 – Distance : 7 km
URL:https://decouvertebaie.com/evenement/decouverte-de-lilot-de-tombelaine-8-km-18/
END:VEVENT
BEGIN:VEVENT
DTSTART;TZID=Europe/Paris:20260707T133000
DTEND;TZID=Europe/Paris:20260707T133000
DTSTAMP:20260423T221341
CREATED:20260218T215158Z
LAST-MODIFIED:20260218T215240Z
UID:13649-1783431000-1783431000@decouvertebaie.com
SUMMARY:Traversée - Découverte de la baie 14 km
DESCRIPTION:Départ St Léonard – Durée : 6h00 – Distance : 14 km
URL:https://decouvertebaie.com/evenement/traversee-decouverte-de-la-baie-14-km-328/
END:VEVENT
BEGIN:VEVENT
DTSTART;TZID=Europe/Paris:20260707T133000
DTEND;TZID=Europe/Paris:20260707T133000
DTSTAMP:20260423T221341
CREATED:20260218T215418Z
LAST-MODIFIED:20260218T215418Z
UID:13651-1783431000-1783431000@decouvertebaie.com
SUMMARY:Traversée - Découverte de la baie retour en bus 7 km
DESCRIPTION:Départ St Léonard – Durée : 6h30 – Distance : 7 km
URL:https://decouvertebaie.com/evenement/traversee-decouverte-de-la-baie-retour-en-bus-7-km-46/
END:VEVENT
BEGIN:VEVENT
DTSTART;TZID=Europe/Paris:20260707T150000
DTEND;TZID=Europe/Paris:20260707T150000
DTSTAMP:20260423T221341
CREATED:20260218T215610Z
LAST-MODIFIED:20260218T215610Z
UID:13653-1783436400-1783436400@decouvertebaie.com
SUMMARY:Contes et légendes de la baie du Mont St-Michel 3km
DESCRIPTION:Départ Mont St-Michel – Durée : 2h00 – Distance : 3 km
URL:https://decouvertebaie.com/evenement/contes-et-legendes-de-la-baie-du-mont-st-michel-3km/
END:VEVENT
BEGIN:VEVENT
DTSTART;TZID=Europe/Paris:20260707T174500
DTEND;TZID=Europe/Paris:20260707T174500
DTSTAMP:20260423T221341
CREATED:20260218T215722Z
LAST-MODIFIED:20260218T215722Z
UID:13655-1783446300-1783446300@decouvertebaie.com
SUMMARY:Découverte des sables mouvants 2 km
DESCRIPTION:Départ Mont St-Michel – Durée : 1h30 – Distance : 2 km
URL:https://decouvertebaie.com/evenement/decouverte-des-sables-mouvants-2-km-200/
END:VEVENT
BEGIN:VEVENT
DTSTART;TZID=Europe/Paris:20260707T183000
DTEND;TZID=Europe/Paris:20260707T183000
DTSTAMP:20260423T221341
CREATED:20260218T220046Z
LAST-MODIFIED:20260218T220046Z
UID:13657-1783449000-1783449000@decouvertebaie.com
SUMMARY:Découverte de l'îlot de Tombelaine 7 km
DESCRIPTION:Départ Mont St-Michel – Durée : 3h30 – Distance : 7 km
URL:https://decouvertebaie.com/evenement/decouverte-de-lilot-de-tombelaine-7-km-16/
END:VEVENT
BEGIN:VEVENT
DTSTART;TZID=Europe/Paris:20260708T133000
DTEND;TZID=Europe/Paris:20260708T133000
DTSTAMP:20260423T221341
CREATED:20260218T205737Z
LAST-MODIFIED:20260218T205737Z
UID:13546-1783517400-1783517400@decouvertebaie.com
SUMMARY:Traversée - Découverte de la baie 14 km
DESCRIPTION:Départ St Léonard – Durée : 6h00 – Distance : 14 km
URL:https://decouvertebaie.com/evenement/traversee-decouverte-de-la-baie-14-km-304/
END:VEVENT
BEGIN:VEVENT
DTSTART;TZID=Europe/Paris:20260708T171500
DTEND;TZID=Europe/Paris:20260708T171500
DTSTAMP:20260423T221341
CREATED:20260218T205752Z
LAST-MODIFIED:20260218T222127Z
UID:13549-1783530900-1783530900@decouvertebaie.com
SUMMARY:Découverte de l'îlot de Tombelaine 7 km
DESCRIPTION:Départ Mont St Michel – Durée : 3h30 – Distance : 7 km
URL:https://decouvertebaie.com/evenement/decouverte-de-lilot-de-tombelaine-8-km-19/
END:VEVENT
BEGIN:VEVENT
DTSTART;TZID=Europe/Paris:20260708T180000
DTEND;TZID=Europe/Paris:20260708T180000
DTSTAMP:20260423T221341
CREATED:20260218T205738Z
LAST-MODIFIED:20260218T205738Z
UID:13547-1783533600-1783533600@decouvertebaie.com
SUMMARY:Découverte des sables mouvants 2 km
DESCRIPTION:Départ Mont St Michel – Durée : 1h30 – Distance : 2 km
URL:https://decouvertebaie.com/evenement/decouverte-des-sables-mouvants-2-km-184/
END:VEVENT
BEGIN:VEVENT
DTSTART;TZID=Europe/Paris:20260708T203000
DTEND;TZID=Europe/Paris:20260708T203000
DTSTAMP:20260423T221341
CREATED:20260218T205738Z
LAST-MODIFIED:20260218T205738Z
UID:13548-1783542600-1783542600@decouvertebaie.com
SUMMARY:Soleil couchant - petite balade autour du Mont St-Michel 3 km
DESCRIPTION:Départ Mont St Michel – Durée : 2h00 – Distance : 3 km
URL:https://decouvertebaie.com/evenement/soleil-couchant-petite-balade-autour-du-mont-st-michel-3-km-6/
END:VEVENT
BEGIN:VEVENT
DTSTART;TZID=Europe/Paris:20260709T143000
DTEND;TZID=Europe/Paris:20260709T143000
DTSTAMP:20260423T221341
CREATED:20260218T205752Z
LAST-MODIFIED:20260218T205752Z
UID:13550-1783607400-1783607400@decouvertebaie.com
SUMMARY:Traversée - Découverte de la baie 14 km
DESCRIPTION:Départ St Léonard – Durée : 6h00 – Distance : 14 km
URL:https://decouvertebaie.com/evenement/traversee-decouverte-de-la-baie-14-km-305/
END:VEVENT
BEGIN:VEVENT
DTSTART;TZID=Europe/Paris:20260709T143000
DTEND;TZID=Europe/Paris:20260709T143000
DTSTAMP:20260423T221341
CREATED:20260218T205752Z
LAST-MODIFIED:20260218T205752Z
UID:13551-1783607400-1783607400@decouvertebaie.com
SUMMARY:Traversée - Découverte de la baie retour en bus 7 km
DESCRIPTION:Départ St Léonard – Durée : 6h30 – Distance : 7 km
URL:https://decouvertebaie.com/evenement/traversee-decouverte-de-la-baie-retour-en-bus-7-km-34/
END:VEVENT
END:VCALENDAR