BEGIN:VCALENDAR
VERSION:2.0
PRODID:-//Découverte de la Baie - ECPv6.15.20//NONSGML v1.0//EN
CALSCALE:GREGORIAN
METHOD:PUBLISH
X-WR-CALNAME:Découverte de la Baie
X-ORIGINAL-URL:https://decouvertebaie.com
X-WR-CALDESC:Évènements pour Découverte de la Baie
REFRESH-INTERVAL;VALUE=DURATION:PT1H
X-Robots-Tag:noindex
X-PUBLISHED-TTL:PT1H
BEGIN:VTIMEZONE
TZID:Europe/Paris
BEGIN:DAYLIGHT
TZOFFSETFROM:+0100
TZOFFSETTO:+0200
TZNAME:CEST
DTSTART:20250330T010000
END:DAYLIGHT
BEGIN:STANDARD
TZOFFSETFROM:+0200
TZOFFSETTO:+0100
TZNAME:CET
DTSTART:20251026T010000
END:STANDARD
BEGIN:DAYLIGHT
TZOFFSETFROM:+0100
TZOFFSETTO:+0200
TZNAME:CEST
DTSTART:20260329T010000
END:DAYLIGHT
BEGIN:STANDARD
TZOFFSETFROM:+0200
TZOFFSETTO:+0100
TZNAME:CET
DTSTART:20261025T010000
END:STANDARD
BEGIN:DAYLIGHT
TZOFFSETFROM:+0100
TZOFFSETTO:+0200
TZNAME:CEST
DTSTART:20270328T010000
END:DAYLIGHT
BEGIN:STANDARD
TZOFFSETFROM:+0200
TZOFFSETTO:+0100
TZNAME:CET
DTSTART:20271031T010000
END:STANDARD
END:VTIMEZONE
BEGIN:VEVENT
DTSTART;TZID=Europe/Paris:20260303T140000
DTEND;TZID=Europe/Paris:20260303T140000
DTSTAMP:20260423T191045
CREATED:20251124T211333Z
LAST-MODIFIED:20251124T211333Z
UID:12745-1772546400-1772546400@decouvertebaie.com
SUMMARY:Découverte des sables mouvants 2 km
DESCRIPTION:
URL:https://decouvertebaie.com/evenement/decouverte-des-sables-mouvants-2-km-101/
END:VEVENT
BEGIN:VEVENT
DTSTART;TZID=Europe/Paris:20260303T161500
DTEND;TZID=Europe/Paris:20260303T161500
DTSTAMP:20260423T191045
CREATED:20251124T211334Z
LAST-MODIFIED:20251124T211335Z
UID:12746-1772554500-1772554500@decouvertebaie.com
SUMMARY:Marée montante et mascaret 3 km
DESCRIPTION:
URL:https://decouvertebaie.com/evenement/maree-montante-et-mascaret-3-km-2/
END:VEVENT
BEGIN:VEVENT
DTSTART;TZID=Europe/Paris:20260304T140000
DTEND;TZID=Europe/Paris:20260304T140000
DTSTAMP:20260423T191045
CREATED:20251124T211334Z
LAST-MODIFIED:20251124T211335Z
UID:12747-1772632800-1772632800@decouvertebaie.com
SUMMARY:Petite balade autour du Mont Saint-Michel 3 km
DESCRIPTION:
URL:https://decouvertebaie.com/evenement/petite-balade-autour-du-mont-saint-michel-3-km-2/
END:VEVENT
BEGIN:VEVENT
DTSTART;TZID=Europe/Paris:20260304T164500
DTEND;TZID=Europe/Paris:20260304T164500
DTSTAMP:20260423T191045
CREATED:20251124T211334Z
LAST-MODIFIED:20251124T211335Z
UID:12748-1772642700-1772642700@decouvertebaie.com
SUMMARY:Marée montante et mascaret 3 km
DESCRIPTION:
URL:https://decouvertebaie.com/evenement/maree-montante-et-mascaret-3-km-3/
END:VEVENT
BEGIN:VEVENT
DTSTART;TZID=Europe/Paris:20260305T143000
DTEND;TZID=Europe/Paris:20260305T143000
DTSTAMP:20260423T191045
CREATED:20251124T211335Z
LAST-MODIFIED:20251124T211335Z
UID:12749-1772721000-1772721000@decouvertebaie.com
SUMMARY:Petite balade autour du Mont Saint-Michel 3 km
DESCRIPTION:
URL:https://decouvertebaie.com/evenement/petite-balade-autour-du-mont-saint-michel-3-km-3/
END:VEVENT
BEGIN:VEVENT
DTSTART;TZID=Europe/Paris:20260305T171500
DTEND;TZID=Europe/Paris:20260305T171500
DTSTAMP:20260423T191045
CREATED:20251124T211335Z
LAST-MODIFIED:20251124T211335Z
UID:12750-1772730900-1772730900@decouvertebaie.com
SUMMARY:Marée montante et mascaret 3 km
DESCRIPTION:
URL:https://decouvertebaie.com/evenement/maree-montante-et-mascaret-3-km-4/
END:VEVENT
BEGIN:VEVENT
DTSTART;TZID=Europe/Paris:20260307T143000
DTEND;TZID=Europe/Paris:20260307T143000
DTSTAMP:20260423T191045
CREATED:20251124T211351Z
LAST-MODIFIED:20251124T211351Z
UID:12758-1772893800-1772893800@decouvertebaie.com
SUMMARY:Petite balade autour du Mont Saint-Michel 3 km
DESCRIPTION:
URL:https://decouvertebaie.com/evenement/petite-balade-autour-du-mont-saint-michel-3-km-5/
END:VEVENT
BEGIN:VEVENT
DTSTART;TZID=Europe/Paris:20260307T171500
DTEND;TZID=Europe/Paris:20260307T171500
DTSTAMP:20260423T191045
CREATED:20251124T211351Z
LAST-MODIFIED:20251124T211351Z
UID:12759-1772903700-1772903700@decouvertebaie.com
SUMMARY:Petite balade au soleil couchant autour du Mont Saint-Michel 3 km
DESCRIPTION:
URL:https://decouvertebaie.com/evenement/petite-balade-au-soleil-couchant-autour-du-mont-saint-michel-3-km/
END:VEVENT
BEGIN:VEVENT
DTSTART;TZID=Europe/Paris:20260308T140000
DTEND;TZID=Europe/Paris:20260308T140000
DTSTAMP:20260423T191045
CREATED:20251124T211351Z
LAST-MODIFIED:20251124T211351Z
UID:12760-1772978400-1772978400@decouvertebaie.com
SUMMARY:Petite balade autour du Mont Saint-Michel 3 km
DESCRIPTION:
URL:https://decouvertebaie.com/evenement/petite-balade-autour-du-mont-saint-michel-3-km-6/
END:VEVENT
BEGIN:VEVENT
DTSTART;TZID=Europe/Paris:20260312T133000
DTEND;TZID=Europe/Paris:20260312T133000
DTSTAMP:20260423T191045
CREATED:20251124T211405Z
LAST-MODIFIED:20251125T204112Z
UID:12764-1773322200-1773322200@decouvertebaie.com
SUMMARY:Découverte des sables mouvants 2 km
DESCRIPTION:
URL:https://decouvertebaie.com/evenement/decouverte-des-sables-mouvants-2-km-103/
END:VEVENT
BEGIN:VEVENT
DTSTART;TZID=Europe/Paris:20260313T130000
DTEND;TZID=Europe/Paris:20260313T130000
DTSTAMP:20260423T191045
CREATED:20251124T211406Z
LAST-MODIFIED:20251124T211406Z
UID:12765-1773406800-1773406800@decouvertebaie.com
SUMMARY:Petite balade autour du Mont Saint-Michel 3 km
DESCRIPTION:
URL:https://decouvertebaie.com/evenement/petite-balade-autour-du-mont-saint-michel-3-km-9/
END:VEVENT
BEGIN:VEVENT
DTSTART;TZID=Europe/Paris:20260313T154500
DTEND;TZID=Europe/Paris:20260313T154500
DTSTAMP:20260423T191045
CREATED:20251124T211421Z
LAST-MODIFIED:20251124T211421Z
UID:12766-1773416700-1773416700@decouvertebaie.com
SUMMARY:Découverte des sables mouvants 2 km
DESCRIPTION:
URL:https://decouvertebaie.com/evenement/decouverte-des-sables-mouvants-2-km-104/
END:VEVENT
BEGIN:VEVENT
DTSTART;TZID=Europe/Paris:20260314T133000
DTEND;TZID=Europe/Paris:20260314T133000
DTSTAMP:20260423T191045
CREATED:20251124T211421Z
LAST-MODIFIED:20251124T211421Z
UID:12768-1773495000-1773495000@decouvertebaie.com
SUMMARY:Petite balade autour du Mont Saint-Michel 3 km
DESCRIPTION:
URL:https://decouvertebaie.com/evenement/petite-balade-autour-du-mont-saint-michel-3-km-10/
END:VEVENT
BEGIN:VEVENT
DTSTART;TZID=Europe/Paris:20260315T133000
DTEND;TZID=Europe/Paris:20260315T133000
DTSTAMP:20260423T191045
CREATED:20251124T211421Z
LAST-MODIFIED:20251124T211421Z
UID:12770-1773581400-1773581400@decouvertebaie.com
SUMMARY:Petite balade autour du Mont Saint-Michel 3 km
DESCRIPTION:
URL:https://decouvertebaie.com/evenement/petite-balade-autour-du-mont-saint-michel-3-km-11/
END:VEVENT
BEGIN:VEVENT
DTSTART;TZID=Europe/Paris:20260318T133000
DTEND;TZID=Europe/Paris:20260318T133000
DTSTAMP:20260423T191045
CREATED:20251124T211435Z
LAST-MODIFIED:20251124T211435Z
UID:12771-1773840600-1773840600@decouvertebaie.com
SUMMARY:Découverte des sables mouvants 2 km
DESCRIPTION:
URL:https://decouvertebaie.com/evenement/decouverte-des-sables-mouvants-2-km-107/
END:VEVENT
BEGIN:VEVENT
DTSTART;TZID=Europe/Paris:20260318T154500
DTEND;TZID=Europe/Paris:20260318T154500
DTSTAMP:20260423T191045
CREATED:20251124T211435Z
LAST-MODIFIED:20251124T211435Z
UID:12772-1773848700-1773848700@decouvertebaie.com
SUMMARY:Marée montante et mascaret 3 km
DESCRIPTION:
URL:https://decouvertebaie.com/evenement/maree-montante-et-mascaret-3-km-5/
END:VEVENT
BEGIN:VEVENT
DTSTART;TZID=Europe/Paris:20260319T163000
DTEND;TZID=Europe/Paris:20260319T163000
DTSTAMP:20260423T191045
CREATED:20251124T211436Z
LAST-MODIFIED:20260116T153905Z
UID:12774-1773937800-1773937800@decouvertebaie.com
SUMMARY:Marée montante et mascaret 3 km
DESCRIPTION:
URL:https://decouvertebaie.com/evenement/maree-montante-et-mascaret-3-km-6/
END:VEVENT
BEGIN:VEVENT
DTSTART;TZID=Europe/Paris:20260320T164500
DTEND;TZID=Europe/Paris:20260320T164500
DTSTAMP:20260423T191045
CREATED:20251124T211451Z
LAST-MODIFIED:20251124T211451Z
UID:12776-1774025100-1774025100@decouvertebaie.com
SUMMARY:Marée montante et mascaret 3 km
DESCRIPTION:
URL:https://decouvertebaie.com/evenement/maree-montante-et-mascaret-3-km-7/
END:VEVENT
BEGIN:VEVENT
DTSTART;TZID=Europe/Paris:20260321T151500
DTEND;TZID=Europe/Paris:20260321T151500
DTSTAMP:20260423T191045
CREATED:20251124T211451Z
LAST-MODIFIED:20251124T211451Z
UID:12778-1774106100-1774106100@decouvertebaie.com
SUMMARY:Découverte des sables mouvants 2 km
DESCRIPTION:
URL:https://decouvertebaie.com/evenement/decouverte-des-sables-mouvants-2-km-110/
END:VEVENT
BEGIN:VEVENT
DTSTART;TZID=Europe/Paris:20260321T173000
DTEND;TZID=Europe/Paris:20260321T173000
DTSTAMP:20260423T191045
CREATED:20251124T211451Z
LAST-MODIFIED:20251124T211451Z
UID:12779-1774114200-1774114200@decouvertebaie.com
SUMMARY:Marée montante et mascaret 3 km
DESCRIPTION:
URL:https://decouvertebaie.com/evenement/maree-montante-et-mascaret-3-km-8/
END:VEVENT
BEGIN:VEVENT
DTSTART;TZID=Europe/Paris:20260322T123000
DTEND;TZID=Europe/Paris:20260322T123000
DTSTAMP:20260423T191045
CREATED:20251124T211451Z
LAST-MODIFIED:20251124T211451Z
UID:12780-1774182600-1774182600@decouvertebaie.com
SUMMARY:Traversée - Découverte de la baie 14 km
DESCRIPTION:
URL:https://decouvertebaie.com/evenement/traversee-decouverte-de-la-baie-14-km-202/
END:VEVENT
BEGIN:VEVENT
DTSTART;TZID=Europe/Paris:20260322T130000
DTEND;TZID=Europe/Paris:20260322T130000
DTSTAMP:20260423T191045
CREATED:20251124T211506Z
LAST-MODIFIED:20251124T211506Z
UID:12781-1774184400-1774184400@decouvertebaie.com
SUMMARY:Petite balade autour du Mont Saint-Michel 3 km
DESCRIPTION:
URL:https://decouvertebaie.com/evenement/petite-balade-autour-du-mont-saint-michel-3-km-12/
END:VEVENT
BEGIN:VEVENT
DTSTART;TZID=Europe/Paris:20260322T154500
DTEND;TZID=Europe/Paris:20260322T154500
DTSTAMP:20260423T191045
CREATED:20251124T211506Z
LAST-MODIFIED:20251124T211506Z
UID:12782-1774194300-1774194300@decouvertebaie.com
SUMMARY:Découverte des sables mouvants 2 km
DESCRIPTION:
URL:https://decouvertebaie.com/evenement/decouverte-des-sables-mouvants-2-km-111/
END:VEVENT
BEGIN:VEVENT
DTSTART;TZID=Europe/Paris:20260325T174500
DTEND;TZID=Europe/Paris:20260325T174500
DTSTAMP:20260423T191045
CREATED:20251124T211506Z
LAST-MODIFIED:20251124T211506Z
UID:12784-1774460700-1774460700@decouvertebaie.com
SUMMARY:Petite balade au soleil couchant autour du Mont Saint-Michel 3 km
DESCRIPTION:
URL:https://decouvertebaie.com/evenement/petite-balade-au-soleil-couchant-autour-du-mont-saint-michel-3-km-3/
END:VEVENT
BEGIN:VEVENT
DTSTART;TZID=Europe/Paris:20260326T133000
DTEND;TZID=Europe/Paris:20260326T133000
DTSTAMP:20260423T191045
CREATED:20251124T211506Z
LAST-MODIFIED:20251124T211506Z
UID:12785-1774531800-1774531800@decouvertebaie.com
SUMMARY:Petite balade autour du Mont Saint-Michel 3 km
DESCRIPTION:
URL:https://decouvertebaie.com/evenement/petite-balade-autour-du-mont-saint-michel-3-km-13/
END:VEVENT
BEGIN:VEVENT
DTSTART;TZID=Europe/Paris:20260326T161500
DTEND;TZID=Europe/Paris:20260326T161500
DTSTAMP:20260423T191045
CREATED:20251124T211520Z
LAST-MODIFIED:20251124T211520Z
UID:12786-1774541700-1774541700@decouvertebaie.com
SUMMARY:Découverte des sables mouvants 2 km
DESCRIPTION:
URL:https://decouvertebaie.com/evenement/decouverte-des-sables-mouvants-2-km-113/
END:VEVENT
BEGIN:VEVENT
DTSTART;TZID=Europe/Paris:20260328T090000
DTEND;TZID=Europe/Paris:20260328T090000
DTSTAMP:20260423T191045
CREATED:20251124T211521Z
LAST-MODIFIED:20251124T211521Z
UID:12787-1774688400-1774688400@decouvertebaie.com
SUMMARY:Traversée - Découverte de la baie 14 km
DESCRIPTION:
URL:https://decouvertebaie.com/evenement/traversee-decouverte-de-la-baie-14-km-203/
END:VEVENT
BEGIN:VEVENT
DTSTART;TZID=Europe/Paris:20260328T174500
DTEND;TZID=Europe/Paris:20260328T174500
DTSTAMP:20260423T191045
CREATED:20260327T073429Z
LAST-MODIFIED:20260327T073429Z
UID:15640-1774719900-1774719900@decouvertebaie.com
SUMMARY:Soleil couchant - petite balade autour du Mont St-Michel 3 km
DESCRIPTION:Départ Mont St Michel – Durée : 2 h – Distance : 3 km
URL:https://decouvertebaie.com/evenement/soleil-couchant-petite-balade-autour-du-mont-st-michel-3-km-4/
END:VEVENT
BEGIN:VEVENT
DTSTART;TZID=Europe/Paris:20260329T110000
DTEND;TZID=Europe/Paris:20260329T110000
DTSTAMP:20260423T191045
CREATED:20251124T211521Z
LAST-MODIFIED:20251124T211521Z
UID:12788-1774782000-1774782000@decouvertebaie.com
SUMMARY:Traversée - Découverte de la baie 14 km
DESCRIPTION:
URL:https://decouvertebaie.com/evenement/traversee-decouverte-de-la-baie-14-km-204/
END:VEVENT
BEGIN:VEVENT
DTSTART;TZID=Europe/Paris:20260329T123000
DTEND;TZID=Europe/Paris:20260329T123000
DTSTAMP:20260423T191045
CREATED:20251124T211521Z
LAST-MODIFIED:20251124T211521Z
UID:12789-1774787400-1774787400@decouvertebaie.com
SUMMARY:Découverte des sables mouvants 2 km
DESCRIPTION:
URL:https://decouvertebaie.com/evenement/decouverte-des-sables-mouvants-2-km-114/
END:VEVENT
END:VCALENDAR