BEGIN:VCALENDAR
VERSION:2.0
PRODID:-//Découverte de la Baie - ECPv6.15.20//NONSGML v1.0//EN
CALSCALE:GREGORIAN
METHOD:PUBLISH
X-ORIGINAL-URL:https://decouvertebaie.com
X-WR-CALDESC:Évènements pour Découverte de la Baie
REFRESH-INTERVAL;VALUE=DURATION:PT1H
X-Robots-Tag:noindex
X-PUBLISHED-TTL:PT1H
BEGIN:VTIMEZONE
TZID:Europe/Paris
BEGIN:DAYLIGHT
TZOFFSETFROM:+0100
TZOFFSETTO:+0200
TZNAME:CEST
DTSTART:20240331T010000
END:DAYLIGHT
BEGIN:STANDARD
TZOFFSETFROM:+0200
TZOFFSETTO:+0100
TZNAME:CET
DTSTART:20241027T010000
END:STANDARD
BEGIN:DAYLIGHT
TZOFFSETFROM:+0100
TZOFFSETTO:+0200
TZNAME:CEST
DTSTART:20250330T010000
END:DAYLIGHT
BEGIN:STANDARD
TZOFFSETFROM:+0200
TZOFFSETTO:+0100
TZNAME:CET
DTSTART:20251026T010000
END:STANDARD
BEGIN:DAYLIGHT
TZOFFSETFROM:+0100
TZOFFSETTO:+0200
TZNAME:CEST
DTSTART:20260329T010000
END:DAYLIGHT
BEGIN:STANDARD
TZOFFSETFROM:+0200
TZOFFSETTO:+0100
TZNAME:CET
DTSTART:20261025T010000
END:STANDARD
END:VTIMEZONE
BEGIN:VEVENT
DTSTART;TZID=Europe/Paris:20251203T101500
DTEND;TZID=Europe/Paris:20251203T101500
DTSTAMP:20260423T234430
CREATED:20250923T102802Z
LAST-MODIFIED:20250923T102802Z
UID:12606-1764756900-1764756900@decouvertebaie.com
SUMMARY:Découverte des sables mouvants 2 km
DESCRIPTION:Départ Mont St Michel – Durée : 1h30 – Distance : 2 km
URL:https://decouvertebaie.com/evenement/decouverte-des-sables-mouvants-2-km-96/
END:VEVENT
BEGIN:VEVENT
DTSTART;TZID=Europe/Paris:20251203T133000
DTEND;TZID=Europe/Paris:20251203T133000
DTSTAMP:20260423T234430
CREATED:20250923T102802Z
LAST-MODIFIED:20250923T102802Z
UID:12607-1764768600-1764768600@decouvertebaie.com
SUMMARY:Petite balade autour du Mont Saint-Michel 2/3 km
DESCRIPTION:Départ Mont St Michel – Durée : 2h00 – Distance : 2/3 km
URL:https://decouvertebaie.com/evenement/petite-balade-autour-du-mont-saint-michel-2-3-km-98/
END:VEVENT
BEGIN:VEVENT
DTSTART;TZID=Europe/Paris:20251210T140000
DTEND;TZID=Europe/Paris:20251210T140000
DTSTAMP:20260423T234430
CREATED:20250923T102802Z
LAST-MODIFIED:20250923T102802Z
UID:12608-1765375200-1765375200@decouvertebaie.com
SUMMARY:Petite balade autour du Mont Saint-Michel 2/3 km
DESCRIPTION:Départ Mont St Michel – Durée : 2h00 – Distance : 2/3 km
URL:https://decouvertebaie.com/evenement/petite-balade-autour-du-mont-saint-michel-2-3-km-99/
END:VEVENT
BEGIN:VEVENT
DTSTART;TZID=Europe/Paris:20251213T153000
DTEND;TZID=Europe/Paris:20251213T153000
DTSTAMP:20260423T234430
CREATED:20250923T102802Z
LAST-MODIFIED:20250923T102802Z
UID:12609-1765639800-1765639800@decouvertebaie.com
SUMMARY:Petite balade au soleil couchant autour du Mont Saint-Michel 2/3 km
DESCRIPTION:Départ Mont St Michel – Durée : 2h00 – Distance : 2/3 km
URL:https://decouvertebaie.com/evenement/petite-balade-au-soleil-couchant-autour-du-mont-saint-michel-2-3-km-9/
END:VEVENT
BEGIN:VEVENT
DTSTART;TZID=Europe/Paris:20251214T113000
DTEND;TZID=Europe/Paris:20251214T113000
DTSTAMP:20260423T234430
CREATED:20250923T102802Z
LAST-MODIFIED:20250923T102802Z
UID:12610-1765711800-1765711800@decouvertebaie.com
SUMMARY:Marée montante et mascaret 2/3 km
DESCRIPTION:Départ Mont St Michel – Durée : 2h00 – Distance : 2/3 km
URL:https://decouvertebaie.com/evenement/maree-montante-et-mascaret-2-3-km-37/
END:VEVENT
BEGIN:VEVENT
DTSTART;TZID=Europe/Paris:20251220T140000
DTEND;TZID=Europe/Paris:20251220T140000
DTSTAMP:20260423T234430
CREATED:20250923T102804Z
LAST-MODIFIED:20250923T102804Z
UID:12611-1766239200-1766239200@decouvertebaie.com
SUMMARY:Petite balade autour du Mont Saint-Michel 2/3 km
DESCRIPTION:Départ Mont St Michel – Durée : 2h00 – Distance : 2/3 km
URL:https://decouvertebaie.com/evenement/petite-balade-autour-du-mont-saint-michel-2-3-km-100/
END:VEVENT
BEGIN:VEVENT
DTSTART;TZID=Europe/Paris:20251221T124500
DTEND;TZID=Europe/Paris:20251221T124500
DTSTAMP:20260423T234430
CREATED:20250923T102804Z
LAST-MODIFIED:20250923T102804Z
UID:12612-1766321100-1766321100@decouvertebaie.com
SUMMARY:Petite balade autour du Mont Saint-Michel 2/3 km
DESCRIPTION:Départ Mont St Michel – Durée : 2h00 – Distance : 2/3 km
URL:https://decouvertebaie.com/evenement/petite-balade-autour-du-mont-saint-michel-2-3-km-101/
END:VEVENT
BEGIN:VEVENT
DTSTART;TZID=Europe/Paris:20251221T153000
DTEND;TZID=Europe/Paris:20251221T153000
DTSTAMP:20260423T234430
CREATED:20250923T102805Z
LAST-MODIFIED:20250923T102805Z
UID:12613-1766331000-1766331000@decouvertebaie.com
SUMMARY:Petite balade au soleil couchant autour du Mont Saint-Michel 2/3 km
DESCRIPTION:Départ Mont St Michel – Durée : 2h00 – Distance : 2/3 km
URL:https://decouvertebaie.com/evenement/petite-balade-au-soleil-couchant-autour-du-mont-saint-michel-2-3-km-10/
END:VEVENT
BEGIN:VEVENT
DTSTART;TZID=Europe/Paris:20251222T131500
DTEND;TZID=Europe/Paris:20251222T131500
DTSTAMP:20260423T234430
CREATED:20250923T102805Z
LAST-MODIFIED:20250923T102805Z
UID:12614-1766409300-1766409300@decouvertebaie.com
SUMMARY:Découverte des sables mouvants 2 km
DESCRIPTION:Départ Mont St Michel – Durée : 1h30 – Distance : 2 km
URL:https://decouvertebaie.com/evenement/decouverte-des-sables-mouvants-2-km-97/
END:VEVENT
BEGIN:VEVENT
DTSTART;TZID=Europe/Paris:20251222T153000
DTEND;TZID=Europe/Paris:20251222T153000
DTSTAMP:20260423T234430
CREATED:20250923T102805Z
LAST-MODIFIED:20250923T102805Z
UID:12615-1766417400-1766417400@decouvertebaie.com
SUMMARY:Petite balade au soleil couchant autour du Mont Saint-Michel 2/3 km
DESCRIPTION:Départ Mont St Michel – Durée : 2h00 – Distance : 2/3 km
URL:https://decouvertebaie.com/evenement/petite-balade-au-soleil-couchant-autour-du-mont-saint-michel-2-3-km-11/
END:VEVENT
BEGIN:VEVENT
DTSTART;TZID=Europe/Paris:20251223T131500
DTEND;TZID=Europe/Paris:20251223T131500
DTSTAMP:20260423T234430
CREATED:20251219T124752Z
LAST-MODIFIED:20251219T124752Z
UID:13090-1766495700-1766495700@decouvertebaie.com
SUMMARY:Découverte des sables mouvants 2 km
DESCRIPTION:Départ Mont St Michel – Durée : 1h30 – Distance : 2 km
URL:https://decouvertebaie.com/evenement/decouverte-des-sables-mouvants-2-km-157/
END:VEVENT
BEGIN:VEVENT
DTSTART;TZID=Europe/Paris:20251223T153000
DTEND;TZID=Europe/Paris:20251223T153000
DTSTAMP:20260423T234430
CREATED:20250923T102820Z
LAST-MODIFIED:20250923T102820Z
UID:12617-1766503800-1766503800@decouvertebaie.com
SUMMARY:Petite balade au soleil couchant autour du Mont Saint-Michel 2/3 km
DESCRIPTION:Départ Mont St Michel – Durée : 2h00 – Distance : 2/3 km
URL:https://decouvertebaie.com/evenement/petite-balade-au-soleil-couchant-autour-du-mont-saint-michel-2-3-km-12/
END:VEVENT
BEGIN:VEVENT
DTSTART;TZID=Europe/Paris:20251226T131500
DTEND;TZID=Europe/Paris:20251226T131500
DTSTAMP:20260423T234430
CREATED:20251219T125602Z
LAST-MODIFIED:20251219T125602Z
UID:13094-1766754900-1766754900@decouvertebaie.com
SUMMARY:Découverte des sables mouvants 2 km
DESCRIPTION:Départ Mont St Michel – Durée : 1h30 – Distance : 2 km
URL:https://decouvertebaie.com/evenement/decouverte-des-sables-mouvants-2-km-158/
END:VEVENT
BEGIN:VEVENT
DTSTART;TZID=Europe/Paris:20251228T140000
DTEND;TZID=Europe/Paris:20251228T140000
DTSTAMP:20260423T234430
CREATED:20250923T102820Z
LAST-MODIFIED:20250923T102820Z
UID:12619-1766930400-1766930400@decouvertebaie.com
SUMMARY:Petite balade autour du Mont Saint-Michel 2/3 km
DESCRIPTION:Départ Mont St Michel – Durée : 2h00 – Distance : 2/3 km
URL:https://decouvertebaie.com/evenement/petite-balade-autour-du-mont-saint-michel-2-3-km-104/
END:VEVENT
BEGIN:VEVENT
DTSTART;TZID=Europe/Paris:20251229T100000
DTEND;TZID=Europe/Paris:20251229T100000
DTSTAMP:20260423T234430
CREATED:20250923T102820Z
LAST-MODIFIED:20250923T102820Z
UID:12620-1767002400-1767002400@decouvertebaie.com
SUMMARY:De St Léonard à Tombelaine 14 km
DESCRIPTION:Départ St Léonard – Durée : 6h00 – Distance : 14 km
URL:https://decouvertebaie.com/evenement/de-st-leonard-a-tombelaine-14-km/
END:VEVENT
BEGIN:VEVENT
DTSTART;TZID=Europe/Paris:20251230T110000
DTEND;TZID=Europe/Paris:20251230T110000
DTSTAMP:20260423T234430
CREATED:20250923T102834Z
LAST-MODIFIED:20250923T102834Z
UID:12621-1767092400-1767092400@decouvertebaie.com
SUMMARY:Découverte des sables mouvants 2 km
DESCRIPTION:Départ Mont St Michel – Durée : 1h30 – Distance : 2 km
URL:https://decouvertebaie.com/evenement/decouverte-des-sables-mouvants-2-km-98/
END:VEVENT
BEGIN:VEVENT
DTSTART;TZID=Europe/Paris:20251231T130000
DTEND;TZID=Europe/Paris:20251231T130000
DTSTAMP:20260423T234430
CREATED:20250923T102834Z
LAST-MODIFIED:20250923T102834Z
UID:12622-1767186000-1767186000@decouvertebaie.com
SUMMARY:Marée montante et mascaret 2/3 km
DESCRIPTION:Départ Mont St Michel – Durée : 2h00 – Distance : 2/3 km
URL:https://decouvertebaie.com/evenement/maree-montante-et-mascaret-2-3-km-38/
END:VEVENT
END:VCALENDAR