BEGIN:VCALENDAR
VERSION:2.0
PRODID:-//Découverte de la Baie - ECPv6.15.20//NONSGML v1.0//EN
CALSCALE:GREGORIAN
METHOD:PUBLISH
X-ORIGINAL-URL:https://decouvertebaie.com
X-WR-CALDESC:Évènements pour Découverte de la Baie
REFRESH-INTERVAL;VALUE=DURATION:PT1H
X-Robots-Tag:noindex
X-PUBLISHED-TTL:PT1H
BEGIN:VTIMEZONE
TZID:Europe/Paris
BEGIN:DAYLIGHT
TZOFFSETFROM:+0100
TZOFFSETTO:+0200
TZNAME:CEST
DTSTART:20240331T010000
END:DAYLIGHT
BEGIN:STANDARD
TZOFFSETFROM:+0200
TZOFFSETTO:+0100
TZNAME:CET
DTSTART:20241027T010000
END:STANDARD
BEGIN:DAYLIGHT
TZOFFSETFROM:+0100
TZOFFSETTO:+0200
TZNAME:CEST
DTSTART:20250330T010000
END:DAYLIGHT
BEGIN:STANDARD
TZOFFSETFROM:+0200
TZOFFSETTO:+0100
TZNAME:CET
DTSTART:20251026T010000
END:STANDARD
BEGIN:DAYLIGHT
TZOFFSETFROM:+0100
TZOFFSETTO:+0200
TZNAME:CEST
DTSTART:20260329T010000
END:DAYLIGHT
BEGIN:STANDARD
TZOFFSETFROM:+0200
TZOFFSETTO:+0100
TZNAME:CET
DTSTART:20261025T010000
END:STANDARD
END:VTIMEZONE
BEGIN:VEVENT
DTSTART;TZID=Europe/Paris:20251102T110000
DTEND;TZID=Europe/Paris:20251102T110000
DTSTAMP:20260424T005654
CREATED:20250923T101350Z
LAST-MODIFIED:20250923T101350Z
UID:12586-1762081200-1762081200@decouvertebaie.com
SUMMARY:Petite balade autour du Mont Saint-Michel 2/3 km
DESCRIPTION:Départ Mont St Michel – Durée : 2h00 – Distance : 2/3 km
URL:https://decouvertebaie.com/evenement/petite-balade-autour-du-mont-saint-michel-2-3-km-94/
END:VEVENT
BEGIN:VEVENT
DTSTART;TZID=Europe/Paris:20251105T133000
DTEND;TZID=Europe/Paris:20251105T133000
DTSTAMP:20260424T005654
CREATED:20250923T101350Z
LAST-MODIFIED:20250923T101350Z
UID:12587-1762349400-1762349400@decouvertebaie.com
SUMMARY:Découverte des sables mouvants 2 km
DESCRIPTION:Départ Mont St Michel – Durée : 1h30 – Distance : 2 km
URL:https://decouvertebaie.com/evenement/decouverte-des-sables-mouvants-2-km-92/
END:VEVENT
BEGIN:VEVENT
DTSTART;TZID=Europe/Paris:20251105T153000
DTEND;TZID=Europe/Paris:20251105T153000
DTSTAMP:20260424T005654
CREATED:20250923T101350Z
LAST-MODIFIED:20250923T101350Z
UID:12588-1762356600-1762356600@decouvertebaie.com
SUMMARY:Marée montante et mascaret 2/3 km
DESCRIPTION:Départ Mont St Michel – Durée : 2h00 – Distance : 2/3 km
URL:https://decouvertebaie.com/evenement/maree-montante-et-mascaret-2-3-km-34/
END:VEVENT
BEGIN:VEVENT
DTSTART;TZID=Europe/Paris:20251107T154500
DTEND;TZID=Europe/Paris:20251107T154500
DTSTAMP:20260424T005654
CREATED:20250923T101352Z
LAST-MODIFIED:20250923T101352Z
UID:12591-1762530300-1762530300@decouvertebaie.com
SUMMARY:Petite balade au soleil couchant autour du Mont Saint-Michel 2/3 km
DESCRIPTION:Départ Mont St Michel – Durée : 2h00 – Distance : 2/3 km
URL:https://decouvertebaie.com/evenement/petite-balade-au-soleil-couchant-autour-du-mont-saint-michel-2-3-km-4/
END:VEVENT
BEGIN:VEVENT
DTSTART;TZID=Europe/Paris:20251108T133000
DTEND;TZID=Europe/Paris:20251108T133000
DTSTAMP:20260424T005654
CREATED:20250923T101352Z
LAST-MODIFIED:20250923T101352Z
UID:12592-1762608600-1762608600@decouvertebaie.com
SUMMARY:Découverte des sables mouvants 2 km
DESCRIPTION:Départ Mont St Michel – Durée : 1h30 – Distance : 2 km
URL:https://decouvertebaie.com/evenement/decouverte-des-sables-mouvants-2-km-93/
END:VEVENT
BEGIN:VEVENT
DTSTART;TZID=Europe/Paris:20251108T154500
DTEND;TZID=Europe/Paris:20251108T154500
DTSTAMP:20260424T005654
CREATED:20250923T101352Z
LAST-MODIFIED:20250923T101352Z
UID:12593-1762616700-1762616700@decouvertebaie.com
SUMMARY:Petite balade au soleil couchant autour du Mont Saint-Michel 2/3 km
DESCRIPTION:Départ Mont St Michel – Durée : 2h00 – Distance : 2/3 km
URL:https://decouvertebaie.com/evenement/petite-balade-au-soleil-couchant-autour-du-mont-saint-michel-2-3-km-5/
END:VEVENT
BEGIN:VEVENT
DTSTART;TZID=Europe/Paris:20251109T133000
DTEND;TZID=Europe/Paris:20251109T133000
DTSTAMP:20260424T005654
CREATED:20250923T101353Z
LAST-MODIFIED:20250923T101353Z
UID:12594-1762695000-1762695000@decouvertebaie.com
SUMMARY:Découverte des sables mouvants 2 km
DESCRIPTION:Départ Mont St Michel – Durée : 1h30 – Distance : 2 km
URL:https://decouvertebaie.com/evenement/decouverte-des-sables-mouvants-2-km-94/
END:VEVENT
BEGIN:VEVENT
DTSTART;TZID=Europe/Paris:20251109T154500
DTEND;TZID=Europe/Paris:20251109T154500
DTSTAMP:20260424T005654
CREATED:20250923T101408Z
LAST-MODIFIED:20250923T101408Z
UID:12595-1762703100-1762703100@decouvertebaie.com
SUMMARY:Petite balade au soleil couchant autour du Mont Saint-Michel 2/3 km
DESCRIPTION:Départ Mont St Michel – Durée : 2h00 – Distance : 2/3 km
URL:https://decouvertebaie.com/evenement/petite-balade-au-soleil-couchant-autour-du-mont-saint-michel-2-3-km-6/
END:VEVENT
BEGIN:VEVENT
DTSTART;TZID=Europe/Paris:20251110T133000
DTEND;TZID=Europe/Paris:20251110T133000
DTSTAMP:20260424T005654
CREATED:20250923T101408Z
LAST-MODIFIED:20250923T101408Z
UID:12596-1762781400-1762781400@decouvertebaie.com
SUMMARY:Découverte des sables mouvants 2 km
DESCRIPTION:Départ Mont St Michel – Durée : 1h30 – Distance : 2 km
URL:https://decouvertebaie.com/evenement/decouverte-des-sables-mouvants-2-km-95/
END:VEVENT
BEGIN:VEVENT
DTSTART;TZID=Europe/Paris:20251110T154500
DTEND;TZID=Europe/Paris:20251110T154500
DTSTAMP:20260424T005654
CREATED:20250923T101408Z
LAST-MODIFIED:20250923T101408Z
UID:12597-1762789500-1762789500@decouvertebaie.com
SUMMARY:Petite balade au soleil couchant autour du Mont Saint-Michel 2/3 km
DESCRIPTION:Départ Mont St Michel – Durée : 2h00 – Distance : 2/3 km
URL:https://decouvertebaie.com/evenement/petite-balade-au-soleil-couchant-autour-du-mont-saint-michel-2-3-km-7/
END:VEVENT
BEGIN:VEVENT
DTSTART;TZID=Europe/Paris:20251111T140000
DTEND;TZID=Europe/Paris:20251111T140000
DTSTAMP:20260424T005654
CREATED:20250923T101408Z
LAST-MODIFIED:20250923T101408Z
UID:12598-1762869600-1762869600@decouvertebaie.com
SUMMARY:Petite balade autour du Mont Saint-Michel 2/3 km
DESCRIPTION:Départ Mont St Michel – Durée : 2h00 – Distance : 2/3 km
URL:https://decouvertebaie.com/evenement/petite-balade-autour-du-mont-saint-michel-2-3-km-96/
END:VEVENT
BEGIN:VEVENT
DTSTART;TZID=Europe/Paris:20251115T123000
DTEND;TZID=Europe/Paris:20251115T123000
DTSTAMP:20260424T005654
CREATED:20250923T101408Z
LAST-MODIFIED:20250923T101408Z
UID:12599-1763209800-1763209800@decouvertebaie.com
SUMMARY:Marée montante et mascaret 2/3 km
DESCRIPTION:Départ Mont St Michel – Durée : 2h00 – Distance : 2/3 km
URL:https://decouvertebaie.com/evenement/maree-montante-et-mascaret-2-3-km-36/
END:VEVENT
BEGIN:VEVENT
DTSTART;TZID=Europe/Paris:20251129T153000
DTEND;TZID=Europe/Paris:20251129T153000
DTSTAMP:20260424T005654
CREATED:20250923T101423Z
LAST-MODIFIED:20250923T101423Z
UID:12601-1764430200-1764430200@decouvertebaie.com
SUMMARY:Petite balade au soleil couchant autour du Mont Saint-Michel 2/3 km
DESCRIPTION:Départ Mont St Michel – Durée : 2h00 – Distance : 2/3 km
URL:https://decouvertebaie.com/evenement/petite-balade-au-soleil-couchant-autour-du-mont-saint-michel-2-3-km-8/
END:VEVENT
END:VCALENDAR