BEGIN:VCALENDAR
VERSION:2.0
PRODID:-//Découverte de la Baie - ECPv6.15.20//NONSGML v1.0//EN
CALSCALE:GREGORIAN
METHOD:PUBLISH
X-WR-CALNAME:Découverte de la Baie
X-ORIGINAL-URL:https://decouvertebaie.com
X-WR-CALDESC:Évènements pour Découverte de la Baie
REFRESH-INTERVAL;VALUE=DURATION:PT1H
X-Robots-Tag:noindex
X-PUBLISHED-TTL:PT1H
BEGIN:VTIMEZONE
TZID:Europe/Paris
BEGIN:DAYLIGHT
TZOFFSETFROM:+0100
TZOFFSETTO:+0200
TZNAME:CEST
DTSTART:20240331T010000
END:DAYLIGHT
BEGIN:STANDARD
TZOFFSETFROM:+0200
TZOFFSETTO:+0100
TZNAME:CET
DTSTART:20241027T010000
END:STANDARD
BEGIN:DAYLIGHT
TZOFFSETFROM:+0100
TZOFFSETTO:+0200
TZNAME:CEST
DTSTART:20250330T010000
END:DAYLIGHT
BEGIN:STANDARD
TZOFFSETFROM:+0200
TZOFFSETTO:+0100
TZNAME:CET
DTSTART:20251026T010000
END:STANDARD
BEGIN:DAYLIGHT
TZOFFSETFROM:+0100
TZOFFSETTO:+0200
TZNAME:CEST
DTSTART:20260329T010000
END:DAYLIGHT
BEGIN:STANDARD
TZOFFSETFROM:+0200
TZOFFSETTO:+0100
TZNAME:CET
DTSTART:20261025T010000
END:STANDARD
END:VTIMEZONE
BEGIN:VEVENT
DTSTART;TZID=Europe/Paris:20250201T140000
DTEND;TZID=Europe/Paris:20250201T140000
DTSTAMP:20260425T174355
CREATED:20250101T214727Z
LAST-MODIFIED:20250101T215844Z
UID:10581-1738418400-1738418400@decouvertebaie.com
SUMMARY:Petite balade autour du Mont St-Michel 2/3 km
DESCRIPTION:
URL:https://decouvertebaie.com/evenement/petite-balade-autour-du-mont-st-michel-2-3-km-11/
END:VEVENT
BEGIN:VEVENT
DTSTART;TZID=Europe/Paris:20250209T140000
DTEND;TZID=Europe/Paris:20250209T140000
DTSTAMP:20260425T174355
CREATED:20250101T220120Z
LAST-MODIFIED:20250101T220120Z
UID:10606-1739109600-1739109600@decouvertebaie.com
SUMMARY:Petite balade autour du Mont St-Michel 2/3 km
DESCRIPTION:
URL:https://decouvertebaie.com/evenement/petite-balade-autour-du-mont-st-michel-2-3-km-31/
END:VEVENT
BEGIN:VEVENT
DTSTART;TZID=Europe/Paris:20250210T140000
DTEND;TZID=Europe/Paris:20250210T140000
DTSTAMP:20260425T174355
CREATED:20250101T214727Z
LAST-MODIFIED:20250101T214727Z
UID:10582-1739196000-1739196000@decouvertebaie.com
SUMMARY:Petite balade autour du Mont St-Michel 2/3 km
DESCRIPTION:
URL:https://decouvertebaie.com/evenement/petite-balade-autour-du-mont-st-michel-2-3-km-12/
END:VEVENT
BEGIN:VEVENT
DTSTART;TZID=Europe/Paris:20250211T140000
DTEND;TZID=Europe/Paris:20250211T140000
DTSTAMP:20260425T174355
CREATED:20250101T214727Z
LAST-MODIFIED:20250101T214727Z
UID:10583-1739282400-1739282400@decouvertebaie.com
SUMMARY:Petite balade autour du Mont St-Michel 2/3 km
DESCRIPTION:
URL:https://decouvertebaie.com/evenement/petite-balade-autour-du-mont-st-michel-2-3-km-13/
END:VEVENT
BEGIN:VEVENT
DTSTART;TZID=Europe/Paris:20250212T140000
DTEND;TZID=Europe/Paris:20250212T140000
DTSTAMP:20260425T174355
CREATED:20250101T214728Z
LAST-MODIFIED:20250101T214728Z
UID:10584-1739368800-1739368800@decouvertebaie.com
SUMMARY:Petite balade autour du Mont St-Michel 2/3 km
DESCRIPTION:
URL:https://decouvertebaie.com/evenement/petite-balade-autour-du-mont-st-michel-2-3-km-14/
END:VEVENT
BEGIN:VEVENT
DTSTART;TZID=Europe/Paris:20250213T140000
DTEND;TZID=Europe/Paris:20250213T140000
DTSTAMP:20260425T174355
CREATED:20250101T214728Z
LAST-MODIFIED:20250101T214728Z
UID:10585-1739455200-1739455200@decouvertebaie.com
SUMMARY:Petite balade autour du Mont St-Michel 2/3 km
DESCRIPTION:
URL:https://decouvertebaie.com/evenement/petite-balade-autour-du-mont-st-michel-2-3-km-15/
END:VEVENT
BEGIN:VEVENT
DTSTART;TZID=Europe/Paris:20250214T140000
DTEND;TZID=Europe/Paris:20250214T140000
DTSTAMP:20260425T174355
CREATED:20250101T214729Z
LAST-MODIFIED:20250101T214729Z
UID:10586-1739541600-1739541600@decouvertebaie.com
SUMMARY:Petite balade autour du Mont St-Michel 2/3 km
DESCRIPTION:
URL:https://decouvertebaie.com/evenement/petite-balade-autour-du-mont-st-michel-2-3-km-16/
END:VEVENT
BEGIN:VEVENT
DTSTART;TZID=Europe/Paris:20250215T140000
DTEND;TZID=Europe/Paris:20250215T140000
DTSTAMP:20260425T174355
CREATED:20250101T214729Z
LAST-MODIFIED:20250101T214729Z
UID:10587-1739628000-1739628000@decouvertebaie.com
SUMMARY:Petite balade autour du Mont St-Michel 2/3 km
DESCRIPTION:
URL:https://decouvertebaie.com/evenement/petite-balade-autour-du-mont-st-michel-2-3-km-17/
END:VEVENT
BEGIN:VEVENT
DTSTART;TZID=Europe/Paris:20250217T140000
DTEND;TZID=Europe/Paris:20250217T140000
DTSTAMP:20260425T174355
CREATED:20250101T214730Z
LAST-MODIFIED:20250101T214730Z
UID:10589-1739800800-1739800800@decouvertebaie.com
SUMMARY:Petite balade autour du Mont St-Michel 2/3 km
DESCRIPTION:
URL:https://decouvertebaie.com/evenement/petite-balade-autour-du-mont-st-michel-2-3-km-19/
END:VEVENT
BEGIN:VEVENT
DTSTART;TZID=Europe/Paris:20250218T140000
DTEND;TZID=Europe/Paris:20250218T140000
DTSTAMP:20260425T174355
CREATED:20250101T214730Z
LAST-MODIFIED:20250101T214730Z
UID:10590-1739887200-1739887200@decouvertebaie.com
SUMMARY:Petite balade autour du Mont St-Michel 2/3 km
DESCRIPTION:
URL:https://decouvertebaie.com/evenement/petite-balade-autour-du-mont-st-michel-2-3-km-20/
END:VEVENT
BEGIN:VEVENT
DTSTART;TZID=Europe/Paris:20250219T140000
DTEND;TZID=Europe/Paris:20250219T140000
DTSTAMP:20260425T174355
CREATED:20250101T214745Z
LAST-MODIFIED:20250101T214745Z
UID:10591-1739973600-1739973600@decouvertebaie.com
SUMMARY:Petite balade autour du Mont St-Michel 2/3 km
DESCRIPTION:
URL:https://decouvertebaie.com/evenement/petite-balade-autour-du-mont-st-michel-2-3-km-21/
END:VEVENT
BEGIN:VEVENT
DTSTART;TZID=Europe/Paris:20250221T140000
DTEND;TZID=Europe/Paris:20250221T140000
DTSTAMP:20260425T174356
CREATED:20250101T214746Z
LAST-MODIFIED:20250101T214746Z
UID:10593-1740146400-1740146400@decouvertebaie.com
SUMMARY:Petite balade autour du Mont St-Michel 2/3 km
DESCRIPTION:
URL:https://decouvertebaie.com/evenement/petite-balade-autour-du-mont-st-michel-2-3-km-23/
END:VEVENT
BEGIN:VEVENT
DTSTART;TZID=Europe/Paris:20250222T140000
DTEND;TZID=Europe/Paris:20250222T140000
DTSTAMP:20260425T174356
CREATED:20250101T214746Z
LAST-MODIFIED:20250101T214746Z
UID:10594-1740232800-1740232800@decouvertebaie.com
SUMMARY:Petite balade autour du Mont St-Michel 2/3 km
DESCRIPTION:
URL:https://decouvertebaie.com/evenement/petite-balade-autour-du-mont-st-michel-2-3-km-24/
END:VEVENT
BEGIN:VEVENT
DTSTART;TZID=Europe/Paris:20250223T103000
DTEND;TZID=Europe/Paris:20250223T103000
DTSTAMP:20260425T174356
CREATED:20250101T214746Z
LAST-MODIFIED:20250101T214746Z
UID:10595-1740306600-1740306600@decouvertebaie.com
SUMMARY:Petite balade autour du Mont St-Michel 2/3 km
DESCRIPTION:
URL:https://decouvertebaie.com/evenement/petite-balade-autour-du-mont-st-michel-2-3-km-25/
END:VEVENT
BEGIN:VEVENT
DTSTART;TZID=Europe/Paris:20250224T140000
DTEND;TZID=Europe/Paris:20250224T140000
DTSTAMP:20260425T174356
CREATED:20250101T214800Z
LAST-MODIFIED:20250101T214800Z
UID:10596-1740405600-1740405600@decouvertebaie.com
SUMMARY:Petite balade autour du Mont St-Michel 2/3 km
DESCRIPTION:
URL:https://decouvertebaie.com/evenement/petite-balade-autour-du-mont-st-michel-2-3-km-26/
END:VEVENT
BEGIN:VEVENT
DTSTART;TZID=Europe/Paris:20250227T140000
DTEND;TZID=Europe/Paris:20250227T140000
DTSTAMP:20260425T174356
CREATED:20250101T214800Z
LAST-MODIFIED:20250101T214800Z
UID:10599-1740664800-1740664800@decouvertebaie.com
SUMMARY:Petite balade autour du Mont St-Michel 2/3 km
DESCRIPTION:
URL:https://decouvertebaie.com/evenement/petite-balade-autour-du-mont-st-michel-2-3-km-29/
END:VEVENT
BEGIN:VEVENT
DTSTART;TZID=Europe/Paris:20250228T140000
DTEND;TZID=Europe/Paris:20250228T140000
DTSTAMP:20260425T174356
CREATED:20250101T220237Z
LAST-MODIFIED:20250101T220237Z
UID:10603-1740751200-1740751200@decouvertebaie.com
SUMMARY:Petite balade autour du Mont St-Michel 2/3 km
DESCRIPTION:
URL:https://decouvertebaie.com/evenement/petite-balade-autour-du-mont-st-michel-2-3-km-32/
END:VEVENT
BEGIN:VEVENT
DTSTART;TZID=Europe/Paris:20250228T163000
DTEND;TZID=Europe/Paris:20250228T163000
DTSTAMP:20260425T174356
CREATED:20250101T214815Z
LAST-MODIFIED:20250101T214815Z
UID:10601-1740760200-1740760200@decouvertebaie.com
SUMMARY:Marée montante et mascaret 2/3 km
DESCRIPTION:
URL:https://decouvertebaie.com/evenement/maree-montante-et-mascaret-2-3-km/
END:VEVENT
END:VCALENDAR