BEGIN:VCALENDAR
VERSION:2.0
PRODID:-//Découverte de la Baie - ECPv6.15.20//NONSGML v1.0//EN
CALSCALE:GREGORIAN
METHOD:PUBLISH
X-WR-CALNAME:Découverte de la Baie
X-ORIGINAL-URL:https://decouvertebaie.com
X-WR-CALDESC:Évènements pour Découverte de la Baie
REFRESH-INTERVAL;VALUE=DURATION:PT1H
X-Robots-Tag:noindex
X-PUBLISHED-TTL:PT1H
BEGIN:VTIMEZONE
TZID:Europe/Paris
BEGIN:DAYLIGHT
TZOFFSETFROM:+0100
TZOFFSETTO:+0200
TZNAME:CEST
DTSTART:20240331T010000
END:DAYLIGHT
BEGIN:STANDARD
TZOFFSETFROM:+0200
TZOFFSETTO:+0100
TZNAME:CET
DTSTART:20241027T010000
END:STANDARD
BEGIN:DAYLIGHT
TZOFFSETFROM:+0100
TZOFFSETTO:+0200
TZNAME:CEST
DTSTART:20250330T010000
END:DAYLIGHT
BEGIN:STANDARD
TZOFFSETFROM:+0200
TZOFFSETTO:+0100
TZNAME:CET
DTSTART:20251026T010000
END:STANDARD
BEGIN:DAYLIGHT
TZOFFSETFROM:+0100
TZOFFSETTO:+0200
TZNAME:CEST
DTSTART:20260329T010000
END:DAYLIGHT
BEGIN:STANDARD
TZOFFSETFROM:+0200
TZOFFSETTO:+0100
TZNAME:CET
DTSTART:20261025T010000
END:STANDARD
END:VTIMEZONE
BEGIN:VEVENT
DTSTART;TZID=Europe/Paris:20250102T140000
DTEND;TZID=Europe/Paris:20250102T140000
DTSTAMP:20260425T160107
CREATED:20250101T220521Z
LAST-MODIFIED:20250101T220521Z
UID:10610-1735826400-1735826400@decouvertebaie.com
SUMMARY:Petite balade autour du Mont St-Michel 2/3 km
DESCRIPTION:
URL:https://decouvertebaie.com/evenement/petite-balade-autour-du-mont-st-michel-2-3-km-33/
END:VEVENT
BEGIN:VEVENT
DTSTART;TZID=Europe/Paris:20250103T140000
DTEND;TZID=Europe/Paris:20250103T140000
DTSTAMP:20260425T160107
CREATED:20250101T212703Z
LAST-MODIFIED:20250101T212703Z
UID:10569-1735912800-1735912800@decouvertebaie.com
SUMMARY:Petite balade autour du Mont St-Michel 2/3 km
DESCRIPTION:
URL:https://decouvertebaie.com/evenement/petite-balade-autour-du-mont-st-michel-2-3-km/
END:VEVENT
BEGIN:VEVENT
DTSTART;TZID=Europe/Paris:20250104T140000
DTEND;TZID=Europe/Paris:20250104T140000
DTSTAMP:20260425T160107
CREATED:20250101T212703Z
LAST-MODIFIED:20250101T212703Z
UID:10570-1735999200-1735999200@decouvertebaie.com
SUMMARY:Petite balade autour du Mont St-Michel 2/3 km
DESCRIPTION:
URL:https://decouvertebaie.com/evenement/petite-balade-autour-du-mont-st-michel-2-3-km-2/
END:VEVENT
BEGIN:VEVENT
DTSTART;TZID=Europe/Paris:20250105T143000
DTEND;TZID=Europe/Paris:20250105T143000
DTSTAMP:20260425T160107
CREATED:20250101T212703Z
LAST-MODIFIED:20250101T212703Z
UID:10571-1736087400-1736087400@decouvertebaie.com
SUMMARY:Petite balade autour du Mont St-Michel 2/3 km
DESCRIPTION:
URL:https://decouvertebaie.com/evenement/petite-balade-autour-du-mont-st-michel-2-3-km-3/
END:VEVENT
BEGIN:VEVENT
DTSTART;TZID=Europe/Paris:20250108T140000
DTEND;TZID=Europe/Paris:20250108T140000
DTSTAMP:20260425T160107
CREATED:20250101T212703Z
LAST-MODIFIED:20250101T212703Z
UID:10572-1736344800-1736344800@decouvertebaie.com
SUMMARY:Petite balade autour du Mont St-Michel 2/3 km
DESCRIPTION:
URL:https://decouvertebaie.com/evenement/petite-balade-autour-du-mont-st-michel-2-3-km-4/
END:VEVENT
BEGIN:VEVENT
DTSTART;TZID=Europe/Paris:20250111T110000
DTEND;TZID=Europe/Paris:20250111T110000
DTSTAMP:20260425T160107
CREATED:20250101T212703Z
LAST-MODIFIED:20250101T212703Z
UID:10573-1736593200-1736593200@decouvertebaie.com
SUMMARY:Petite balade autour du Mont St-Michel 2/3 km
DESCRIPTION:
URL:https://decouvertebaie.com/evenement/petite-balade-autour-du-mont-st-michel-2-3-km-5/
END:VEVENT
BEGIN:VEVENT
DTSTART;TZID=Europe/Paris:20250115T140000
DTEND;TZID=Europe/Paris:20250115T140000
DTSTAMP:20260425T160107
CREATED:20250101T212707Z
LAST-MODIFIED:20250101T212707Z
UID:10574-1736949600-1736949600@decouvertebaie.com
SUMMARY:Petite balade autour du Mont St-Michel 2/3 km
DESCRIPTION:
URL:https://decouvertebaie.com/evenement/petite-balade-autour-du-mont-st-michel-2-3-km-6/
END:VEVENT
BEGIN:VEVENT
DTSTART;TZID=Europe/Paris:20250118T140000
DTEND;TZID=Europe/Paris:20250118T140000
DTSTAMP:20260425T160107
CREATED:20250101T212708Z
LAST-MODIFIED:20250101T212708Z
UID:10575-1737208800-1737208800@decouvertebaie.com
SUMMARY:Petite balade autour du Mont St-Michel 2/3 km
DESCRIPTION:
URL:https://decouvertebaie.com/evenement/petite-balade-autour-du-mont-st-michel-2-3-km-7/
END:VEVENT
BEGIN:VEVENT
DTSTART;TZID=Europe/Paris:20250122T143000
DTEND;TZID=Europe/Paris:20250122T143000
DTSTAMP:20260425T160107
CREATED:20250101T212708Z
LAST-MODIFIED:20250101T212708Z
UID:10576-1737556200-1737556200@decouvertebaie.com
SUMMARY:Petite balade autour du Mont St-Michel 2/3 km
DESCRIPTION:
URL:https://decouvertebaie.com/evenement/petite-balade-autour-du-mont-st-michel-2-3-km-8/
END:VEVENT
BEGIN:VEVENT
DTSTART;TZID=Europe/Paris:20250125T113000
DTEND;TZID=Europe/Paris:20250125T113000
DTSTAMP:20260425T160107
CREATED:20250101T212708Z
LAST-MODIFIED:20250101T212708Z
UID:10577-1737804600-1737804600@decouvertebaie.com
SUMMARY:Petite balade autour du Mont St-Michel 2/3 km
DESCRIPTION:
URL:https://decouvertebaie.com/evenement/petite-balade-autour-du-mont-st-michel-2-3-km-9/
END:VEVENT
BEGIN:VEVENT
DTSTART;TZID=Europe/Paris:20250129T140000
DTEND;TZID=Europe/Paris:20250129T140000
DTSTAMP:20260425T160107
CREATED:20250101T212708Z
LAST-MODIFIED:20250101T212708Z
UID:10578-1738159200-1738159200@decouvertebaie.com
SUMMARY:Petite balade autour du Mont St-Michel 2/3 km
DESCRIPTION:
URL:https://decouvertebaie.com/evenement/petite-balade-autour-du-mont-st-michel-2-3-km-10/
END:VEVENT
END:VCALENDAR