BEGIN:VCALENDAR
VERSION:2.0
PRODID:-//Découverte de la Baie - ECPv6.15.20//NONSGML v1.0//EN
CALSCALE:GREGORIAN
METHOD:PUBLISH
X-WR-CALNAME:Découverte de la Baie
X-ORIGINAL-URL:https://decouvertebaie.com
X-WR-CALDESC:Évènements pour Découverte de la Baie
REFRESH-INTERVAL;VALUE=DURATION:PT1H
X-Robots-Tag:noindex
X-PUBLISHED-TTL:PT1H
BEGIN:VTIMEZONE
TZID:Europe/Paris
BEGIN:DAYLIGHT
TZOFFSETFROM:+0100
TZOFFSETTO:+0200
TZNAME:CEST
DTSTART:20230326T010000
END:DAYLIGHT
BEGIN:STANDARD
TZOFFSETFROM:+0200
TZOFFSETTO:+0100
TZNAME:CET
DTSTART:20231029T010000
END:STANDARD
BEGIN:DAYLIGHT
TZOFFSETFROM:+0100
TZOFFSETTO:+0200
TZNAME:CEST
DTSTART:20240331T010000
END:DAYLIGHT
BEGIN:STANDARD
TZOFFSETFROM:+0200
TZOFFSETTO:+0100
TZNAME:CET
DTSTART:20241027T010000
END:STANDARD
BEGIN:DAYLIGHT
TZOFFSETFROM:+0100
TZOFFSETTO:+0200
TZNAME:CEST
DTSTART:20250330T010000
END:DAYLIGHT
BEGIN:STANDARD
TZOFFSETFROM:+0200
TZOFFSETTO:+0100
TZNAME:CET
DTSTART:20251026T010000
END:STANDARD
END:VTIMEZONE
BEGIN:VEVENT
DTSTART;TZID=Europe/Paris:20240701T090000
DTEND;TZID=Europe/Paris:20240701T090000
DTSTAMP:20260425T060000
CREATED:20240521T085325Z
LAST-MODIFIED:20240521T085357Z
UID:6734-1719824400-1719824400@decouvertebaie.com
SUMMARY:Traversée - Découverte de la baie
DESCRIPTION:
URL:https://decouvertebaie.com/evenement/traversee-decouverte-de-la-baie-210/
END:VEVENT
BEGIN:VEVENT
DTSTART;TZID=Europe/Paris:20240701T133000
DTEND;TZID=Europe/Paris:20240701T133000
DTSTAMP:20260425T060000
CREATED:20240515T073924Z
LAST-MODIFIED:20240620T144019Z
UID:6118-1719840600-1719840600@decouvertebaie.com
SUMMARY:Balade sur les grèves
DESCRIPTION:
URL:https://decouvertebaie.com/evenement/balade-sur-les-greves-73/
END:VEVENT
BEGIN:VEVENT
DTSTART;TZID=Europe/Paris:20240702T093000
DTEND;TZID=Europe/Paris:20240702T093000
DTSTAMP:20260425T060000
CREATED:20240515T073924Z
LAST-MODIFIED:20240515T073924Z
UID:6119-1719912600-1719912600@decouvertebaie.com
SUMMARY:Traversée - Découverte de la baie
DESCRIPTION:
URL:https://decouvertebaie.com/evenement/traversee-decouverte-de-la-baie-55/
END:VEVENT
BEGIN:VEVENT
DTSTART;TZID=Europe/Paris:20240702T103000
DTEND;TZID=Europe/Paris:20240702T103000
DTSTAMP:20260425T060000
CREATED:20240515T073924Z
LAST-MODIFIED:20240515T073924Z
UID:6120-1719916200-1719916200@decouvertebaie.com
SUMMARY:Traversée - Découverte de la baie retour en bus
DESCRIPTION:
URL:https://decouvertebaie.com/evenement/traversee-decouverte-de-la-baie-retour-en-bus-31/
END:VEVENT
BEGIN:VEVENT
DTSTART;TZID=Europe/Paris:20240702T140000
DTEND;TZID=Europe/Paris:20240702T140000
DTSTAMP:20260425T060000
CREATED:20240515T073924Z
LAST-MODIFIED:20240515T073924Z
UID:6121-1719928800-1719928800@decouvertebaie.com
SUMMARY:Balade sur les grèves
DESCRIPTION:
URL:https://decouvertebaie.com/evenement/balade-sur-les-greves-74/
END:VEVENT
BEGIN:VEVENT
DTSTART;TZID=Europe/Paris:20240703T093000
DTEND;TZID=Europe/Paris:20240703T093000
DTSTAMP:20260425T060000
CREATED:20240515T073924Z
LAST-MODIFIED:20240515T073924Z
UID:6122-1719999000-1719999000@decouvertebaie.com
SUMMARY:Traversée - Découverte de la baie
DESCRIPTION:
URL:https://decouvertebaie.com/evenement/traversee-decouverte-de-la-baie-56/
END:VEVENT
BEGIN:VEVENT
DTSTART;TZID=Europe/Paris:20240703T103000
DTEND;TZID=Europe/Paris:20240703T103000
DTSTAMP:20260425T060000
CREATED:20240515T073926Z
LAST-MODIFIED:20240515T073926Z
UID:6123-1720002600-1720002600@decouvertebaie.com
SUMMARY:Traversée - Découverte de la baie retour en bus
DESCRIPTION:
URL:https://decouvertebaie.com/evenement/traversee-decouverte-de-la-baie-retour-en-bus-32/
END:VEVENT
BEGIN:VEVENT
DTSTART;TZID=Europe/Paris:20240703T110000
DTEND;TZID=Europe/Paris:20240703T110000
DTSTAMP:20260425T060000
CREATED:20240620T162908Z
LAST-MODIFIED:20240620T162908Z
UID:7370-1720004400-1720004400@decouvertebaie.com
SUMMARY:Echappée pique-nique à Tombelaine
DESCRIPTION:
URL:https://decouvertebaie.com/evenement/echappee-pique-nique-a-tombelaine-11/
END:VEVENT
BEGIN:VEVENT
DTSTART;TZID=Europe/Paris:20240703T143000
DTEND;TZID=Europe/Paris:20240703T143000
DTSTAMP:20260425T060000
CREATED:20240515T073927Z
LAST-MODIFIED:20240515T073927Z
UID:6125-1720017000-1720017000@decouvertebaie.com
SUMMARY:Balade sur les grèves
DESCRIPTION:
URL:https://decouvertebaie.com/evenement/balade-sur-les-greves-75/
END:VEVENT
BEGIN:VEVENT
DTSTART;TZID=Europe/Paris:20240704T100000
DTEND;TZID=Europe/Paris:20240704T100000
DTSTAMP:20260425T060000
CREATED:20240515T073927Z
LAST-MODIFIED:20240515T073927Z
UID:6126-1720087200-1720087200@decouvertebaie.com
SUMMARY:Traversée - Découverte de la baie
DESCRIPTION:
URL:https://decouvertebaie.com/evenement/traversee-decouverte-de-la-baie-57/
END:VEVENT
BEGIN:VEVENT
DTSTART;TZID=Europe/Paris:20240704T110000
DTEND;TZID=Europe/Paris:20240704T110000
DTSTAMP:20260425T060000
CREATED:20240515T073927Z
LAST-MODIFIED:20240620T144205Z
UID:6127-1720090800-1720090800@decouvertebaie.com
SUMMARY:Balade sur les grèves
DESCRIPTION:
URL:https://decouvertebaie.com/evenement/balade-sur-les-greves-76/
END:VEVENT
BEGIN:VEVENT
DTSTART;TZID=Europe/Paris:20240705T103000
DTEND;TZID=Europe/Paris:20240705T103000
DTSTAMP:20260425T060000
CREATED:20240515T073942Z
LAST-MODIFIED:20240515T073942Z
UID:6128-1720175400-1720175400@decouvertebaie.com
SUMMARY:Traversée - Découverte de la baie
DESCRIPTION:
URL:https://decouvertebaie.com/evenement/traversee-decouverte-de-la-baie-58/
END:VEVENT
BEGIN:VEVENT
DTSTART;TZID=Europe/Paris:20240705T110000
DTEND;TZID=Europe/Paris:20240705T110000
DTSTAMP:20260425T060000
CREATED:20240515T073942Z
LAST-MODIFIED:20240620T144300Z
UID:6129-1720177200-1720177200@decouvertebaie.com
SUMMARY:Balade sur les grèves
DESCRIPTION:
URL:https://decouvertebaie.com/evenement/balade-sur-les-greves-77/
END:VEVENT
BEGIN:VEVENT
DTSTART;TZID=Europe/Paris:20240705T133000
DTEND;TZID=Europe/Paris:20240705T133000
DTSTAMP:20260425T060000
CREATED:20240515T073943Z
LAST-MODIFIED:20240515T073943Z
UID:6130-1720186200-1720186200@decouvertebaie.com
SUMMARY:Découverte de l'îlot de Tombelaine
DESCRIPTION:
URL:https://decouvertebaie.com/evenement/decouverte-de-lilot-de-tombelaine-29/
END:VEVENT
BEGIN:VEVENT
DTSTART;TZID=Europe/Paris:20240706T113000
DTEND;TZID=Europe/Paris:20240706T113000
DTSTAMP:20260425T060000
CREATED:20240515T073943Z
LAST-MODIFIED:20240515T073943Z
UID:6131-1720265400-1720265400@decouvertebaie.com
SUMMARY:Traversée - Découverte de la baie
DESCRIPTION:
URL:https://decouvertebaie.com/evenement/traversee-decouverte-de-la-baie-59/
END:VEVENT
BEGIN:VEVENT
DTSTART;TZID=Europe/Paris:20240706T140000
DTEND;TZID=Europe/Paris:20240706T140000
DTSTAMP:20260425T060000
CREATED:20240515T073943Z
LAST-MODIFIED:20240515T073943Z
UID:6132-1720274400-1720274400@decouvertebaie.com
SUMMARY:Traversée - Découverte de la baie retour en bus
DESCRIPTION:
URL:https://decouvertebaie.com/evenement/traversee-decouverte-de-la-baie-retour-en-bus-33/
END:VEVENT
BEGIN:VEVENT
DTSTART;TZID=Europe/Paris:20240706T140000
DTEND;TZID=Europe/Paris:20240706T140000
DTSTAMP:20260425T060000
CREATED:20240515T073957Z
LAST-MODIFIED:20240515T073957Z
UID:6133-1720274400-1720274400@decouvertebaie.com
SUMMARY:Balade sur les grèves
DESCRIPTION:
URL:https://decouvertebaie.com/evenement/balade-sur-les-greves-78/
END:VEVENT
BEGIN:VEVENT
DTSTART;TZID=Europe/Paris:20240706T143000
DTEND;TZID=Europe/Paris:20240706T143000
DTSTAMP:20260425T060000
CREATED:20240515T073957Z
LAST-MODIFIED:20240515T073957Z
UID:6134-1720276200-1720276200@decouvertebaie.com
SUMMARY:Découverte de l'îlot de Tombelaine
DESCRIPTION:
URL:https://decouvertebaie.com/evenement/decouverte-de-lilot-de-tombelaine-30/
END:VEVENT
BEGIN:VEVENT
DTSTART;TZID=Europe/Paris:20240706T170000
DTEND;TZID=Europe/Paris:20240706T170000
DTSTAMP:20260425T060000
CREATED:20240515T073958Z
LAST-MODIFIED:20240515T073958Z
UID:6135-1720285200-1720285200@decouvertebaie.com
SUMMARY:Balade sur les grèves
DESCRIPTION:
URL:https://decouvertebaie.com/evenement/balade-sur-les-greves-79/
END:VEVENT
BEGIN:VEVENT
DTSTART;TZID=Europe/Paris:20240707T120000
DTEND;TZID=Europe/Paris:20240707T120000
DTSTAMP:20260425T060000
CREATED:20240515T073958Z
LAST-MODIFIED:20240515T073958Z
UID:6136-1720353600-1720353600@decouvertebaie.com
SUMMARY:Traversée - Découverte de la baie
DESCRIPTION:
URL:https://decouvertebaie.com/evenement/traversee-decouverte-de-la-baie-60/
END:VEVENT
BEGIN:VEVENT
DTSTART;TZID=Europe/Paris:20240707T120000
DTEND;TZID=Europe/Paris:20240707T120000
DTSTAMP:20260425T060000
CREATED:20240515T073958Z
LAST-MODIFIED:20240515T073958Z
UID:6137-1720353600-1720353600@decouvertebaie.com
SUMMARY:Traversée - Découverte de la baie retour en bus
DESCRIPTION:
URL:https://decouvertebaie.com/evenement/traversee-decouverte-de-la-baie-retour-en-bus-34/
END:VEVENT
BEGIN:VEVENT
DTSTART;TZID=Europe/Paris:20240707T140000
DTEND;TZID=Europe/Paris:20240707T140000
DTSTAMP:20260425T060000
CREATED:20240515T074036Z
LAST-MODIFIED:20240515T074036Z
UID:6138-1720360800-1720360800@decouvertebaie.com
SUMMARY:Balade sur les grèves
DESCRIPTION:
URL:https://decouvertebaie.com/evenement/balade-sur-les-greves-80/
END:VEVENT
BEGIN:VEVENT
DTSTART;TZID=Europe/Paris:20240707T140000
DTEND;TZID=Europe/Paris:20240707T140000
DTSTAMP:20260425T060000
CREATED:20240515T074036Z
LAST-MODIFIED:20240515T074036Z
UID:6139-1720360800-1720360800@decouvertebaie.com
SUMMARY:Découverte de l'îlot de Tombelaine
DESCRIPTION:
URL:https://decouvertebaie.com/evenement/decouverte-de-lilot-de-tombelaine-31/
END:VEVENT
BEGIN:VEVENT
DTSTART;TZID=Europe/Paris:20240708T124500
DTEND;TZID=Europe/Paris:20240708T124500
DTSTAMP:20260425T060000
CREATED:20240515T074036Z
LAST-MODIFIED:20240515T074036Z
UID:6140-1720442700-1720442700@decouvertebaie.com
SUMMARY:Traversée - Découverte de la baie
DESCRIPTION:
URL:https://decouvertebaie.com/evenement/traversee-decouverte-de-la-baie-61/
END:VEVENT
BEGIN:VEVENT
DTSTART;TZID=Europe/Paris:20240708T150000
DTEND;TZID=Europe/Paris:20240708T150000
DTSTAMP:20260425T060000
CREATED:20240515T074036Z
LAST-MODIFIED:20240515T074036Z
UID:6141-1720450800-1720450800@decouvertebaie.com
SUMMARY:Découverte de l'îlot de Tombelaine
DESCRIPTION:
URL:https://decouvertebaie.com/evenement/decouverte-de-lilot-de-tombelaine-32/
END:VEVENT
BEGIN:VEVENT
DTSTART;TZID=Europe/Paris:20240708T150000
DTEND;TZID=Europe/Paris:20240708T150000
DTSTAMP:20260425T060000
CREATED:20240515T074036Z
LAST-MODIFIED:20240515T074036Z
UID:6142-1720450800-1720450800@decouvertebaie.com
SUMMARY:Balade sur les grèves
DESCRIPTION:
URL:https://decouvertebaie.com/evenement/balade-sur-les-greves-81/
END:VEVENT
BEGIN:VEVENT
DTSTART;TZID=Europe/Paris:20240709T131500
DTEND;TZID=Europe/Paris:20240709T131500
DTSTAMP:20260425T060000
CREATED:20240515T074050Z
LAST-MODIFIED:20240515T074050Z
UID:6143-1720530900-1720530900@decouvertebaie.com
SUMMARY:Traversée - Découverte de la baie
DESCRIPTION:
URL:https://decouvertebaie.com/evenement/traversee-decouverte-de-la-baie-62/
END:VEVENT
BEGIN:VEVENT
DTSTART;TZID=Europe/Paris:20240709T131500
DTEND;TZID=Europe/Paris:20240709T131500
DTSTAMP:20260425T060000
CREATED:20240515T074050Z
LAST-MODIFIED:20240515T074050Z
UID:6144-1720530900-1720530900@decouvertebaie.com
SUMMARY:Traversée - Découverte de la baie retour en bus
DESCRIPTION:
URL:https://decouvertebaie.com/evenement/traversee-decouverte-de-la-baie-retour-en-bus-35/
END:VEVENT
BEGIN:VEVENT
DTSTART;TZID=Europe/Paris:20240709T143000
DTEND;TZID=Europe/Paris:20240709T143000
DTSTAMP:20260425T060000
CREATED:20240515T074051Z
LAST-MODIFIED:20240515T074051Z
UID:6145-1720535400-1720535400@decouvertebaie.com
SUMMARY:Balade sur les grèves
DESCRIPTION:
URL:https://decouvertebaie.com/evenement/balade-sur-les-greves-82/
END:VEVENT
BEGIN:VEVENT
DTSTART;TZID=Europe/Paris:20240709T153000
DTEND;TZID=Europe/Paris:20240709T153000
DTSTAMP:20260425T060000
CREATED:20240515T074051Z
LAST-MODIFIED:20240620T163034Z
UID:6146-1720539000-1720539000@decouvertebaie.com
SUMMARY:Découverte de l'îlot de Tombelaine
DESCRIPTION:
URL:https://decouvertebaie.com/evenement/decouverte-de-lilot-de-tombelaine-33/
END:VEVENT
END:VCALENDAR