BEGIN:VCALENDAR
VERSION:2.0
PRODID:-//Découverte de la Baie - ECPv6.15.20//NONSGML v1.0//EN
CALSCALE:GREGORIAN
METHOD:PUBLISH
X-ORIGINAL-URL:https://decouvertebaie.com
X-WR-CALDESC:Évènements pour Découverte de la Baie
REFRESH-INTERVAL;VALUE=DURATION:PT1H
X-Robots-Tag:noindex
X-PUBLISHED-TTL:PT1H
BEGIN:VTIMEZONE
TZID:Europe/Paris
BEGIN:DAYLIGHT
TZOFFSETFROM:+0100
TZOFFSETTO:+0200
TZNAME:CEST
DTSTART:20250330T010000
END:DAYLIGHT
BEGIN:STANDARD
TZOFFSETFROM:+0200
TZOFFSETTO:+0100
TZNAME:CET
DTSTART:20251026T010000
END:STANDARD
BEGIN:DAYLIGHT
TZOFFSETFROM:+0100
TZOFFSETTO:+0200
TZNAME:CEST
DTSTART:20260329T010000
END:DAYLIGHT
BEGIN:STANDARD
TZOFFSETFROM:+0200
TZOFFSETTO:+0100
TZNAME:CET
DTSTART:20261025T010000
END:STANDARD
BEGIN:DAYLIGHT
TZOFFSETFROM:+0100
TZOFFSETTO:+0200
TZNAME:CEST
DTSTART:20270328T010000
END:DAYLIGHT
BEGIN:STANDARD
TZOFFSETFROM:+0200
TZOFFSETTO:+0100
TZNAME:CET
DTSTART:20271031T010000
END:STANDARD
END:VTIMEZONE
BEGIN:VEVENT
DTSTART;TZID=Europe/Paris:20260831T184500
DTEND;TZID=Europe/Paris:20260831T184500
DTSTAMP:20260424T021417
CREATED:20260218T231803Z
LAST-MODIFIED:20260218T231803Z
UID:13838-1788201900-1788201900@decouvertebaie.com
SUMMARY:Marée montante et mascaret 3 km
DESCRIPTION:Départ Mont St Michel – Durée : 2h00 – Distance : 3 km
URL:https://decouvertebaie.com/evenement/maree-montante-et-mascaret-3-km-44/
END:VEVENT
BEGIN:VEVENT
DTSTART;TZID=Europe/Paris:20260901T133000
DTEND;TZID=Europe/Paris:20260901T133000
DTSTAMP:20260424T021417
CREATED:20260222T180343Z
LAST-MODIFIED:20260322T231351Z
UID:13846-1788269400-1788269400@decouvertebaie.com
SUMMARY:Traversée - Découverte de la baie 14 km
DESCRIPTION:Départ Bec d’Andaine – Durée : 6h00 – Distance : 14 km
URL:https://decouvertebaie.com/evenement/traversee-decouverte-de-la-baie-14-km-361/
END:VEVENT
BEGIN:VEVENT
DTSTART;TZID=Europe/Paris:20260901T133000
DTEND;TZID=Europe/Paris:20260901T133000
DTSTAMP:20260424T021417
CREATED:20260222T180344Z
LAST-MODIFIED:20260322T231351Z
UID:13847-1788269400-1788269400@decouvertebaie.com
SUMMARY:Du Bec d'Andaine à Tombelaine 8 km
DESCRIPTION:Départ Bec d’Andaine – Durée : 4h00 – Distance : 8 km
URL:https://decouvertebaie.com/evenement/du-bec-dandaine-a-tombelaine-8-km-24/
END:VEVENT
BEGIN:VEVENT
DTSTART;TZID=Europe/Paris:20260902T134500
DTEND;TZID=Europe/Paris:20260902T134500
DTSTAMP:20260424T021417
CREATED:20260222T180344Z
LAST-MODIFIED:20260322T231351Z
UID:13848-1788356700-1788356700@decouvertebaie.com
SUMMARY:Traversée - Découverte de la baie 14 km
DESCRIPTION:Départ Bec d’Andaine – Durée : 6h00 – Distance : 14 km
URL:https://decouvertebaie.com/evenement/traversee-decouverte-de-la-baie-14-km-362/
END:VEVENT
BEGIN:VEVENT
DTSTART;TZID=Europe/Paris:20260902T134500
DTEND;TZID=Europe/Paris:20260902T134500
DTSTAMP:20260424T021417
CREATED:20260222T180344Z
LAST-MODIFIED:20260322T231351Z
UID:13849-1788356700-1788356700@decouvertebaie.com
SUMMARY:Traversée - Découverte de la baie retour en bus 7 km
DESCRIPTION:Départ Bec d’Andaine – Durée : 6h30 – Distance : 7 km
URL:https://decouvertebaie.com/evenement/traversee-decouverte-de-la-baie-retour-en-bus-7-km-64/
END:VEVENT
BEGIN:VEVENT
DTSTART;TZID=Europe/Paris:20260902T144500
DTEND;TZID=Europe/Paris:20260902T144500
DTSTAMP:20260424T021417
CREATED:20260222T180344Z
LAST-MODIFIED:20260322T231351Z
UID:13850-1788360300-1788360300@decouvertebaie.com
SUMMARY:Découverte de l'îlot de Tombelaine 7 km
DESCRIPTION:Départ Mont St Michel – Durée : 3h30 – Distance : 7 km
URL:https://decouvertebaie.com/evenement/decouverte-de-lilot-de-tombelaine-7-km-35/
END:VEVENT
BEGIN:VEVENT
DTSTART;TZID=Europe/Paris:20260903T130000
DTEND;TZID=Europe/Paris:20260903T130000
DTSTAMP:20260424T021417
CREATED:20260222T180346Z
LAST-MODIFIED:20260322T231354Z
UID:13851-1788440400-1788440400@decouvertebaie.com
SUMMARY:Traversée - Découverte de la baie 14 km
DESCRIPTION:Départ St Léonard – Durée : 6h00 – Distance : 14 km
URL:https://decouvertebaie.com/evenement/traversee-decouverte-de-la-baie-14-km-363/
END:VEVENT
BEGIN:VEVENT
DTSTART;TZID=Europe/Paris:20260903T144500
DTEND;TZID=Europe/Paris:20260903T144500
DTSTAMP:20260424T021417
CREATED:20260222T180346Z
LAST-MODIFIED:20260322T231354Z
UID:13852-1788446700-1788446700@decouvertebaie.com
SUMMARY:Petite balade autour du Mont Saint-Michel 3 km
DESCRIPTION:Départ Mont St Michel – Durée : 2h00 – Distance : 3 km
URL:https://decouvertebaie.com/evenement/petite-balade-autour-du-mont-saint-michel-3-km-77/
END:VEVENT
BEGIN:VEVENT
DTSTART;TZID=Europe/Paris:20260903T173000
DTEND;TZID=Europe/Paris:20260903T173000
DTSTAMP:20260424T021417
CREATED:20260222T180346Z
LAST-MODIFIED:20260322T231354Z
UID:13853-1788456600-1788456600@decouvertebaie.com
SUMMARY:Découverte des sables mouvants 2 km
DESCRIPTION:Départ Mont St Michel – Durée : 1h30 – Distance : 2 km
URL:https://decouvertebaie.com/evenement/decouverte-des-sables-mouvants-2-km-226/
END:VEVENT
BEGIN:VEVENT
DTSTART;TZID=Europe/Paris:20260904T133000
DTEND;TZID=Europe/Paris:20260904T133000
DTSTAMP:20260424T021417
CREATED:20260222T180346Z
LAST-MODIFIED:20260322T231354Z
UID:13854-1788528600-1788528600@decouvertebaie.com
SUMMARY:Traversée - Découverte de la baie 14 km
DESCRIPTION:Départ St Léonard – Durée : 6h00 – Distance : 14 km
URL:https://decouvertebaie.com/evenement/traversee-decouverte-de-la-baie-14-km-364/
END:VEVENT
BEGIN:VEVENT
DTSTART;TZID=Europe/Paris:20260904T151500
DTEND;TZID=Europe/Paris:20260904T151500
DTSTAMP:20260424T021417
CREATED:20260222T180347Z
LAST-MODIFIED:20260322T231354Z
UID:13855-1788534900-1788534900@decouvertebaie.com
SUMMARY:Petite balade autour du Mont Saint-Michel 3 km
DESCRIPTION:Départ Mont St Michel – Durée : 2h00 – Distance : 3 km
URL:https://decouvertebaie.com/evenement/petite-balade-autour-du-mont-saint-michel-3-km-78/
END:VEVENT
BEGIN:VEVENT
DTSTART;TZID=Europe/Paris:20260904T153000
DTEND;TZID=Europe/Paris:20260904T153000
DTSTAMP:20260424T021417
CREATED:20260222T180402Z
LAST-MODIFIED:20260322T231409Z
UID:13856-1788535800-1788535800@decouvertebaie.com
SUMMARY:Découverte des sables mouvants 2 km
DESCRIPTION:Départ Mont St Michel – Durée : 1h30 – Distance : 2 km
URL:https://decouvertebaie.com/evenement/decouverte-des-sables-mouvants-2-km-227/
END:VEVENT
BEGIN:VEVENT
DTSTART;TZID=Europe/Paris:20260904T174500
DTEND;TZID=Europe/Paris:20260904T174500
DTSTAMP:20260424T021417
CREATED:20260222T180402Z
LAST-MODIFIED:20260322T231409Z
UID:13857-1788543900-1788543900@decouvertebaie.com
SUMMARY:Contes et légendes de la baie du Mont St-Michel 3 km
DESCRIPTION:Départ Mont St Michel – Durée : 2h00 – Distance : 3 km
URL:https://decouvertebaie.com/evenement/contes-et-legendes-de-la-baie-du-mont-st-michel-3-km-20/
END:VEVENT
BEGIN:VEVENT
DTSTART;TZID=Europe/Paris:20260904T180000
DTEND;TZID=Europe/Paris:20260904T180000
DTSTAMP:20260424T021417
CREATED:20260222T180402Z
LAST-MODIFIED:20260322T231409Z
UID:13858-1788544800-1788544800@decouvertebaie.com
SUMMARY:Découverte des sables mouvants 2 km
DESCRIPTION:Départ Mont St Michel – Durée : 1h30 – Distance : 2 km
URL:https://decouvertebaie.com/evenement/decouverte-des-sables-mouvants-2-km-228/
END:VEVENT
BEGIN:VEVENT
DTSTART;TZID=Europe/Paris:20260904T190000
DTEND;TZID=Europe/Paris:20260904T190000
DTSTAMP:20260424T021417
CREATED:20260222T180403Z
LAST-MODIFIED:20260322T231409Z
UID:13859-1788548400-1788548400@decouvertebaie.com
SUMMARY:Soleil couchant - petite balade autour du Mont St-Michel 3 km
DESCRIPTION:Départ Mont St Michel – Durée : 2h00 – Distance : 3 km
URL:https://decouvertebaie.com/evenement/soleil-couchant-petite-balade-autour-du-mont-st-michel-3-km-15/
END:VEVENT
BEGIN:VEVENT
DTSTART;TZID=Europe/Paris:20260905T133000
DTEND;TZID=Europe/Paris:20260905T133000
DTSTAMP:20260424T021417
CREATED:20260222T180403Z
LAST-MODIFIED:20260322T231409Z
UID:13860-1788615000-1788615000@decouvertebaie.com
SUMMARY:Traversée - Découverte de la baie 14 km
DESCRIPTION:Départ St Léonard – Durée : 6h00 – Distance : 14 km
URL:https://decouvertebaie.com/evenement/traversee-decouverte-de-la-baie-14-km-365/
END:VEVENT
BEGIN:VEVENT
DTSTART;TZID=Europe/Paris:20260905T133000
DTEND;TZID=Europe/Paris:20260905T133000
DTSTAMP:20260424T021417
CREATED:20260222T180416Z
LAST-MODIFIED:20260322T231424Z
UID:13861-1788615000-1788615000@decouvertebaie.com
SUMMARY:Traversée - Découverte de la baie retour en bus 7 km
DESCRIPTION:Départ St Léonard – Durée : 6h30 – Distance : 7 km
URL:https://decouvertebaie.com/evenement/traversee-decouverte-de-la-baie-retour-en-bus-7-km-65/
END:VEVENT
BEGIN:VEVENT
DTSTART;TZID=Europe/Paris:20260905T154500
DTEND;TZID=Europe/Paris:20260905T154500
DTSTAMP:20260424T021417
CREATED:20260322T233001Z
LAST-MODIFIED:20260322T233001Z
UID:13862-1788623100-1788623100@decouvertebaie.com
SUMMARY:Découverte de l'îlot de Tombelaine 7 km
DESCRIPTION:Départ Mont St Michel – Durée : 3h30 – Distance : 7 km
URL:https://decouvertebaie.com/evenement/decouverte-de-lilot-de-tombelaine-7-km-36/
END:VEVENT
BEGIN:VEVENT
DTSTART;TZID=Europe/Paris:20260905T161500
DTEND;TZID=Europe/Paris:20260905T161500
DTSTAMP:20260424T021417
CREATED:20260322T233001Z
LAST-MODIFIED:20260322T233001Z
UID:13863-1788624900-1788624900@decouvertebaie.com
SUMMARY:Petite balade autour du Mont Saint-Michel 3 km
DESCRIPTION:Départ Mont St Michel – Durée : 2h00 – Distance : 3 km
URL:https://decouvertebaie.com/evenement/petite-balade-autour-du-mont-saint-michel-3-km-79/
END:VEVENT
BEGIN:VEVENT
DTSTART;TZID=Europe/Paris:20260905T163000
DTEND;TZID=Europe/Paris:20260905T163000
DTSTAMP:20260424T021417
CREATED:20260322T233000Z
LAST-MODIFIED:20260322T233000Z
UID:13864-1788625800-1788625800@decouvertebaie.com
SUMMARY:Découverte des sables mouvants 2 km
DESCRIPTION:Départ Mont St Michel – Durée : 1h30 – Distance : 2 km
URL:https://decouvertebaie.com/evenement/decouverte-des-sables-mouvants-2-km-229/
END:VEVENT
BEGIN:VEVENT
DTSTART;TZID=Europe/Paris:20260905T190000
DTEND;TZID=Europe/Paris:20260905T190000
DTSTAMP:20260424T021417
CREATED:20260322T233000Z
LAST-MODIFIED:20260322T233000Z
UID:13865-1788634800-1788634800@decouvertebaie.com
SUMMARY:Soleil couchant - petite balade autour du Mont St-Michel 3 km
DESCRIPTION:Départ Mont St Michel – Durée : 2h00 – Distance : 3 km
URL:https://decouvertebaie.com/evenement/soleil-couchant-petite-balade-autour-du-mont-st-michel-3-km-16/
END:VEVENT
BEGIN:VEVENT
DTSTART;TZID=Europe/Paris:20260905T190000
DTEND;TZID=Europe/Paris:20260905T190000
DTSTAMP:20260424T021417
CREATED:20260322T233000Z
LAST-MODIFIED:20260322T233000Z
UID:13866-1788634800-1788634800@decouvertebaie.com
SUMMARY:Contes et légendes de la baie du Mont St-Michel 3 km
DESCRIPTION:Départ Mont St Michel – Durée : 2h00 – Distance : 3 km
URL:https://decouvertebaie.com/evenement/contes-et-legendes-de-la-baie-du-mont-st-michel-3-km-21/
END:VEVENT
BEGIN:VEVENT
DTSTART;TZID=Europe/Paris:20260906T091500
DTEND;TZID=Europe/Paris:20260906T091500
DTSTAMP:20260424T021417
CREATED:20260322T233000Z
LAST-MODIFIED:20260322T233000Z
UID:13867-1788686100-1788686100@decouvertebaie.com
SUMMARY:Traversée - Découverte de la baie 14 km
DESCRIPTION:Départ St Léonard – Durée : 6h00 – Distance : 14 km
URL:https://decouvertebaie.com/evenement/traversee-decouverte-de-la-baie-14-km-366/
END:VEVENT
BEGIN:VEVENT
DTSTART;TZID=Europe/Paris:20260906T093000
DTEND;TZID=Europe/Paris:20260906T093000
DTSTAMP:20260424T021417
CREATED:20260322T233000Z
LAST-MODIFIED:20260322T233000Z
UID:13868-1788687000-1788687000@decouvertebaie.com
SUMMARY:Traversée - Découverte de la baie retour en bus 7 km
DESCRIPTION:Départ Bec d’Andaine – Durée : 6h30 – Distance : 7 km
URL:https://decouvertebaie.com/evenement/traversee-decouverte-de-la-baie-retour-en-bus-7-km-66/
END:VEVENT
BEGIN:VEVENT
DTSTART;TZID=Europe/Paris:20260906T100000
DTEND;TZID=Europe/Paris:20260906T100000
DTSTAMP:20260424T021417
CREATED:20260322T233000Z
LAST-MODIFIED:20260322T233000Z
UID:13869-1788688800-1788688800@decouvertebaie.com
SUMMARY:Découverte des sables mouvants 2 km
DESCRIPTION:Départ Mont St Michel – Durée : 1h30 – Distance : 2 km
URL:https://decouvertebaie.com/evenement/decouverte-des-sables-mouvants-2-km-230/
END:VEVENT
BEGIN:VEVENT
DTSTART;TZID=Europe/Paris:20260906T121500
DTEND;TZID=Europe/Paris:20260906T121500
DTSTAMP:20260424T021417
CREATED:20260322T233000Z
LAST-MODIFIED:20260322T233000Z
UID:13870-1788696900-1788696900@decouvertebaie.com
SUMMARY:Petite balade autour du Mont Saint-Michel 3 km
DESCRIPTION:Départ Mont St Michel – Durée : 2h00 – Distance : 3 km
URL:https://decouvertebaie.com/evenement/petite-balade-autour-du-mont-saint-michel-3-km-80/
END:VEVENT
BEGIN:VEVENT
DTSTART;TZID=Europe/Paris:20260907T101500
DTEND;TZID=Europe/Paris:20260907T101500
DTSTAMP:20260424T021417
CREATED:20260322T233000Z
LAST-MODIFIED:20260322T233000Z
UID:13871-1788776100-1788776100@decouvertebaie.com
SUMMARY:Traversée - Découverte de la baie 14 km
DESCRIPTION:Départ St Léonard – Durée : 6h00 – Distance : 14 km
URL:https://decouvertebaie.com/evenement/traversee-decouverte-de-la-baie-14-km-367/
END:VEVENT
BEGIN:VEVENT
DTSTART;TZID=Europe/Paris:20260907T111500
DTEND;TZID=Europe/Paris:20260907T111500
DTSTAMP:20260424T021417
CREATED:20260322T233000Z
LAST-MODIFIED:20260322T233000Z
UID:13872-1788779700-1788779700@decouvertebaie.com
SUMMARY:Découverte des sables mouvants 2 km
DESCRIPTION:Départ Mont St Michel – Durée : 1h30 – Distance : 2 km
URL:https://decouvertebaie.com/evenement/decouverte-des-sables-mouvants-2-km-231/
END:VEVENT
BEGIN:VEVENT
DTSTART;TZID=Europe/Paris:20260907T134500
DTEND;TZID=Europe/Paris:20260907T134500
DTSTAMP:20260424T021417
CREATED:20260322T233000Z
LAST-MODIFIED:20260322T233000Z
UID:13873-1788788700-1788788700@decouvertebaie.com
SUMMARY:Petite balade autour du Mont Saint-Michel 3 km
DESCRIPTION:Départ Mont St Michel – Durée : 2h00 – Distance : 3 km
URL:https://decouvertebaie.com/evenement/petite-balade-autour-du-mont-saint-michel-3-km-81/
END:VEVENT
BEGIN:VEVENT
DTSTART;TZID=Europe/Paris:20260908T110000
DTEND;TZID=Europe/Paris:20260908T110000
DTSTAMP:20260424T021417
CREATED:20260322T233000Z
LAST-MODIFIED:20260322T233000Z
UID:13875-1788865200-1788865200@decouvertebaie.com
SUMMARY:Découverte de l'îlot de Tombelaine 7 km
DESCRIPTION:Départ Mont St Michel – Durée : 3h30 – Distance : 7 km
URL:https://decouvertebaie.com/evenement/decouverte-de-lilot-de-tombelaine-7-km-37/
END:VEVENT
END:VCALENDAR