BEGIN:VCALENDAR
VERSION:2.0
PRODID:-//Découverte de la Baie - ECPv6.15.20//NONSGML v1.0//EN
CALSCALE:GREGORIAN
METHOD:PUBLISH
X-WR-CALNAME:Découverte de la Baie
X-ORIGINAL-URL:https://decouvertebaie.com
X-WR-CALDESC:Évènements pour Découverte de la Baie
REFRESH-INTERVAL;VALUE=DURATION:PT1H
X-Robots-Tag:noindex
X-PUBLISHED-TTL:PT1H
BEGIN:VTIMEZONE
TZID:Europe/Paris
BEGIN:DAYLIGHT
TZOFFSETFROM:+0100
TZOFFSETTO:+0200
TZNAME:CEST
DTSTART:20250330T010000
END:DAYLIGHT
BEGIN:STANDARD
TZOFFSETFROM:+0200
TZOFFSETTO:+0100
TZNAME:CET
DTSTART:20251026T010000
END:STANDARD
BEGIN:DAYLIGHT
TZOFFSETFROM:+0100
TZOFFSETTO:+0200
TZNAME:CEST
DTSTART:20260329T010000
END:DAYLIGHT
BEGIN:STANDARD
TZOFFSETFROM:+0200
TZOFFSETTO:+0100
TZNAME:CET
DTSTART:20261025T010000
END:STANDARD
BEGIN:DAYLIGHT
TZOFFSETFROM:+0100
TZOFFSETTO:+0200
TZNAME:CEST
DTSTART:20270328T010000
END:DAYLIGHT
BEGIN:STANDARD
TZOFFSETFROM:+0200
TZOFFSETTO:+0100
TZNAME:CET
DTSTART:20271031T010000
END:STANDARD
END:VTIMEZONE
BEGIN:VEVENT
DTSTART;TZID=Europe/Paris:20260813T130000
DTEND;TZID=Europe/Paris:20260813T130000
DTSTAMP:20260424T005249
CREATED:20260218T231150Z
LAST-MODIFIED:20260218T231150Z
UID:13757-1786626000-1786626000@decouvertebaie.com
SUMMARY:Découverte des sables mouvants 2 km
DESCRIPTION:Départ Mont St Michel – Durée : 1h30 – Distance : 2 km
URL:https://decouvertebaie.com/evenement/decouverte-des-sables-mouvants-2-km-210/
END:VEVENT
BEGIN:VEVENT
DTSTART;TZID=Europe/Paris:20260813T141500
DTEND;TZID=Europe/Paris:20260813T141500
DTSTAMP:20260424T005249
CREATED:20260218T231203Z
LAST-MODIFIED:20260218T231203Z
UID:13758-1786630500-1786630500@decouvertebaie.com
SUMMARY:Traversée - Découverte des grandes marées retour bus 7 km
DESCRIPTION:Départ Bec d’Andaine – Durée : 6h30 – Distance : 7 km
URL:https://decouvertebaie.com/evenement/traversee-decouverte-des-grandes-marees-retour-bus-7-km-7/
END:VEVENT
BEGIN:VEVENT
DTSTART;TZID=Europe/Paris:20260814T121500
DTEND;TZID=Europe/Paris:20260814T121500
DTSTAMP:20260424T005249
CREATED:20260218T231203Z
LAST-MODIFIED:20260218T231203Z
UID:13759-1786709700-1786709700@decouvertebaie.com
SUMMARY:Traversée - Découverte de la baie 14 km
DESCRIPTION:Départ Bec d’Andaine – Durée : 6h00 – Distance : 14 km
URL:https://decouvertebaie.com/evenement/traversee-decouverte-de-la-baie-14-km-343/
END:VEVENT
BEGIN:VEVENT
DTSTART;TZID=Europe/Paris:20260814T153000
DTEND;TZID=Europe/Paris:20260814T153000
DTSTAMP:20260424T005249
CREATED:20260218T231204Z
LAST-MODIFIED:20260218T231204Z
UID:13760-1786721400-1786721400@decouvertebaie.com
SUMMARY:Découverte des sables mouvants 2 km
DESCRIPTION:Départ Mont St Michel – Durée : 1h30 – Distance : 2 km
URL:https://decouvertebaie.com/evenement/decouverte-des-sables-mouvants-2-km-211/
END:VEVENT
BEGIN:VEVENT
DTSTART;TZID=Europe/Paris:20260814T180000
DTEND;TZID=Europe/Paris:20260814T180000
DTSTAMP:20260424T005249
CREATED:20260218T231204Z
LAST-MODIFIED:20260218T231204Z
UID:13761-1786730400-1786730400@decouvertebaie.com
SUMMARY:Petite balade autour du Mont Saint-Michel 3 km
DESCRIPTION:Départ Mont St Michel – Durée : 2h00 – Distance : 3 km
URL:https://decouvertebaie.com/evenement/petite-balade-autour-du-mont-saint-michel-3-km-65/
END:VEVENT
BEGIN:VEVENT
DTSTART;TZID=Europe/Paris:20260814T180000
DTEND;TZID=Europe/Paris:20260814T180000
DTSTAMP:20260424T005249
CREATED:20260218T231204Z
LAST-MODIFIED:20260218T231204Z
UID:13762-1786730400-1786730400@decouvertebaie.com
SUMMARY:Marée montante et mascaret 3 km
DESCRIPTION:Départ Mont St Michel – Durée : 2h00 – Distance : 3 km
URL:https://decouvertebaie.com/evenement/maree-montante-et-mascaret-3-km-36/
END:VEVENT
BEGIN:VEVENT
DTSTART;TZID=Europe/Paris:20260815T130000
DTEND;TZID=Europe/Paris:20260815T130000
DTSTAMP:20260424T005249
CREATED:20260218T231218Z
LAST-MODIFIED:20260218T231218Z
UID:13763-1786798800-1786798800@decouvertebaie.com
SUMMARY:Traversée - Découverte de la baie 14 km
DESCRIPTION:Départ Bec d’Andaine – Durée : 6h00 – Distance : 14 km
URL:https://decouvertebaie.com/evenement/traversee-decouverte-de-la-baie-14-km-344/
END:VEVENT
BEGIN:VEVENT
DTSTART;TZID=Europe/Paris:20260815T130000
DTEND;TZID=Europe/Paris:20260815T130000
DTSTAMP:20260424T005249
CREATED:20260218T231219Z
LAST-MODIFIED:20260218T231219Z
UID:13764-1786798800-1786798800@decouvertebaie.com
SUMMARY:Traversée - Découverte de la baie retour en bus 7 km
DESCRIPTION:Départ Bec d’Andaine – Durée : 6h30 – Distance : 7 km
URL:https://decouvertebaie.com/evenement/traversee-decouverte-de-la-baie-retour-en-bus-7-km-55/
END:VEVENT
BEGIN:VEVENT
DTSTART;TZID=Europe/Paris:20260815T154500
DTEND;TZID=Europe/Paris:20260815T154500
DTSTAMP:20260424T005249
CREATED:20260218T231219Z
LAST-MODIFIED:20260218T231219Z
UID:13765-1786808700-1786808700@decouvertebaie.com
SUMMARY:Contes et légendes de la baie du Mont St-Michel 3 km
DESCRIPTION:Départ Mont St Michel – Durée : 2h00 – Distance : 3 km
URL:https://decouvertebaie.com/evenement/contes-et-legendes-de-la-baie-du-mont-st-michel-3-km-15/
END:VEVENT
BEGIN:VEVENT
DTSTART;TZID=Europe/Paris:20260815T160000
DTEND;TZID=Europe/Paris:20260815T160000
DTSTAMP:20260424T005249
CREATED:20260218T231219Z
LAST-MODIFIED:20260218T231219Z
UID:13766-1786809600-1786809600@decouvertebaie.com
SUMMARY:Découverte des sables mouvants 2 km
DESCRIPTION:Départ Mont St Michel – Durée : 1h30 – Distance : 2 km
URL:https://decouvertebaie.com/evenement/decouverte-des-sables-mouvants-2-km-212/
END:VEVENT
BEGIN:VEVENT
DTSTART;TZID=Europe/Paris:20260815T183000
DTEND;TZID=Europe/Paris:20260815T183000
DTSTAMP:20260424T005249
CREATED:20260218T231219Z
LAST-MODIFIED:20260218T231219Z
UID:13767-1786818600-1786818600@decouvertebaie.com
SUMMARY:Petite balade autour du Mont Saint-Michel 3 km
DESCRIPTION:Départ Mont St Michel – Durée : 2h00 – Distance : 3 km
URL:https://decouvertebaie.com/evenement/petite-balade-autour-du-mont-saint-michel-3-km-66/
END:VEVENT
BEGIN:VEVENT
DTSTART;TZID=Europe/Paris:20260815T183000
DTEND;TZID=Europe/Paris:20260815T183000
DTSTAMP:20260424T005249
CREATED:20260218T231234Z
LAST-MODIFIED:20260218T231234Z
UID:13768-1786818600-1786818600@decouvertebaie.com
SUMMARY:Marée montante et mascaret 3 km
DESCRIPTION:Départ Mont St Michel – Durée : 2h00 – Distance : 3 km
URL:https://decouvertebaie.com/evenement/maree-montante-et-mascaret-3-km-37/
END:VEVENT
BEGIN:VEVENT
DTSTART;TZID=Europe/Paris:20260816T131500
DTEND;TZID=Europe/Paris:20260816T131500
DTSTAMP:20260424T005249
CREATED:20260218T231234Z
LAST-MODIFIED:20260218T231234Z
UID:13769-1786886100-1786886100@decouvertebaie.com
SUMMARY:Traversée - Découverte de la baie 14 km
DESCRIPTION:Départ Bec dAndaine – Durée : 6h00 – Distance : 14 km
URL:https://decouvertebaie.com/evenement/traversee-decouverte-de-la-baie-14-km-345/
END:VEVENT
BEGIN:VEVENT
DTSTART;TZID=Europe/Paris:20260816T133000
DTEND;TZID=Europe/Paris:20260816T133000
DTSTAMP:20260424T005249
CREATED:20260218T231234Z
LAST-MODIFIED:20260218T231234Z
UID:13770-1786887000-1786887000@decouvertebaie.com
SUMMARY:Du Bec d'Andaine à Tombelaine 8 km
DESCRIPTION:Départ Bec d’Andaine – Durée : 4h00 – Distance : 8 km
URL:https://decouvertebaie.com/evenement/du-bec-dandaine-a-tombelaine-8-km-21/
END:VEVENT
BEGIN:VEVENT
DTSTART;TZID=Europe/Paris:20260816T141500
DTEND;TZID=Europe/Paris:20260816T141500
DTSTAMP:20260424T005249
CREATED:20260218T231234Z
LAST-MODIFIED:20260218T231234Z
UID:13771-1786889700-1786889700@decouvertebaie.com
SUMMARY:Découverte des sables mouvants 2 km
DESCRIPTION:Départ Mont St Michel – Durée : 1h30 – Distance : 2 km
URL:https://decouvertebaie.com/evenement/decouverte-des-sables-mouvants-2-km-213/
END:VEVENT
BEGIN:VEVENT
DTSTART;TZID=Europe/Paris:20260816T163000
DTEND;TZID=Europe/Paris:20260816T163000
DTSTAMP:20260424T005249
CREATED:20260218T231235Z
LAST-MODIFIED:20260218T231235Z
UID:13772-1786897800-1786897800@decouvertebaie.com
SUMMARY:Petite balade autour du Mont Saint-Michel 3 km
DESCRIPTION:Départ Mont St Michel – Durée : 2h00 – Distance : 3 km
URL:https://decouvertebaie.com/evenement/petite-balade-autour-du-mont-saint-michel-3-km-67/
END:VEVENT
BEGIN:VEVENT
DTSTART;TZID=Europe/Paris:20260817T134500
DTEND;TZID=Europe/Paris:20260817T134500
DTSTAMP:20260424T005249
CREATED:20260218T231249Z
LAST-MODIFIED:20260218T231249Z
UID:13773-1786974300-1786974300@decouvertebaie.com
SUMMARY:Traversée - Découverte de la baie 14 km
DESCRIPTION:Départ Bec d’Andaine – Durée : 6h00 – Distance : 14 km
URL:https://decouvertebaie.com/evenement/traversee-decouverte-de-la-baie-14-km-346/
END:VEVENT
BEGIN:VEVENT
DTSTART;TZID=Europe/Paris:20260817T134500
DTEND;TZID=Europe/Paris:20260817T134500
DTSTAMP:20260424T005249
CREATED:20260218T231249Z
LAST-MODIFIED:20260218T231249Z
UID:13774-1786974300-1786974300@decouvertebaie.com
SUMMARY:Traversée - Découverte de la baie retour en bus 7 km
DESCRIPTION:Départ Bec d’Andaine – Durée : 6h30 – Distance : 7 km
URL:https://decouvertebaie.com/evenement/traversee-decouverte-de-la-baie-retour-en-bus-7-km-56/
END:VEVENT
BEGIN:VEVENT
DTSTART;TZID=Europe/Paris:20260817T164500
DTEND;TZID=Europe/Paris:20260817T164500
DTSTAMP:20260424T005249
CREATED:20260218T231249Z
LAST-MODIFIED:20260218T231249Z
UID:13775-1786985100-1786985100@decouvertebaie.com
SUMMARY:Petite balade autour du Mont Saint-Michel 3 km
DESCRIPTION:Départ Mont St Michel – Durée : 2h00 – Distance : 3 km
URL:https://decouvertebaie.com/evenement/petite-balade-autour-du-mont-saint-michel-3-km-68/
END:VEVENT
BEGIN:VEVENT
DTSTART;TZID=Europe/Paris:20260817T170000
DTEND;TZID=Europe/Paris:20260817T170000
DTSTAMP:20260424T005249
CREATED:20260218T231249Z
LAST-MODIFIED:20260218T231249Z
UID:13776-1786986000-1786986000@decouvertebaie.com
SUMMARY:Découverte des sables mouvants 2 km
DESCRIPTION:Départ Mont St Michel – Durée : 1h30 – Distance : 2 km
URL:https://decouvertebaie.com/evenement/decouverte-des-sables-mouvants-2-km-214/
END:VEVENT
BEGIN:VEVENT
DTSTART;TZID=Europe/Paris:20260817T194500
DTEND;TZID=Europe/Paris:20260817T194500
DTSTAMP:20260424T005249
CREATED:20260218T231250Z
LAST-MODIFIED:20260218T231250Z
UID:13777-1786995900-1786995900@decouvertebaie.com
SUMMARY:Soleil couchant - petite balade autour du Mont St-Michel 3 km
DESCRIPTION:Départ Mont St Michel – Durée : 2h00 – Distance : 3 km
URL:https://decouvertebaie.com/evenement/soleil-couchant-petite-balade-autour-du-mont-st-michel-3-km-14/
END:VEVENT
BEGIN:VEVENT
DTSTART;TZID=Europe/Paris:20260817T194500
DTEND;TZID=Europe/Paris:20260817T194500
DTSTAMP:20260424T005249
CREATED:20260218T231304Z
LAST-MODIFIED:20260218T231304Z
UID:13778-1786995900-1786995900@decouvertebaie.com
SUMMARY:Marée montante et mascaret 3 km
DESCRIPTION:Départ Mont St Michel – Durée : 2h00 – Distance : 3 km
URL:https://decouvertebaie.com/evenement/maree-montante-et-mascaret-3-km-38/
END:VEVENT
BEGIN:VEVENT
DTSTART;TZID=Europe/Paris:20260818T143000
DTEND;TZID=Europe/Paris:20260818T143000
DTSTAMP:20260424T005249
CREATED:20260218T231304Z
LAST-MODIFIED:20260218T231304Z
UID:13779-1787063400-1787063400@decouvertebaie.com
SUMMARY:Traversée - Découverte de la baie 14 km
DESCRIPTION:Départ Bec d’Andaine – Durée : 6h00 – Distance : 14 km
URL:https://decouvertebaie.com/evenement/traversee-decouverte-de-la-baie-14-km-347/
END:VEVENT
BEGIN:VEVENT
DTSTART;TZID=Europe/Paris:20260818T143000
DTEND;TZID=Europe/Paris:20260818T143000
DTSTAMP:20260424T005249
CREATED:20260218T231304Z
LAST-MODIFIED:20260218T231304Z
UID:13780-1787063400-1787063400@decouvertebaie.com
SUMMARY:Traversée - Découverte de la baie retour en bus 7 km
DESCRIPTION:Départ Bec d’Andaine – Durée : 6h30 – Distance : 7 km
URL:https://decouvertebaie.com/evenement/traversee-decouverte-de-la-baie-retour-en-bus-7-km-57/
END:VEVENT
BEGIN:VEVENT
DTSTART;TZID=Europe/Paris:20260818T143000
DTEND;TZID=Europe/Paris:20260818T143000
DTSTAMP:20260424T005249
CREATED:20260218T231304Z
LAST-MODIFIED:20260218T231304Z
UID:13781-1787063400-1787063400@decouvertebaie.com
SUMMARY:Petite balade autour du Mont Saint-Michel 3 km
DESCRIPTION:Départ Mont St Michel – Durée : 2h00 – Distance : 3 km
URL:https://decouvertebaie.com/evenement/petite-balade-autour-du-mont-saint-michel-3-km-69/
END:VEVENT
BEGIN:VEVENT
DTSTART;TZID=Europe/Paris:20260818T150000
DTEND;TZID=Europe/Paris:20260818T150000
DTSTAMP:20260424T005249
CREATED:20260218T231305Z
LAST-MODIFIED:20260218T231305Z
UID:13782-1787065200-1787065200@decouvertebaie.com
SUMMARY:Découverte de l'îlot de Tombelaine 7 km
DESCRIPTION:Départ Mont St Michel – Durée : 3h30 – Distance : 7 km
URL:https://decouvertebaie.com/evenement/decouverte-de-lilot-de-tombelaine-7-km-28/
END:VEVENT
BEGIN:VEVENT
DTSTART;TZID=Europe/Paris:20260818T171500
DTEND;TZID=Europe/Paris:20260818T171500
DTSTAMP:20260424T005250
CREATED:20260218T231319Z
LAST-MODIFIED:20260218T231319Z
UID:13783-1787073300-1787073300@decouvertebaie.com
SUMMARY:Découverte des sables mouvants 2 km
DESCRIPTION:Départ Mont St Michel – Durée : 1h30 – Distance : 2 km
URL:https://decouvertebaie.com/evenement/decouverte-des-sables-mouvants-2-km-215/
END:VEVENT
BEGIN:VEVENT
DTSTART;TZID=Europe/Paris:20260819T143000
DTEND;TZID=Europe/Paris:20260819T143000
DTSTAMP:20260424T005250
CREATED:20260218T231319Z
LAST-MODIFIED:20260218T231319Z
UID:13784-1787149800-1787149800@decouvertebaie.com
SUMMARY:Traversée - Découverte de la baie 14 km
DESCRIPTION:Départ Bec d’Andaine – Durée : 6h00 – Distance : 14 km
URL:https://decouvertebaie.com/evenement/traversee-decouverte-de-la-baie-14-km-348/
END:VEVENT
BEGIN:VEVENT
DTSTART;TZID=Europe/Paris:20260819T143000
DTEND;TZID=Europe/Paris:20260819T143000
DTSTAMP:20260424T005250
CREATED:20260218T231319Z
LAST-MODIFIED:20260218T231319Z
UID:13785-1787149800-1787149800@decouvertebaie.com
SUMMARY:Traversée - Découverte de la baie retour en bus 7 km
DESCRIPTION:Départ Bec d’Andaine – Durée : 6h30 – Distance : 7 km
URL:https://decouvertebaie.com/evenement/traversee-decouverte-de-la-baie-retour-en-bus-7-km-58/
END:VEVENT
BEGIN:VEVENT
DTSTART;TZID=Europe/Paris:20260819T153000
DTEND;TZID=Europe/Paris:20260819T153000
DTSTAMP:20260424T005250
CREATED:20260218T231319Z
LAST-MODIFIED:20260218T231319Z
UID:13787-1787153400-1787153400@decouvertebaie.com
SUMMARY:Découverte de l'îlot de Tombelaine 7 km
DESCRIPTION:Départ Mont St Michel – Durée : 3h30 – Distance : 7 km
URL:https://decouvertebaie.com/evenement/decouverte-de-lilot-de-tombelaine-7-km-29/
END:VEVENT
END:VCALENDAR