BEGIN:VCALENDAR
VERSION:2.0
PRODID:-//Découverte de la Baie - ECPv6.15.20//NONSGML v1.0//EN
CALSCALE:GREGORIAN
METHOD:PUBLISH
X-WR-CALNAME:Découverte de la Baie
X-ORIGINAL-URL:https://decouvertebaie.com
X-WR-CALDESC:Évènements pour Découverte de la Baie
REFRESH-INTERVAL;VALUE=DURATION:PT1H
X-Robots-Tag:noindex
X-PUBLISHED-TTL:PT1H
BEGIN:VTIMEZONE
TZID:Europe/Paris
BEGIN:DAYLIGHT
TZOFFSETFROM:+0100
TZOFFSETTO:+0200
TZNAME:CEST
DTSTART:20250330T010000
END:DAYLIGHT
BEGIN:STANDARD
TZOFFSETFROM:+0200
TZOFFSETTO:+0100
TZNAME:CET
DTSTART:20251026T010000
END:STANDARD
BEGIN:DAYLIGHT
TZOFFSETFROM:+0100
TZOFFSETTO:+0200
TZNAME:CEST
DTSTART:20260329T010000
END:DAYLIGHT
BEGIN:STANDARD
TZOFFSETFROM:+0200
TZOFFSETTO:+0100
TZNAME:CET
DTSTART:20261025T010000
END:STANDARD
BEGIN:DAYLIGHT
TZOFFSETFROM:+0100
TZOFFSETTO:+0200
TZNAME:CEST
DTSTART:20270328T010000
END:DAYLIGHT
BEGIN:STANDARD
TZOFFSETFROM:+0200
TZOFFSETTO:+0100
TZNAME:CET
DTSTART:20271031T010000
END:STANDARD
END:VTIMEZONE
BEGIN:VEVENT
DTSTART;TZID=Europe/Paris:20260726T140000
DTEND;TZID=Europe/Paris:20260726T140000
DTSTAMP:20260423T232113
CREATED:20260218T210138Z
LAST-MODIFIED:20260218T210138Z
UID:13626-1785074400-1785074400@decouvertebaie.com
SUMMARY:Contes et légendes de la baie du Mont St-Michel 3 km
DESCRIPTION:Départ Mont St Michel – Durée : 2h00 – Distance : 3 km
URL:https://decouvertebaie.com/evenement/contes-et-legendes-de-la-baie-du-mont-st-michel-3-km-12/
END:VEVENT
BEGIN:VEVENT
DTSTART;TZID=Europe/Paris:20260727T100000
DTEND;TZID=Europe/Paris:20260727T100000
DTSTAMP:20260423T232113
CREATED:20260218T210138Z
LAST-MODIFIED:20260218T210138Z
UID:13628-1785146400-1785146400@decouvertebaie.com
SUMMARY:Traversée - Découverte de la baie 14 km
DESCRIPTION:Départ Bec d’Andaine – Durée : 6h00 – Distance : 14 km
URL:https://decouvertebaie.com/evenement/traversee-decouverte-de-la-baie-14-km-323/
END:VEVENT
BEGIN:VEVENT
DTSTART;TZID=Europe/Paris:20260727T111500
DTEND;TZID=Europe/Paris:20260727T111500
DTSTAMP:20260423T232113
CREATED:20260218T210152Z
LAST-MODIFIED:20260218T223934Z
UID:13631-1785150900-1785150900@decouvertebaie.com
SUMMARY:Découverte de l'îlot de Tombelaine 7 km
DESCRIPTION:Départ Mont St Michel – Durée : 3h30 – Distance : 7 km
URL:https://decouvertebaie.com/evenement/decouverte-de-lilot-de-tombelaine-8-km-30/
END:VEVENT
BEGIN:VEVENT
DTSTART;TZID=Europe/Paris:20260727T113000
DTEND;TZID=Europe/Paris:20260727T113000
DTSTAMP:20260423T232113
CREATED:20260218T210152Z
LAST-MODIFIED:20260218T210152Z
UID:13629-1785151800-1785151800@decouvertebaie.com
SUMMARY:Découverte des sables mouvants 2 km
DESCRIPTION:Départ Mont St Michel – Durée : 1h30 – Distance : 2 km
URL:https://decouvertebaie.com/evenement/decouverte-des-sables-mouvants-2-km-197/
END:VEVENT
BEGIN:VEVENT
DTSTART;TZID=Europe/Paris:20260727T140000
DTEND;TZID=Europe/Paris:20260727T140000
DTSTAMP:20260423T232113
CREATED:20260218T210152Z
LAST-MODIFIED:20260218T210152Z
UID:13630-1785160800-1785160800@decouvertebaie.com
SUMMARY:Petite balade autour du Mont Saint-Michel 3 km
DESCRIPTION:Départ Mont St Michel – Durée : 2h00 – Distance : 3 km
URL:https://decouvertebaie.com/evenement/petite-balade-autour-du-mont-saint-michel-3-km-57/
END:VEVENT
BEGIN:VEVENT
DTSTART;TZID=Europe/Paris:20260728T101500
DTEND;TZID=Europe/Paris:20260728T101500
DTSTAMP:20260423T232113
CREATED:20260218T210152Z
LAST-MODIFIED:20260218T210152Z
UID:13632-1785233700-1785233700@decouvertebaie.com
SUMMARY:Traversée - Découverte de la baie 14 km
DESCRIPTION:Départ Bec d’Andaine – Durée : 6h00 – Distance : 14 km
URL:https://decouvertebaie.com/evenement/traversee-decouverte-de-la-baie-14-km-324/
END:VEVENT
BEGIN:VEVENT
DTSTART;TZID=Europe/Paris:20260728T101500
DTEND;TZID=Europe/Paris:20260728T101500
DTSTAMP:20260423T232113
CREATED:20260218T210153Z
LAST-MODIFIED:20260218T210153Z
UID:13633-1785233700-1785233700@decouvertebaie.com
SUMMARY:Traversée - Découverte de la baie retour en bus 7 km
DESCRIPTION:Départ Bec d’Andaine – Durée : 6h30 – Distance : 7 km
URL:https://decouvertebaie.com/evenement/traversee-decouverte-de-la-baie-retour-en-bus-7-km-44/
END:VEVENT
BEGIN:VEVENT
DTSTART;TZID=Europe/Paris:20260728T133000
DTEND;TZID=Europe/Paris:20260728T133000
DTSTAMP:20260423T232113
CREATED:20260218T210207Z
LAST-MODIFIED:20260218T224041Z
UID:13635-1785245400-1785245400@decouvertebaie.com
SUMMARY:Découverte de l'îlot de Tombelaine 7 km
DESCRIPTION:Départ Mont St Michel – Durée : 3h30 – Distance : 7 km
URL:https://decouvertebaie.com/evenement/decouverte-de-lilot-de-tombelaine-8-km-31/
END:VEVENT
BEGIN:VEVENT
DTSTART;TZID=Europe/Paris:20260728T140000
DTEND;TZID=Europe/Paris:20260728T140000
DTSTAMP:20260423T232113
CREATED:20260218T210207Z
LAST-MODIFIED:20260218T210207Z
UID:13634-1785247200-1785247200@decouvertebaie.com
SUMMARY:Découverte des sables mouvants 2 km
DESCRIPTION:Départ Mont St Michel – Durée : 1h30 – Distance : 2 km
URL:https://decouvertebaie.com/evenement/decouverte-des-sables-mouvants-2-km-198/
END:VEVENT
BEGIN:VEVENT
DTSTART;TZID=Europe/Paris:20260728T161500
DTEND;TZID=Europe/Paris:20260728T161500
DTSTAMP:20260423T232113
CREATED:20260218T210208Z
LAST-MODIFIED:20260218T210208Z
UID:13636-1785255300-1785255300@decouvertebaie.com
SUMMARY:Marée montante et mascaret 3 km
DESCRIPTION:Départ Mont St Michel – Durée : 2h00 – Distance : 3 km
URL:https://decouvertebaie.com/evenement/maree-montante-et-mascaret-3-km-31/
END:VEVENT
BEGIN:VEVENT
DTSTART;TZID=Europe/Paris:20260729T110000
DTEND;TZID=Europe/Paris:20260729T110000
DTSTAMP:20260423T232113
CREATED:20260218T210208Z
LAST-MODIFIED:20260218T210208Z
UID:13637-1785322800-1785322800@decouvertebaie.com
SUMMARY:Traversée - Découverte de la baie 14 km
DESCRIPTION:Départ Bec d’Andaine – Durée : 6h00 – Distance : 14 km
URL:https://decouvertebaie.com/evenement/traversee-decouverte-de-la-baie-14-km-325/
END:VEVENT
BEGIN:VEVENT
DTSTART;TZID=Europe/Paris:20260729T140000
DTEND;TZID=Europe/Paris:20260729T140000
DTSTAMP:20260423T232113
CREATED:20260218T210208Z
LAST-MODIFIED:20260218T224137Z
UID:13638-1785333600-1785333600@decouvertebaie.com
SUMMARY:Découverte de l'îlot de Tombelaine 7 km
DESCRIPTION:Départ Mont St Michel – Durée : 3h30 – Distance : 7 km
URL:https://decouvertebaie.com/evenement/decouverte-de-lilot-de-tombelaine-8-km-32/
END:VEVENT
BEGIN:VEVENT
DTSTART;TZID=Europe/Paris:20260730T114500
DTEND;TZID=Europe/Paris:20260730T114500
DTSTAMP:20260423T232113
CREATED:20260218T210223Z
LAST-MODIFIED:20260218T210223Z
UID:13639-1785411900-1785411900@decouvertebaie.com
SUMMARY:Traversée - Découverte de la baie 14 km
DESCRIPTION:Départ Bec d’Andaine – Durée : 6h00 – Distance : 14 km
URL:https://decouvertebaie.com/evenement/traversee-decouverte-de-la-baie-14-km-326/
END:VEVENT
BEGIN:VEVENT
DTSTART;TZID=Europe/Paris:20260730T114500
DTEND;TZID=Europe/Paris:20260730T114500
DTSTAMP:20260423T232113
CREATED:20260218T210223Z
LAST-MODIFIED:20260218T210223Z
UID:13640-1785411900-1785411900@decouvertebaie.com
SUMMARY:Traversée - Découverte de la baie retour en bus 7 km
DESCRIPTION:Départ Bec d’Andaine – Durée : 6h30 – Distance : 7 km
URL:https://decouvertebaie.com/evenement/traversee-decouverte-de-la-baie-retour-en-bus-7-km-45/
END:VEVENT
BEGIN:VEVENT
DTSTART;TZID=Europe/Paris:20260730T144500
DTEND;TZID=Europe/Paris:20260730T144500
DTSTAMP:20260423T232113
CREATED:20260218T210223Z
LAST-MODIFIED:20260218T210223Z
UID:13642-1785422700-1785422700@decouvertebaie.com
SUMMARY:Petite balade autour du Mont Saint-Michel 3 km
DESCRIPTION:Départ Mont St Michel – Durée : 2h00 – Distance : 3 km
URL:https://decouvertebaie.com/evenement/petite-balade-autour-du-mont-saint-michel-3-km-58/
END:VEVENT
BEGIN:VEVENT
DTSTART;TZID=Europe/Paris:20260730T150000
DTEND;TZID=Europe/Paris:20260730T150000
DTSTAMP:20260423T232113
CREATED:20260218T210223Z
LAST-MODIFIED:20260218T210223Z
UID:13641-1785423600-1785423600@decouvertebaie.com
SUMMARY:Découverte des sables mouvants 2 km
DESCRIPTION:Départ Mont St Michel – Durée : 1h30 – Distance : 2 km
URL:https://decouvertebaie.com/evenement/decouverte-des-sables-mouvants-2-km-199/
END:VEVENT
BEGIN:VEVENT
DTSTART;TZID=Europe/Paris:20260730T173000
DTEND;TZID=Europe/Paris:20260730T173000
DTSTAMP:20260423T232113
CREATED:20260218T210223Z
LAST-MODIFIED:20260218T210223Z
UID:13643-1785432600-1785432600@decouvertebaie.com
SUMMARY:Contes et légendes de la baie du Mont St-Michel 3 km
DESCRIPTION:Départ Mont St Michel – Durée : 2h00 – Distance : 3 km
URL:https://decouvertebaie.com/evenement/contes-et-legendes-de-la-baie-du-mont-st-michel-3-km-13/
END:VEVENT
BEGIN:VEVENT
DTSTART;TZID=Europe/Paris:20260730T173000
DTEND;TZID=Europe/Paris:20260730T173000
DTSTAMP:20260423T232113
CREATED:20260218T210238Z
LAST-MODIFIED:20260218T210238Z
UID:13644-1785432600-1785432600@decouvertebaie.com
SUMMARY:Marée montante et mascaret 3 km
DESCRIPTION:Départ Mont St Michel – Durée : 2h00 – Distance : 3 km
URL:https://decouvertebaie.com/evenement/maree-montante-et-mascaret-3-km-32/
END:VEVENT
BEGIN:VEVENT
DTSTART;TZID=Europe/Paris:20260731T121500
DTEND;TZID=Europe/Paris:20260731T121500
DTSTAMP:20260423T232113
CREATED:20260218T210238Z
LAST-MODIFIED:20260218T210238Z
UID:13645-1785500100-1785500100@decouvertebaie.com
SUMMARY:Traversée - Découverte de la baie 14 km
DESCRIPTION:Départ Bec d’Andaine – Durée : 6h00 – Distance : 14 km
URL:https://decouvertebaie.com/evenement/traversee-decouverte-de-la-baie-14-km-327/
END:VEVENT
BEGIN:VEVENT
DTSTART;TZID=Europe/Paris:20260731T140000
DTEND;TZID=Europe/Paris:20260731T140000
DTSTAMP:20260423T232113
CREATED:20260218T210238Z
LAST-MODIFIED:20260218T224209Z
UID:13646-1785506400-1785506400@decouvertebaie.com
SUMMARY:Découverte de l'îlot de Tombelaine 7 km
DESCRIPTION:Départ Mont St Michel – Durée : 3h30 – Distance : 7 km
URL:https://decouvertebaie.com/evenement/decouverte-de-lilot-de-tombelaine-8-km-33/
END:VEVENT
BEGIN:VEVENT
DTSTART;TZID=Europe/Paris:20260731T140000
DTEND;TZID=Europe/Paris:20260731T140000
DTSTAMP:20260423T232113
CREATED:20260218T210238Z
LAST-MODIFIED:20260218T210238Z
UID:13647-1785506400-1785506400@decouvertebaie.com
SUMMARY:Du Bec d'Andaine à Tombelaine 8 km
DESCRIPTION:Départ Bec d’Andaine – Durée : 4h00 – Distance : 8 km
URL:https://decouvertebaie.com/evenement/du-bec-dandaine-a-tombelaine-8-km-16/
END:VEVENT
BEGIN:VEVENT
DTSTART;TZID=Europe/Paris:20260801T124500
DTEND;TZID=Europe/Paris:20260801T124500
DTSTAMP:20260423T232113
CREATED:20260218T230906Z
LAST-MODIFIED:20260218T230906Z
UID:13693-1785588300-1785588300@decouvertebaie.com
SUMMARY:Traversée - Découverte de la baie 14 km
DESCRIPTION:Départ Bec d’Andaine – Durée : 6h00 – Distance : 14 km
URL:https://decouvertebaie.com/evenement/traversee-decouverte-de-la-baie-14-km-329/
END:VEVENT
BEGIN:VEVENT
DTSTART;TZID=Europe/Paris:20260801T124500
DTEND;TZID=Europe/Paris:20260801T124500
DTSTAMP:20260423T232113
CREATED:20260218T230907Z
LAST-MODIFIED:20260218T230907Z
UID:13694-1785588300-1785588300@decouvertebaie.com
SUMMARY:Traversée - Découverte de la baie retour en bus 7 km
DESCRIPTION:Départ Bec d’Andaine – Durée : 6h30 – Distance : 7 km
URL:https://decouvertebaie.com/evenement/traversee-decouverte-de-la-baie-retour-en-bus-7-km-47/
END:VEVENT
BEGIN:VEVENT
DTSTART;TZID=Europe/Paris:20260801T143000
DTEND;TZID=Europe/Paris:20260801T143000
DTSTAMP:20260423T232113
CREATED:20260218T230907Z
LAST-MODIFIED:20260218T230907Z
UID:13695-1785594600-1785594600@decouvertebaie.com
SUMMARY:Découverte de l'îlot de Tombelaine 7 km
DESCRIPTION:Départ Mont St Michel – Durée : 3h30 – Distance : 7 km
URL:https://decouvertebaie.com/evenement/decouverte-de-lilot-de-tombelaine-7-km-17/
END:VEVENT
BEGIN:VEVENT
DTSTART;TZID=Europe/Paris:20260801T154500
DTEND;TZID=Europe/Paris:20260801T154500
DTSTAMP:20260423T232113
CREATED:20260218T230907Z
LAST-MODIFIED:20260218T230907Z
UID:13696-1785599100-1785599100@decouvertebaie.com
SUMMARY:Contes et légendes de la baie du Mont St-Michel 3 km
DESCRIPTION:Départ Mont St Michel – Durée : 2h00 – Distance : 3 km
URL:https://decouvertebaie.com/evenement/contes-et-legendes-de-la-baie-du-mont-st-michel-3-km-14/
END:VEVENT
BEGIN:VEVENT
DTSTART;TZID=Europe/Paris:20260801T160000
DTEND;TZID=Europe/Paris:20260801T160000
DTSTAMP:20260423T232113
CREATED:20260218T230907Z
LAST-MODIFIED:20260218T230907Z
UID:13697-1785600000-1785600000@decouvertebaie.com
SUMMARY:Découverte des sables mouvants 2 km
DESCRIPTION:Départ Mont St Michel – Durée : 1h30 – Distance : 2 km
URL:https://decouvertebaie.com/evenement/decouverte-des-sables-mouvants-2-km-201/
END:VEVENT
BEGIN:VEVENT
DTSTART;TZID=Europe/Paris:20260801T183000
DTEND;TZID=Europe/Paris:20260801T183000
DTSTAMP:20260423T232113
CREATED:20260218T230909Z
LAST-MODIFIED:20260218T230909Z
UID:13698-1785609000-1785609000@decouvertebaie.com
SUMMARY:Petite balade autour du Mont Saint-Michel 3 km
DESCRIPTION:Départ Mont St Michel – Durée : 2h00 – Distance : 3 km
URL:https://decouvertebaie.com/evenement/petite-balade-autour-du-mont-saint-michel-3-km-59/
END:VEVENT
BEGIN:VEVENT
DTSTART;TZID=Europe/Paris:20260801T183000
DTEND;TZID=Europe/Paris:20260801T183000
DTSTAMP:20260423T232113
CREATED:20260218T230909Z
LAST-MODIFIED:20260218T230909Z
UID:13699-1785609000-1785609000@decouvertebaie.com
SUMMARY:Marée montante et mascaret 3 km
DESCRIPTION:Départ Mont St Michel – Durée : 2h00 – Distance : 3 km
URL:https://decouvertebaie.com/evenement/maree-montante-et-mascaret-3-km-33/
END:VEVENT
BEGIN:VEVENT
DTSTART;TZID=Europe/Paris:20260802T131500
DTEND;TZID=Europe/Paris:20260802T131500
DTSTAMP:20260423T232113
CREATED:20260218T230909Z
LAST-MODIFIED:20260218T230909Z
UID:13700-1785676500-1785676500@decouvertebaie.com
SUMMARY:Traversée - Découverte de la baie 14 km
DESCRIPTION:Départ Bec d’Andaine – Durée : 6h00 – Distance : 14 km
URL:https://decouvertebaie.com/evenement/traversee-decouverte-de-la-baie-14-km-330/
END:VEVENT
BEGIN:VEVENT
DTSTART;TZID=Europe/Paris:20260802T141500
DTEND;TZID=Europe/Paris:20260802T141500
DTSTAMP:20260423T232113
CREATED:20260218T230909Z
LAST-MODIFIED:20260218T230909Z
UID:13701-1785680100-1785680100@decouvertebaie.com
SUMMARY:Découverte des sables mouvants 2 km
DESCRIPTION:Départ Mont St Michel – Durée : 1h30 – Distance : 2 km
URL:https://decouvertebaie.com/evenement/decouverte-des-sables-mouvants-2-km-202/
END:VEVENT
END:VCALENDAR