BEGIN:VCALENDAR
VERSION:2.0
PRODID:-//Découverte de la Baie - ECPv6.15.20//NONSGML v1.0//EN
CALSCALE:GREGORIAN
METHOD:PUBLISH
X-WR-CALNAME:Découverte de la Baie
X-ORIGINAL-URL:https://decouvertebaie.com
X-WR-CALDESC:Évènements pour Découverte de la Baie
REFRESH-INTERVAL;VALUE=DURATION:PT1H
X-Robots-Tag:noindex
X-PUBLISHED-TTL:PT1H
BEGIN:VTIMEZONE
TZID:Europe/Paris
BEGIN:DAYLIGHT
TZOFFSETFROM:+0100
TZOFFSETTO:+0200
TZNAME:CEST
DTSTART:20250330T010000
END:DAYLIGHT
BEGIN:STANDARD
TZOFFSETFROM:+0200
TZOFFSETTO:+0100
TZNAME:CET
DTSTART:20251026T010000
END:STANDARD
BEGIN:DAYLIGHT
TZOFFSETFROM:+0100
TZOFFSETTO:+0200
TZNAME:CEST
DTSTART:20260329T010000
END:DAYLIGHT
BEGIN:STANDARD
TZOFFSETFROM:+0200
TZOFFSETTO:+0100
TZNAME:CET
DTSTART:20261025T010000
END:STANDARD
BEGIN:DAYLIGHT
TZOFFSETFROM:+0100
TZOFFSETTO:+0200
TZNAME:CEST
DTSTART:20270328T010000
END:DAYLIGHT
BEGIN:STANDARD
TZOFFSETFROM:+0200
TZOFFSETTO:+0100
TZNAME:CET
DTSTART:20271031T010000
END:STANDARD
END:VTIMEZONE
BEGIN:VEVENT
DTSTART;TZID=Europe/Paris:20260707T183000
DTEND;TZID=Europe/Paris:20260707T183000
DTSTAMP:20260423T221135
CREATED:20260218T220046Z
LAST-MODIFIED:20260218T220046Z
UID:13657-1783449000-1783449000@decouvertebaie.com
SUMMARY:Découverte de l'îlot de Tombelaine 7 km
DESCRIPTION:Départ Mont St-Michel – Durée : 3h30 – Distance : 7 km
URL:https://decouvertebaie.com/evenement/decouverte-de-lilot-de-tombelaine-7-km-16/
END:VEVENT
BEGIN:VEVENT
DTSTART;TZID=Europe/Paris:20260708T133000
DTEND;TZID=Europe/Paris:20260708T133000
DTSTAMP:20260423T221135
CREATED:20260218T205737Z
LAST-MODIFIED:20260218T205737Z
UID:13546-1783517400-1783517400@decouvertebaie.com
SUMMARY:Traversée - Découverte de la baie 14 km
DESCRIPTION:Départ St Léonard – Durée : 6h00 – Distance : 14 km
URL:https://decouvertebaie.com/evenement/traversee-decouverte-de-la-baie-14-km-304/
END:VEVENT
BEGIN:VEVENT
DTSTART;TZID=Europe/Paris:20260708T171500
DTEND;TZID=Europe/Paris:20260708T171500
DTSTAMP:20260423T221135
CREATED:20260218T205752Z
LAST-MODIFIED:20260218T222127Z
UID:13549-1783530900-1783530900@decouvertebaie.com
SUMMARY:Découverte de l'îlot de Tombelaine 7 km
DESCRIPTION:Départ Mont St Michel – Durée : 3h30 – Distance : 7 km
URL:https://decouvertebaie.com/evenement/decouverte-de-lilot-de-tombelaine-8-km-19/
END:VEVENT
BEGIN:VEVENT
DTSTART;TZID=Europe/Paris:20260708T180000
DTEND;TZID=Europe/Paris:20260708T180000
DTSTAMP:20260423T221135
CREATED:20260218T205738Z
LAST-MODIFIED:20260218T205738Z
UID:13547-1783533600-1783533600@decouvertebaie.com
SUMMARY:Découverte des sables mouvants 2 km
DESCRIPTION:Départ Mont St Michel – Durée : 1h30 – Distance : 2 km
URL:https://decouvertebaie.com/evenement/decouverte-des-sables-mouvants-2-km-184/
END:VEVENT
BEGIN:VEVENT
DTSTART;TZID=Europe/Paris:20260708T203000
DTEND;TZID=Europe/Paris:20260708T203000
DTSTAMP:20260423T221135
CREATED:20260218T205738Z
LAST-MODIFIED:20260218T205738Z
UID:13548-1783542600-1783542600@decouvertebaie.com
SUMMARY:Soleil couchant - petite balade autour du Mont St-Michel 3 km
DESCRIPTION:Départ Mont St Michel – Durée : 2h00 – Distance : 3 km
URL:https://decouvertebaie.com/evenement/soleil-couchant-petite-balade-autour-du-mont-st-michel-3-km-6/
END:VEVENT
BEGIN:VEVENT
DTSTART;TZID=Europe/Paris:20260709T143000
DTEND;TZID=Europe/Paris:20260709T143000
DTSTAMP:20260423T221135
CREATED:20260218T205752Z
LAST-MODIFIED:20260218T205752Z
UID:13550-1783607400-1783607400@decouvertebaie.com
SUMMARY:Traversée - Découverte de la baie 14 km
DESCRIPTION:Départ St Léonard – Durée : 6h00 – Distance : 14 km
URL:https://decouvertebaie.com/evenement/traversee-decouverte-de-la-baie-14-km-305/
END:VEVENT
BEGIN:VEVENT
DTSTART;TZID=Europe/Paris:20260709T143000
DTEND;TZID=Europe/Paris:20260709T143000
DTSTAMP:20260423T221135
CREATED:20260218T205752Z
LAST-MODIFIED:20260218T205752Z
UID:13551-1783607400-1783607400@decouvertebaie.com
SUMMARY:Traversée - Découverte de la baie retour en bus 7 km
DESCRIPTION:Départ St Léonard – Durée : 6h30 – Distance : 7 km
URL:https://decouvertebaie.com/evenement/traversee-decouverte-de-la-baie-retour-en-bus-7-km-34/
END:VEVENT
BEGIN:VEVENT
DTSTART;TZID=Europe/Paris:20260709T164500
DTEND;TZID=Europe/Paris:20260709T164500
DTSTAMP:20260423T221135
CREATED:20260218T205752Z
LAST-MODIFIED:20260218T222739Z
UID:13552-1783615500-1783615500@decouvertebaie.com
SUMMARY:Découverte de l'îlot de Tombelaine 7 km
DESCRIPTION:Départ Mont St Michel – Durée : 3h30 – Distance : 7 km
URL:https://decouvertebaie.com/evenement/decouverte-de-lilot-de-tombelaine-8-km-20/
END:VEVENT
BEGIN:VEVENT
DTSTART;TZID=Europe/Paris:20260710T091500
DTEND;TZID=Europe/Paris:20260710T091500
DTSTAMP:20260423T221135
CREATED:20260218T205752Z
LAST-MODIFIED:20260218T205752Z
UID:13553-1783674900-1783674900@decouvertebaie.com
SUMMARY:Traversée - Découverte de la baie 14 km
DESCRIPTION:Départ St Léonard – Durée : 6h00 – Distance : 14 km
URL:https://decouvertebaie.com/evenement/traversee-decouverte-de-la-baie-14-km-306/
END:VEVENT
BEGIN:VEVENT
DTSTART;TZID=Europe/Paris:20260710T101500
DTEND;TZID=Europe/Paris:20260710T101500
DTSTAMP:20260423T221135
CREATED:20260218T205807Z
LAST-MODIFIED:20260218T205807Z
UID:13554-1783678500-1783678500@decouvertebaie.com
SUMMARY:Découverte des sables mouvants 2 km
DESCRIPTION:Départ Mont St Michel – Durée : 1h30 – Distance : 2 km
URL:https://decouvertebaie.com/evenement/decouverte-des-sables-mouvants-2-km-185/
END:VEVENT
BEGIN:VEVENT
DTSTART;TZID=Europe/Paris:20260710T123000
DTEND;TZID=Europe/Paris:20260710T123000
DTSTAMP:20260423T221135
CREATED:20260218T205807Z
LAST-MODIFIED:20260218T205807Z
UID:13555-1783686600-1783686600@decouvertebaie.com
SUMMARY:Petite balade autour du Mont Saint-Michel 3 km
DESCRIPTION:Départ Mont St Michel – Durée : 2h00 – Distance : 3 km
URL:https://decouvertebaie.com/evenement/petite-balade-autour-du-mont-saint-michel-3-km-53/
END:VEVENT
BEGIN:VEVENT
DTSTART;TZID=Europe/Paris:20260710T123000
DTEND;TZID=Europe/Paris:20260710T123000
DTSTAMP:20260423T221135
CREATED:20260218T205807Z
LAST-MODIFIED:20260218T205807Z
UID:13557-1783686600-1783686600@decouvertebaie.com
SUMMARY:Marée montante et mascaret 3 km
DESCRIPTION:Départ Mont St Michel – Durée : 2h00 – Distance : 3 km
URL:https://decouvertebaie.com/evenement/maree-montante-et-mascaret-3-km-24/
END:VEVENT
BEGIN:VEVENT
DTSTART;TZID=Europe/Paris:20260710T161500
DTEND;TZID=Europe/Paris:20260710T161500
DTSTAMP:20260423T221135
CREATED:20260218T205807Z
LAST-MODIFIED:20260218T205807Z
UID:13556-1783700100-1783700100@decouvertebaie.com
SUMMARY:Découverte pour les petits pieds au Bec d'Andaine 2 km
DESCRIPTION:Départ Bec d’Andaine – Durée : 2h00 – Distance : 2 km
URL:https://decouvertebaie.com/evenement/decouverte-pour-les-petits-pieds-au-bec-dandaine-2-km-4/
END:VEVENT
BEGIN:VEVENT
DTSTART;TZID=Europe/Paris:20260710T190000
DTEND;TZID=Europe/Paris:20260710T190000
DTSTAMP:20260423T221135
CREATED:20260218T205807Z
LAST-MODIFIED:20260218T205807Z
UID:13558-1783710000-1783710000@decouvertebaie.com
SUMMARY:Du Bec d'Andaine à Tombelaine 8 km
DESCRIPTION:Départ Bec d’Andaine – Durée : 4h00 – Distance : 8 km
URL:https://decouvertebaie.com/evenement/du-bec-dandaine-a-tombelaine-8-km-11/
END:VEVENT
BEGIN:VEVENT
DTSTART;TZID=Europe/Paris:20260711T101500
DTEND;TZID=Europe/Paris:20260711T101500
DTSTAMP:20260423T221135
CREATED:20260218T205822Z
LAST-MODIFIED:20260218T205822Z
UID:13559-1783764900-1783764900@decouvertebaie.com
SUMMARY:Traversée - Découverte de la baie 14 km
DESCRIPTION:Départ St Léonard – Durée : 6h00 – Distance : 14 km
URL:https://decouvertebaie.com/evenement/traversee-decouverte-de-la-baie-14-km-307/
END:VEVENT
BEGIN:VEVENT
DTSTART;TZID=Europe/Paris:20260711T101500
DTEND;TZID=Europe/Paris:20260711T101500
DTSTAMP:20260423T221135
CREATED:20260218T205822Z
LAST-MODIFIED:20260218T205822Z
UID:13560-1783764900-1783764900@decouvertebaie.com
SUMMARY:Traversée - Découverte de la baie retour en bus 7 km
DESCRIPTION:Départ St Léonard – Durée : 6h30 – Distance : 7 km
URL:https://decouvertebaie.com/evenement/traversee-decouverte-de-la-baie-retour-en-bus-7-km-35/
END:VEVENT
BEGIN:VEVENT
DTSTART;TZID=Europe/Paris:20260712T093000
DTEND;TZID=Europe/Paris:20260712T093000
DTSTAMP:20260423T221135
CREATED:20260218T205823Z
LAST-MODIFIED:20260218T205823Z
UID:13561-1783848600-1783848600@decouvertebaie.com
SUMMARY:Traversée - Découverte de la baie 14 km
DESCRIPTION:Départ Bec d’Andaine – Durée : 6h00 – Distance : 14 km
URL:https://decouvertebaie.com/evenement/traversee-decouverte-de-la-baie-14-km-308/
END:VEVENT
BEGIN:VEVENT
DTSTART;TZID=Europe/Paris:20260712T100000
DTEND;TZID=Europe/Paris:20260712T100000
DTSTAMP:20260423T221135
CREATED:20260218T205823Z
LAST-MODIFIED:20260218T205823Z
UID:13562-1783850400-1783850400@decouvertebaie.com
SUMMARY:Traversée - Découverte de la baie retour en bus 7 km
DESCRIPTION:Départ Bec d’Andaine – Durée : 6h30 – Distance : 7 km
URL:https://decouvertebaie.com/evenement/traversee-decouverte-de-la-baie-retour-en-bus-7-km-36/
END:VEVENT
BEGIN:VEVENT
DTSTART;TZID=Europe/Paris:20260712T103000
DTEND;TZID=Europe/Paris:20260712T103000
DTSTAMP:20260423T221135
CREATED:20260218T205837Z
LAST-MODIFIED:20260218T205837Z
UID:13565-1783852200-1783852200@decouvertebaie.com
SUMMARY:Du Bec d'Andaine à Tombelaine 8 km
DESCRIPTION:Départ Bec d’Andaine – Durée : 4h00 – Distance : 8 km
URL:https://decouvertebaie.com/evenement/du-bec-dandaine-a-tombelaine-8-km-12/
END:VEVENT
BEGIN:VEVENT
DTSTART;TZID=Europe/Paris:20260712T123000
DTEND;TZID=Europe/Paris:20260712T123000
DTSTAMP:20260423T221135
CREATED:20260218T205823Z
LAST-MODIFIED:20260218T205823Z
UID:13563-1783859400-1783859400@decouvertebaie.com
SUMMARY:Découverte des sables mouvants 2 km
DESCRIPTION:Départ Mont St Michel – Durée : 1h30 – Distance : 2 km
URL:https://decouvertebaie.com/evenement/decouverte-des-sables-mouvants-2-km-186/
END:VEVENT
BEGIN:VEVENT
DTSTART;TZID=Europe/Paris:20260712T150000
DTEND;TZID=Europe/Paris:20260712T150000
DTSTAMP:20260423T221135
CREATED:20260218T205837Z
LAST-MODIFIED:20260218T205837Z
UID:13564-1783868400-1783868400@decouvertebaie.com
SUMMARY:Marée montante et mascaret 3 km
DESCRIPTION:Départ Mont St Michel – Durée : 2h00 – Distance : 3 km
URL:https://decouvertebaie.com/evenement/maree-montante-et-mascaret-3-km-25/
END:VEVENT
BEGIN:VEVENT
DTSTART;TZID=Europe/Paris:20260713T100000
DTEND;TZID=Europe/Paris:20260713T100000
DTSTAMP:20260423T221135
CREATED:20260218T205837Z
LAST-MODIFIED:20260218T205837Z
UID:13566-1783936800-1783936800@decouvertebaie.com
SUMMARY:Traversée - Découverte de la baie 14 km
DESCRIPTION:Départ Bec d’Andaine – Durée : 6h00 – Distance : 14 km
URL:https://decouvertebaie.com/evenement/traversee-decouverte-de-la-baie-14-km-309/
END:VEVENT
BEGIN:VEVENT
DTSTART;TZID=Europe/Paris:20260713T100000
DTEND;TZID=Europe/Paris:20260713T100000
DTSTAMP:20260423T221135
CREATED:20260218T205838Z
LAST-MODIFIED:20260218T205838Z
UID:13567-1783936800-1783936800@decouvertebaie.com
SUMMARY:Traversée - Découverte de la baie retour en bus 7 km
DESCRIPTION:Départ Bec d’Andaine – Durée : 6h30 – Distance : 7 km
URL:https://decouvertebaie.com/evenement/traversee-decouverte-de-la-baie-retour-en-bus-7-km-37/
END:VEVENT
BEGIN:VEVENT
DTSTART;TZID=Europe/Paris:20260713T103000
DTEND;TZID=Europe/Paris:20260713T103000
DTSTAMP:20260423T221135
CREATED:20260218T205853Z
LAST-MODIFIED:20260218T205853Z
UID:13571-1783938600-1783938600@decouvertebaie.com
SUMMARY:Du Bec d'Andaine à Tombelaine 8 km
DESCRIPTION:Départ Bec d’Andaine – Durée : 4h00 – Distance : 8 km
URL:https://decouvertebaie.com/evenement/du-bec-dandaine-a-tombelaine-8-km-13/
END:VEVENT
BEGIN:VEVENT
DTSTART;TZID=Europe/Paris:20260713T133000
DTEND;TZID=Europe/Paris:20260713T133000
DTSTAMP:20260423T221135
CREATED:20260218T205838Z
LAST-MODIFIED:20260218T205838Z
UID:13568-1783949400-1783949400@decouvertebaie.com
SUMMARY:Découverte des sables mouvants 2 km
DESCRIPTION:Départ Mont St Michel – Durée : 1h30 – Distance : 2 km
URL:https://decouvertebaie.com/evenement/decouverte-des-sables-mouvants-2-km-187/
END:VEVENT
BEGIN:VEVENT
DTSTART;TZID=Europe/Paris:20260713T153000
DTEND;TZID=Europe/Paris:20260713T153000
DTSTAMP:20260423T221135
CREATED:20260218T205852Z
LAST-MODIFIED:20260218T205852Z
UID:13569-1783956600-1783956600@decouvertebaie.com
SUMMARY:Découverte pour les petits pieds au Bec d'Andaine 2 km
DESCRIPTION:Départ Bec d’Andaine – Durée : 2h00 – Distance : 2 km
URL:https://decouvertebaie.com/evenement/decouverte-pour-les-petits-pieds-au-bec-dandaine-2-km-5/
END:VEVENT
BEGIN:VEVENT
DTSTART;TZID=Europe/Paris:20260713T154500
DTEND;TZID=Europe/Paris:20260713T154500
DTSTAMP:20260423T221135
CREATED:20260218T205853Z
LAST-MODIFIED:20260218T205853Z
UID:13570-1783957500-1783957500@decouvertebaie.com
SUMMARY:Marée montante et mascaret 3 km
DESCRIPTION:Départ Mont St Michel – Durée : 2h00 – Distance : 3 km
URL:https://decouvertebaie.com/evenement/maree-montante-et-mascaret-3-km-26/
END:VEVENT
BEGIN:VEVENT
DTSTART;TZID=Europe/Paris:20260714T104500
DTEND;TZID=Europe/Paris:20260714T104500
DTSTAMP:20260423T221135
CREATED:20260218T205853Z
LAST-MODIFIED:20260218T205853Z
UID:13572-1784025900-1784025900@decouvertebaie.com
SUMMARY:Traversée - Découverte de la baie 14 km
DESCRIPTION:Départ Bec d’Andaine – Durée : 6h00 – Distance : 14 km
URL:https://decouvertebaie.com/evenement/traversee-decouverte-de-la-baie-14-km-310/
END:VEVENT
BEGIN:VEVENT
DTSTART;TZID=Europe/Paris:20260714T140000
DTEND;TZID=Europe/Paris:20260714T140000
DTSTAMP:20260423T221135
CREATED:20260218T205908Z
LAST-MODIFIED:20260218T222859Z
UID:13574-1784037600-1784037600@decouvertebaie.com
SUMMARY:Découverte de l'îlot de Tombelaine 7 km
DESCRIPTION:Départ Mont St Michel – Durée : 3h30 – Distance : 7 km
URL:https://decouvertebaie.com/evenement/decouverte-de-lilot-de-tombelaine-8-km-21/
END:VEVENT
BEGIN:VEVENT
DTSTART;TZID=Europe/Paris:20260714T143000
DTEND;TZID=Europe/Paris:20260714T143000
DTSTAMP:20260423T221135
CREATED:20260218T205853Z
LAST-MODIFIED:20260218T205853Z
UID:13573-1784039400-1784039400@decouvertebaie.com
SUMMARY:Découverte des sables mouvants 2 km
DESCRIPTION:Départ Mont St Michel – Durée : 1h30 – Distance : 2 km
URL:https://decouvertebaie.com/evenement/decouverte-des-sables-mouvants-2-km-188/
END:VEVENT
END:VCALENDAR