BEGIN:VCALENDAR
VERSION:2.0
PRODID:-//Découverte de la Baie - ECPv6.15.20//NONSGML v1.0//EN
CALSCALE:GREGORIAN
METHOD:PUBLISH
X-WR-CALNAME:Découverte de la Baie
X-ORIGINAL-URL:https://decouvertebaie.com
X-WR-CALDESC:Évènements pour Découverte de la Baie
REFRESH-INTERVAL;VALUE=DURATION:PT1H
X-Robots-Tag:noindex
X-PUBLISHED-TTL:PT1H
BEGIN:VTIMEZONE
TZID:Europe/Paris
BEGIN:DAYLIGHT
TZOFFSETFROM:+0100
TZOFFSETTO:+0200
TZNAME:CEST
DTSTART:20250330T010000
END:DAYLIGHT
BEGIN:STANDARD
TZOFFSETFROM:+0200
TZOFFSETTO:+0100
TZNAME:CET
DTSTART:20251026T010000
END:STANDARD
BEGIN:DAYLIGHT
TZOFFSETFROM:+0100
TZOFFSETTO:+0200
TZNAME:CEST
DTSTART:20260329T010000
END:DAYLIGHT
BEGIN:STANDARD
TZOFFSETFROM:+0200
TZOFFSETTO:+0100
TZNAME:CET
DTSTART:20261025T010000
END:STANDARD
BEGIN:DAYLIGHT
TZOFFSETFROM:+0100
TZOFFSETTO:+0200
TZNAME:CEST
DTSTART:20270328T010000
END:DAYLIGHT
BEGIN:STANDARD
TZOFFSETFROM:+0200
TZOFFSETTO:+0100
TZNAME:CET
DTSTART:20271031T010000
END:STANDARD
END:VTIMEZONE
BEGIN:VEVENT
DTSTART;TZID=Europe/Paris:20260606T120000
DTEND;TZID=Europe/Paris:20260606T120000
DTSTAMP:20260423T204150
CREATED:20260121T021757Z
LAST-MODIFIED:20260121T021757Z
UID:13214-1780747200-1780747200@decouvertebaie.com
SUMMARY:Traversée - Découverte de la baie retour en bus 7 km
DESCRIPTION:
URL:https://decouvertebaie.com/evenement/traversee-decouverte-de-la-baie-retour-en-bus-7-km-15/
END:VEVENT
BEGIN:VEVENT
DTSTART;TZID=Europe/Paris:20260606T141500
DTEND;TZID=Europe/Paris:20260606T141500
DTSTAMP:20260423T204150
CREATED:20260121T021812Z
LAST-MODIFIED:20260121T021812Z
UID:13217-1780755300-1780755300@decouvertebaie.com
SUMMARY:Petite balade autour du Mont Saint-Michel 3 km
DESCRIPTION:
URL:https://decouvertebaie.com/evenement/petite-balade-autour-du-mont-saint-michel-3-km-36/
END:VEVENT
BEGIN:VEVENT
DTSTART;TZID=Europe/Paris:20260606T150000
DTEND;TZID=Europe/Paris:20260606T150000
DTSTAMP:20260423T204150
CREATED:20260121T021812Z
LAST-MODIFIED:20260121T021812Z
UID:13216-1780758000-1780758000@decouvertebaie.com
SUMMARY:Découverte de l'îlot de Tombelaine 7 km
DESCRIPTION:
URL:https://decouvertebaie.com/evenement/decouverte-de-lilot-de-tombelaine-7-km-13/
END:VEVENT
BEGIN:VEVENT
DTSTART;TZID=Europe/Paris:20260606T170000
DTEND;TZID=Europe/Paris:20260606T170000
DTSTAMP:20260423T204150
CREATED:20260121T021812Z
LAST-MODIFIED:20260121T021812Z
UID:13215-1780765200-1780765200@decouvertebaie.com
SUMMARY:Découverte des sables mouvants 2 km
DESCRIPTION:
URL:https://decouvertebaie.com/evenement/decouverte-des-sables-mouvants-2-km-162/
END:VEVENT
BEGIN:VEVENT
DTSTART;TZID=Europe/Paris:20260606T203000
DTEND;TZID=Europe/Paris:20260606T203000
DTSTAMP:20260423T204150
CREATED:20260121T021812Z
LAST-MODIFIED:20260121T021812Z
UID:13218-1780777800-1780777800@decouvertebaie.com
SUMMARY:Soleil couchant - petite balade autour du Mont St-Michel 3 km
DESCRIPTION:
URL:https://decouvertebaie.com/evenement/soleil-couchant-petite-balade-autour-du-mont-st-michel-3-km-2/
END:VEVENT
BEGIN:VEVENT
DTSTART;TZID=Europe/Paris:20260607T124500
DTEND;TZID=Europe/Paris:20260607T124500
DTSTAMP:20260423T204150
CREATED:20260121T021812Z
LAST-MODIFIED:20260121T021812Z
UID:13219-1780836300-1780836300@decouvertebaie.com
SUMMARY:Traversée - Découverte de la baie 14 km
DESCRIPTION:
URL:https://decouvertebaie.com/evenement/traversee-decouverte-de-la-baie-14-km-264/
END:VEVENT
BEGIN:VEVENT
DTSTART;TZID=Europe/Paris:20260607T130000
DTEND;TZID=Europe/Paris:20260607T130000
DTSTAMP:20260423T204150
CREATED:20260218T145330Z
LAST-MODIFIED:20260218T151931Z
UID:13419-1780837200-1780837200@decouvertebaie.com
SUMMARY:Traversée - Découverte de la baie 14 km
DESCRIPTION:Départ St Léonard – Durée : 6h00 – Distance : 14 km
URL:https://decouvertebaie.com/evenement/traversee-decouverte-de-la-baie-14-km-290/
END:VEVENT
BEGIN:VEVENT
DTSTART;TZID=Europe/Paris:20260607T150000
DTEND;TZID=Europe/Paris:20260607T150000
DTSTAMP:20260423T204150
CREATED:20260218T145330Z
LAST-MODIFIED:20260218T221511Z
UID:13420-1780844400-1780844400@decouvertebaie.com
SUMMARY:Découverte de l'îlot de Tombelaine 7 km
DESCRIPTION:Départ Mont St Michel – Durée : 3h30 – Distance : 7 km
URL:https://decouvertebaie.com/evenement/decouverte-de-lilot-de-tombelaine-8-km-11/
END:VEVENT
BEGIN:VEVENT
DTSTART;TZID=Europe/Paris:20260608T133000
DTEND;TZID=Europe/Paris:20260608T133000
DTSTAMP:20260423T204150
CREATED:20260121T021828Z
LAST-MODIFIED:20260121T021828Z
UID:13220-1780925400-1780925400@decouvertebaie.com
SUMMARY:Traversée - Découverte de la baie 14 km
DESCRIPTION:
URL:https://decouvertebaie.com/evenement/traversee-decouverte-de-la-baie-14-km-265/
END:VEVENT
BEGIN:VEVENT
DTSTART;TZID=Europe/Paris:20260610T090000
DTEND;TZID=Europe/Paris:20260610T090000
DTSTAMP:20260423T204150
CREATED:20260121T021828Z
LAST-MODIFIED:20260121T021828Z
UID:13221-1781082000-1781082000@decouvertebaie.com
SUMMARY:Traversée - Découverte de la baie 14 km
DESCRIPTION:
URL:https://decouvertebaie.com/evenement/traversee-decouverte-de-la-baie-14-km-266/
END:VEVENT
BEGIN:VEVENT
DTSTART;TZID=Europe/Paris:20260610T094500
DTEND;TZID=Europe/Paris:20260610T094500
DTSTAMP:20260423T204150
CREATED:20260121T021828Z
LAST-MODIFIED:20260121T021828Z
UID:13222-1781084700-1781084700@decouvertebaie.com
SUMMARY:Traversée - Découverte de la baie retour en bus 7 km
DESCRIPTION:
URL:https://decouvertebaie.com/evenement/traversee-decouverte-de-la-baie-retour-en-bus-7-km-16/
END:VEVENT
BEGIN:VEVENT
DTSTART;TZID=Europe/Paris:20260611T093000
DTEND;TZID=Europe/Paris:20260611T093000
DTSTAMP:20260423T204150
CREATED:20260121T021828Z
LAST-MODIFIED:20260121T021828Z
UID:13223-1781170200-1781170200@decouvertebaie.com
SUMMARY:Traversée - Découverte de la baie 14 km
DESCRIPTION:
URL:https://decouvertebaie.com/evenement/traversee-decouverte-de-la-baie-14-km-267/
END:VEVENT
BEGIN:VEVENT
DTSTART;TZID=Europe/Paris:20260613T094500
DTEND;TZID=Europe/Paris:20260613T094500
DTSTAMP:20260423T204150
CREATED:20260121T021843Z
LAST-MODIFIED:20260121T021843Z
UID:13225-1781343900-1781343900@decouvertebaie.com
SUMMARY:Traversée - Découverte de la baie 14 km
DESCRIPTION:
URL:https://decouvertebaie.com/evenement/traversee-decouverte-de-la-baie-14-km-268/
END:VEVENT
BEGIN:VEVENT
DTSTART;TZID=Europe/Paris:20260613T110000
DTEND;TZID=Europe/Paris:20260613T110000
DTSTAMP:20260423T204150
CREATED:20260121T021843Z
LAST-MODIFIED:20260121T021843Z
UID:13228-1781348400-1781348400@decouvertebaie.com
SUMMARY:Découverte de l'îlot de Tombelaine 7 km
DESCRIPTION:
URL:https://decouvertebaie.com/evenement/decouverte-de-lilot-de-tombelaine-7-km-14/
END:VEVENT
BEGIN:VEVENT
DTSTART;TZID=Europe/Paris:20260613T124500
DTEND;TZID=Europe/Paris:20260613T124500
DTSTAMP:20260423T204150
CREATED:20260121T021843Z
LAST-MODIFIED:20260121T021843Z
UID:13227-1781354700-1781354700@decouvertebaie.com
SUMMARY:Découverte des sables mouvants 2 km
DESCRIPTION:
URL:https://decouvertebaie.com/evenement/decouverte-des-sables-mouvants-2-km-164/
END:VEVENT
BEGIN:VEVENT
DTSTART;TZID=Europe/Paris:20260613T150000
DTEND;TZID=Europe/Paris:20260613T150000
DTSTAMP:20260423T204150
CREATED:20260121T021843Z
LAST-MODIFIED:20260121T021843Z
UID:13229-1781362800-1781362800@decouvertebaie.com
SUMMARY:Marée montante et mascaret 3 km
DESCRIPTION:
URL:https://decouvertebaie.com/evenement/maree-montante-et-mascaret-3-km-18/
END:VEVENT
BEGIN:VEVENT
DTSTART;TZID=Europe/Paris:20260614T100000
DTEND;TZID=Europe/Paris:20260614T100000
DTSTAMP:20260423T204150
CREATED:20260121T021858Z
LAST-MODIFIED:20260121T021858Z
UID:13230-1781431200-1781431200@decouvertebaie.com
SUMMARY:Traversée - Découverte de la baie 14 km
DESCRIPTION:
URL:https://decouvertebaie.com/evenement/traversee-decouverte-de-la-baie-14-km-269/
END:VEVENT
BEGIN:VEVENT
DTSTART;TZID=Europe/Paris:20260614T100000
DTEND;TZID=Europe/Paris:20260614T100000
DTSTAMP:20260423T204150
CREATED:20260121T021858Z
LAST-MODIFIED:20260121T021858Z
UID:13231-1781431200-1781431200@decouvertebaie.com
SUMMARY:Traversée - Découverte de la baie retour en bus 7 km
DESCRIPTION:
URL:https://decouvertebaie.com/evenement/traversee-decouverte-de-la-baie-retour-en-bus-7-km-18/
END:VEVENT
BEGIN:VEVENT
DTSTART;TZID=Europe/Paris:20260614T130000
DTEND;TZID=Europe/Paris:20260614T130000
DTSTAMP:20260423T204150
CREATED:20260121T021859Z
LAST-MODIFIED:20260121T021859Z
UID:13233-1781442000-1781442000@decouvertebaie.com
SUMMARY:Découverte de l'îlot de Tombelaine 7 km
DESCRIPTION:
URL:https://decouvertebaie.com/evenement/decouverte-de-lilot-de-tombelaine-7-km-15/
END:VEVENT
BEGIN:VEVENT
DTSTART;TZID=Europe/Paris:20260614T133000
DTEND;TZID=Europe/Paris:20260614T133000
DTSTAMP:20260423T204150
CREATED:20260121T021858Z
LAST-MODIFIED:20260121T021858Z
UID:13232-1781443800-1781443800@decouvertebaie.com
SUMMARY:Découverte des sables mouvants 2 km
DESCRIPTION:
URL:https://decouvertebaie.com/evenement/decouverte-des-sables-mouvants-2-km-165/
END:VEVENT
BEGIN:VEVENT
DTSTART;TZID=Europe/Paris:20260614T154500
DTEND;TZID=Europe/Paris:20260614T154500
DTSTAMP:20260423T204150
CREATED:20260121T021859Z
LAST-MODIFIED:20260121T021859Z
UID:13234-1781451900-1781451900@decouvertebaie.com
SUMMARY:Marée montante et mascaret 3 km
DESCRIPTION:
URL:https://decouvertebaie.com/evenement/maree-montante-et-mascaret-3-km-19/
END:VEVENT
BEGIN:VEVENT
DTSTART;TZID=Europe/Paris:20260615T104500
DTEND;TZID=Europe/Paris:20260615T104500
DTSTAMP:20260423T204150
CREATED:20260121T021912Z
LAST-MODIFIED:20260121T021912Z
UID:13235-1781520300-1781520300@decouvertebaie.com
SUMMARY:Traversée - Découverte de la baie 14 km
DESCRIPTION:
URL:https://decouvertebaie.com/evenement/traversee-decouverte-de-la-baie-14-km-270/
END:VEVENT
BEGIN:VEVENT
DTSTART;TZID=Europe/Paris:20260616T114500
DTEND;TZID=Europe/Paris:20260616T114500
DTSTAMP:20260423T204150
CREATED:20260121T021912Z
LAST-MODIFIED:20260121T021912Z
UID:13236-1781610300-1781610300@decouvertebaie.com
SUMMARY:Traversée - Découverte de la baie 14 km
DESCRIPTION:
URL:https://decouvertebaie.com/evenement/traversee-decouverte-de-la-baie-14-km-271/
END:VEVENT
BEGIN:VEVENT
DTSTART;TZID=Europe/Paris:20260617T124500
DTEND;TZID=Europe/Paris:20260617T124500
DTSTAMP:20260423T204150
CREATED:20260121T021912Z
LAST-MODIFIED:20260121T021912Z
UID:13237-1781700300-1781700300@decouvertebaie.com
SUMMARY:Traversée - Découverte de la baie 14 km
DESCRIPTION:
URL:https://decouvertebaie.com/evenement/traversee-decouverte-de-la-baie-14-km-272/
END:VEVENT
BEGIN:VEVENT
DTSTART;TZID=Europe/Paris:20260617T183000
DTEND;TZID=Europe/Paris:20260617T183000
DTSTAMP:20260423T204150
CREATED:20260121T021913Z
LAST-MODIFIED:20260121T021913Z
UID:13238-1781721000-1781721000@decouvertebaie.com
SUMMARY:Marée montante et mascaret 3 km
DESCRIPTION:
URL:https://decouvertebaie.com/evenement/maree-montante-et-mascaret-3-km-20/
END:VEVENT
BEGIN:VEVENT
DTSTART;TZID=Europe/Paris:20260618T133000
DTEND;TZID=Europe/Paris:20260618T133000
DTSTAMP:20260423T204150
CREATED:20260121T021913Z
LAST-MODIFIED:20260121T021913Z
UID:13239-1781789400-1781789400@decouvertebaie.com
SUMMARY:Traversée - Découverte de la baie 14 km
DESCRIPTION:
URL:https://decouvertebaie.com/evenement/traversee-decouverte-de-la-baie-14-km-273/
END:VEVENT
BEGIN:VEVENT
DTSTART;TZID=Europe/Paris:20260618T143000
DTEND;TZID=Europe/Paris:20260618T143000
DTSTAMP:20260423T204150
CREATED:20260121T021927Z
LAST-MODIFIED:20260121T021927Z
UID:13240-1781793000-1781793000@decouvertebaie.com
SUMMARY:Découverte des sables mouvants 2 km
DESCRIPTION:
URL:https://decouvertebaie.com/evenement/decouverte-des-sables-mouvants-2-km-166/
END:VEVENT
BEGIN:VEVENT
DTSTART;TZID=Europe/Paris:20260618T164500
DTEND;TZID=Europe/Paris:20260618T164500
DTSTAMP:20260423T204150
CREATED:20260121T021927Z
LAST-MODIFIED:20260121T021927Z
UID:13241-1781801100-1781801100@decouvertebaie.com
SUMMARY:Petite balade autour du Mont Saint-Michel 3 km
DESCRIPTION:
URL:https://decouvertebaie.com/evenement/petite-balade-autour-du-mont-saint-michel-3-km-37/
END:VEVENT
BEGIN:VEVENT
DTSTART;TZID=Europe/Paris:20260619T124500
DTEND;TZID=Europe/Paris:20260619T124500
DTSTAMP:20260423T204150
CREATED:20260121T021927Z
LAST-MODIFIED:20260121T021927Z
UID:13242-1781873100-1781873100@decouvertebaie.com
SUMMARY:Traversée - Découverte de la baie 14 km
DESCRIPTION:
URL:https://decouvertebaie.com/evenement/traversee-decouverte-de-la-baie-14-km-274/
END:VEVENT
BEGIN:VEVENT
DTSTART;TZID=Europe/Paris:20260619T174500
DTEND;TZID=Europe/Paris:20260619T174500
DTSTAMP:20260423T204150
CREATED:20260121T021928Z
LAST-MODIFIED:20260121T021928Z
UID:13243-1781891100-1781891100@decouvertebaie.com
SUMMARY:Découverte des sables mouvants 2 km
DESCRIPTION:
URL:https://decouvertebaie.com/evenement/decouverte-des-sables-mouvants-2-km-167/
END:VEVENT
END:VCALENDAR