BEGIN:VCALENDAR
VERSION:2.0
PRODID:-//Découverte de la Baie - ECPv6.15.20//NONSGML v1.0//EN
CALSCALE:GREGORIAN
METHOD:PUBLISH
X-WR-CALNAME:Découverte de la Baie
X-ORIGINAL-URL:https://decouvertebaie.com
X-WR-CALDESC:Évènements pour Découverte de la Baie
REFRESH-INTERVAL;VALUE=DURATION:PT1H
X-Robots-Tag:noindex
X-PUBLISHED-TTL:PT1H
BEGIN:VTIMEZONE
TZID:Europe/Paris
BEGIN:DAYLIGHT
TZOFFSETFROM:+0100
TZOFFSETTO:+0200
TZNAME:CEST
DTSTART:20250330T010000
END:DAYLIGHT
BEGIN:STANDARD
TZOFFSETFROM:+0200
TZOFFSETTO:+0100
TZNAME:CET
DTSTART:20251026T010000
END:STANDARD
BEGIN:DAYLIGHT
TZOFFSETFROM:+0100
TZOFFSETTO:+0200
TZNAME:CEST
DTSTART:20260329T010000
END:DAYLIGHT
BEGIN:STANDARD
TZOFFSETFROM:+0200
TZOFFSETTO:+0100
TZNAME:CET
DTSTART:20261025T010000
END:STANDARD
BEGIN:DAYLIGHT
TZOFFSETFROM:+0100
TZOFFSETTO:+0200
TZNAME:CEST
DTSTART:20270328T010000
END:DAYLIGHT
BEGIN:STANDARD
TZOFFSETFROM:+0200
TZOFFSETTO:+0100
TZNAME:CET
DTSTART:20271031T010000
END:STANDARD
END:VTIMEZONE
BEGIN:VEVENT
DTSTART;TZID=Europe/Paris:20260423T130000
DTEND;TZID=Europe/Paris:20260423T130000
DTSTAMP:20260423T161437
CREATED:20251127T190344Z
LAST-MODIFIED:20251127T190344Z
UID:12910-1776949200-1776949200@decouvertebaie.com
SUMMARY:Traversée - Découverte de la baie 14 km
DESCRIPTION:
URL:https://decouvertebaie.com/evenement/traversee-decouverte-de-la-baie-14-km-226/
END:VEVENT
BEGIN:VEVENT
DTSTART;TZID=Europe/Paris:20260423T144500
DTEND;TZID=Europe/Paris:20260423T144500
DTSTAMP:20260423T161437
CREATED:20251127T190344Z
LAST-MODIFIED:20251127T190344Z
UID:12911-1776955500-1776955500@decouvertebaie.com
SUMMARY:Découverte des sables mouvants 2 km
DESCRIPTION:
URL:https://decouvertebaie.com/evenement/decouverte-des-sables-mouvants-2-km-143/
END:VEVENT
BEGIN:VEVENT
DTSTART;TZID=Europe/Paris:20260424T130000
DTEND;TZID=Europe/Paris:20260424T130000
DTSTAMP:20260423T161437
CREATED:20251127T190344Z
LAST-MODIFIED:20251127T190344Z
UID:12913-1777035600-1777035600@decouvertebaie.com
SUMMARY:Traversée - Découverte de la baie 14 km
DESCRIPTION:
URL:https://decouvertebaie.com/evenement/traversee-decouverte-de-la-baie-14-km-227/
END:VEVENT
BEGIN:VEVENT
DTSTART;TZID=Europe/Paris:20260425T091500
DTEND;TZID=Europe/Paris:20260425T091500
DTSTAMP:20260423T161437
CREATED:20251127T190344Z
LAST-MODIFIED:20251127T190344Z
UID:12914-1777108500-1777108500@decouvertebaie.com
SUMMARY:Traversée - Découverte de la baie 14 km
DESCRIPTION:
URL:https://decouvertebaie.com/evenement/traversee-decouverte-de-la-baie-14-km-228/
END:VEVENT
BEGIN:VEVENT
DTSTART;TZID=Europe/Paris:20260425T094500
DTEND;TZID=Europe/Paris:20260425T094500
DTSTAMP:20260423T161437
CREATED:20251127T190359Z
LAST-MODIFIED:20251127T190359Z
UID:12915-1777110300-1777110300@decouvertebaie.com
SUMMARY:Traversée - Découverte de la baie retour en bus 7 km
DESCRIPTION:
URL:https://decouvertebaie.com/evenement/traversee-decouverte-de-la-baie-retour-en-bus-7-km-5/
END:VEVENT
BEGIN:VEVENT
DTSTART;TZID=Europe/Paris:20260426T100000
DTEND;TZID=Europe/Paris:20260426T100000
DTSTAMP:20260423T161437
CREATED:20251127T190359Z
LAST-MODIFIED:20251127T190359Z
UID:12916-1777197600-1777197600@decouvertebaie.com
SUMMARY:Traversée - Découverte de la baie 14 km
DESCRIPTION:
URL:https://decouvertebaie.com/evenement/traversee-decouverte-de-la-baie-14-km-229/
END:VEVENT
BEGIN:VEVENT
DTSTART;TZID=Europe/Paris:20260426T100000
DTEND;TZID=Europe/Paris:20260426T100000
DTSTAMP:20260423T161437
CREATED:20251127T190400Z
LAST-MODIFIED:20251127T190400Z
UID:12917-1777197600-1777197600@decouvertebaie.com
SUMMARY:Traversée - Découverte de la baie retour en bus 7 km
DESCRIPTION:
URL:https://decouvertebaie.com/evenement/traversee-decouverte-de-la-baie-retour-en-bus-7-km-6/
END:VEVENT
BEGIN:VEVENT
DTSTART;TZID=Europe/Paris:20260426T104500
DTEND;TZID=Europe/Paris:20260426T104500
DTSTAMP:20260423T161437
CREATED:20251127T190414Z
LAST-MODIFIED:20251127T190414Z
UID:12920-1777200300-1777200300@decouvertebaie.com
SUMMARY:Découverte de l'îlot de Tombelaine 7 km
DESCRIPTION:
URL:https://decouvertebaie.com/evenement/decouverte-de-lilot-de-tombelaine-7-km-6/
END:VEVENT
BEGIN:VEVENT
DTSTART;TZID=Europe/Paris:20260426T110000
DTEND;TZID=Europe/Paris:20260426T110000
DTSTAMP:20260423T161437
CREATED:20251127T190400Z
LAST-MODIFIED:20251127T190400Z
UID:12918-1777201200-1777201200@decouvertebaie.com
SUMMARY:Découverte des sables mouvants 2 km
DESCRIPTION:
URL:https://decouvertebaie.com/evenement/decouverte-des-sables-mouvants-2-km-144/
END:VEVENT
BEGIN:VEVENT
DTSTART;TZID=Europe/Paris:20260426T133000
DTEND;TZID=Europe/Paris:20260426T133000
DTSTAMP:20260423T161437
CREATED:20251127T190400Z
LAST-MODIFIED:20251127T190400Z
UID:12919-1777210200-1777210200@decouvertebaie.com
SUMMARY:Petite balade autour du Mont Saint-Michel 3 km
DESCRIPTION:
URL:https://decouvertebaie.com/evenement/petite-balade-autour-du-mont-saint-michel-3-km-25/
END:VEVENT
BEGIN:VEVENT
DTSTART;TZID=Europe/Paris:20260427T103000
DTEND;TZID=Europe/Paris:20260427T103000
DTSTAMP:20260423T161437
CREATED:20251127T190414Z
LAST-MODIFIED:20251127T190414Z
UID:12922-1777285800-1777285800@decouvertebaie.com
SUMMARY:Traversée - Découverte de la baie 14 km
DESCRIPTION:
URL:https://decouvertebaie.com/evenement/traversee-decouverte-de-la-baie-14-km-230/
END:VEVENT
BEGIN:VEVENT
DTSTART;TZID=Europe/Paris:20260430T101500
DTEND;TZID=Europe/Paris:20260430T101500
DTSTAMP:20260423T161437
CREATED:20251127T190414Z
LAST-MODIFIED:20251127T190414Z
UID:12924-1777544100-1777544100@decouvertebaie.com
SUMMARY:Traversée - Découverte de la baie 14 km
DESCRIPTION:
URL:https://decouvertebaie.com/evenement/traversee-decouverte-de-la-baie-14-km-232/
END:VEVENT
END:VCALENDAR